BEGIN:VCALENDAR
VERSION:2.0
PRODID:-//MCC East Bay - ECPv6.15.20//NONSGML v1.0//EN
CALSCALE:GREGORIAN
METHOD:PUBLISH
X-WR-CALNAME:MCC East Bay
X-ORIGINAL-URL:https://mcceastbay.org
X-WR-CALDESC:Events for MCC East Bay
REFRESH-INTERVAL;VALUE=DURATION:PT1H
X-Robots-Tag:noindex
X-PUBLISHED-TTL:PT1H
BEGIN:VTIMEZONE
TZID:America/Los_Angeles
BEGIN:DAYLIGHT
TZOFFSETFROM:-0800
TZOFFSETTO:-0700
TZNAME:PDT
DTSTART:20200308T100000
END:DAYLIGHT
BEGIN:STANDARD
TZOFFSETFROM:-0700
TZOFFSETTO:-0800
TZNAME:PST
DTSTART:20201101T090000
END:STANDARD
BEGIN:DAYLIGHT
TZOFFSETFROM:-0800
TZOFFSETTO:-0700
TZNAME:PDT
DTSTART:20210314T100000
END:DAYLIGHT
BEGIN:STANDARD
TZOFFSETFROM:-0700
TZOFFSETTO:-0800
TZNAME:PST
DTSTART:20211107T090000
END:STANDARD
BEGIN:DAYLIGHT
TZOFFSETFROM:-0800
TZOFFSETTO:-0700
TZNAME:PDT
DTSTART:20220313T100000
END:DAYLIGHT
BEGIN:STANDARD
TZOFFSETFROM:-0700
TZOFFSETTO:-0800
TZNAME:PST
DTSTART:20221106T090000
END:STANDARD
END:VTIMEZONE
BEGIN:VEVENT
DTSTART;TZID=America/Los_Angeles:20210723T120000
DTEND;TZID=America/Los_Angeles:20210723T180000
DTSTAMP:20260421T005944
CREATED:20210715T143836Z
LAST-MODIFIED:20210715T143836Z
UID:10014749-1627041600-1627063200@mcceastbay.org
SUMMARY:Qurbani Meat Collection
DESCRIPTION:MCC takes donated Qurbani/Udhiya meat from Eid al-Adha ’21 and distributes it to 220 families in the East Bay of the San Francisco Bay Area who receive food delivery from the MCC Food & Diapers pantry. \n12 p.m. to 6 p.m. on Tuesday\, July 20\, Thursday\, July 22\, Friday\, July 23 or Saturday\, July 24. \nPlease cut meat in small size (preferably stew size) and place in small bags and seal well (preferably recommend Ziploc-type bags). \nQuestions or to make alternate arrangements? Please contact Aminah Abdullah at (925) 264-9297 or aminah@mcceastbay.org
URL:https://mcceastbay.org/event/qurbani/2021-07-23/
LOCATION:MCC East Bay\, 5724 W Las Positas Blvd #300\, Pleasanton\, CA\, 94588\, United States
CATEGORIES:Charity & Community Service
ATTACH;FMTTYPE=image/jpeg:https://mcceastbay.org/wp-content/uploads/2024/06/qurbani-meat-collection-mosque.jpeg
ORGANIZER;CN="Muslim Community Center - East Bay":MAILTO:events@mcceastbay.org
END:VEVENT
BEGIN:VEVENT
DTSTART;TZID=America/Los_Angeles:20210723T133000
DTEND;TZID=America/Los_Angeles:20210723T160000
DTSTAMP:20260421T005944
CREATED:20210708T030427Z
LAST-MODIFIED:20240630T203332Z
UID:10014732-1627047000-1627056000@mcceastbay.org
SUMMARY:Catholic Charities Tables
DESCRIPTION:Learn more about Catholic Charities Refugee Foster Care \n 
URL:https://mcceastbay.org/event/catholic-charities-tables/
LOCATION:MCC East Bay\, 5724 W Las Positas Blvd #300\, Pleasanton\, CA\, 94588\, United States
ATTACH;FMTTYPE=image/jpeg:https://mcceastbay.org/wp-content/uploads/2024/06/Catholic-Charities-refugee-scaled-1.jpg
ORGANIZER;CN="Catholic Charities Refugee Foster Care":MAILTO:CCollins@catholiccharitiesSCC.org
END:VEVENT
BEGIN:VEVENT
DTSTART;TZID=America/Los_Angeles:20210723T133000
DTEND;TZID=America/Los_Angeles:20210723T160000
DTSTAMP:20260421T005944
CREATED:20210723T030544Z
LAST-MODIFIED:20210723T030544Z
UID:10014753-1627047000-1627056000@mcceastbay.org
SUMMARY:MCC Indoor & Outdoor Jumu'ahs
DESCRIPTION:For our Friday\, July 23 Jumu’ah services\, masks are required to attend while inside MCC and no RSVP necessary: \n\n1:30 p.m. – 1:50 p.m. – INDOOR ONLY\n \n\nImam Dawood Yasin delivers the sermon\n\nNo outdoor services offered.\nNo social distancing in Prayer Hall. Prayer will be shoulder-to-shoulder.\nMasks are required.\n\n\n\n\n2:30 p.m. to 2:50 p.m. – OUTDOOR ONLY\n\nImam Dawood Yasin delivers the sermon\n\nOutdoor only in canopies in the MCC parking lot. No indoor services offered.\nSocial distancing is optional. Masks are optional.\nPlease check Friday afternoon weather forecast and take precautions against heat.\n\n\n\n\n3:40 p.m. to 4 p.m. – INDOOR ONLY\n\nUstadh Tarif Arabi delivers the sermon\n\nIndoor only. No parallel outdoor services offered.\nNo social distancing. Prayer will be shoulder-to-shoulder.\nMasks required.\n\n\n\n\n\nPlease attend 2:30 or 3:40 p.m. prayer to avoid heavy first-prayer congestion. Jumu’ah service parking at all three services is in the MCC parking lot and the neighboring HP lot. Map \n\n– Watch these three sermons live from home: https://mcceastbay.org/live\n–  More Imam Dawood : https://mcceastbay.org/dawood\n– More Ustadh Tareef: https://mcceastbay.org/tarif\n\nFor parents attending with young children\, MCC offers a private mothers and fathers room with an audio and visual connection to Prayer Hall. Parents can watch the sermon and pray while in the company of other parents with young children. The mothers/fathers prayer room are just past the Banquet Hall doors into the school area. \nQuestions? events@mcceastbay.org \nAlameda County reports COVID-19 cases are still happening. \nWe are cautiously indoors for the five daily prayers and for two of the three Jumu’ah services. The second Jumu’ah is outdoors in the MCC parking lot\, weather permitting. Learn more at https://mcceastbay.org/reopening
URL:https://mcceastbay.org/event/mcc-indoor-outdoor-jumuahs-9/
LOCATION:MCC East Bay\, 5724 W Las Positas Blvd #300\, Pleasanton\, CA\, 94588\, United States
ATTACH;FMTTYPE=image/png:https://mcceastbay.org/wp-content/uploads/2024/06/Two-Khateebs-4.png
ORGANIZER;CN="Muslim Community Center - East Bay":MAILTO:events@mcceastbay.org
END:VEVENT
END:VCALENDAR