BEGIN:VCALENDAR
VERSION:2.0
PRODID:-//MCC East Bay - ECPv6.15.20//NONSGML v1.0//EN
CALSCALE:GREGORIAN
METHOD:PUBLISH
X-ORIGINAL-URL:https://mcceastbay.org
X-WR-CALDESC:Events for MCC East Bay
REFRESH-INTERVAL;VALUE=DURATION:PT1H
X-Robots-Tag:noindex
X-PUBLISHED-TTL:PT1H
BEGIN:VTIMEZONE
TZID:America/Los_Angeles
BEGIN:DAYLIGHT
TZOFFSETFROM:-0800
TZOFFSETTO:-0700
TZNAME:PDT
DTSTART:20210314T100000
END:DAYLIGHT
BEGIN:STANDARD
TZOFFSETFROM:-0700
TZOFFSETTO:-0800
TZNAME:PST
DTSTART:20211107T090000
END:STANDARD
BEGIN:DAYLIGHT
TZOFFSETFROM:-0800
TZOFFSETTO:-0700
TZNAME:PDT
DTSTART:20220313T100000
END:DAYLIGHT
BEGIN:STANDARD
TZOFFSETFROM:-0700
TZOFFSETTO:-0800
TZNAME:PST
DTSTART:20221106T090000
END:STANDARD
BEGIN:DAYLIGHT
TZOFFSETFROM:-0800
TZOFFSETTO:-0700
TZNAME:PDT
DTSTART:20230312T100000
END:DAYLIGHT
BEGIN:STANDARD
TZOFFSETFROM:-0700
TZOFFSETTO:-0800
TZNAME:PST
DTSTART:20231105T090000
END:STANDARD
END:VTIMEZONE
BEGIN:VEVENT
DTSTART;TZID=America/Los_Angeles:20220520T133000
DTEND;TZID=America/Los_Angeles:20220520T160000
DTSTAMP:20260421T074352
CREATED:20220512T112428Z
LAST-MODIFIED:20240630T212451Z
UID:10017896-1653053400-1653062400@mcceastbay.org
SUMMARY:Las Positas College (ESL) Tabling
DESCRIPTION:Las Positas College English as a Second Language (ESL) will table at MCC’s three Friday Jumu’ah services from 1:30 p.m. to 4 p.m. in the MCC foyer. \nLPC has a comprehensive ESL Program that includes six levels of instruction: two semesters of beginning\, two semesters of intermediate\, and two semesters of advanced courses. The program focuses on academic language skills: reading\, writing\, grammar\, and oral communication. To complement the instructional program\, the College provides assessment\, counseling\, orientation\, and special support services\, such as free tutoring for all ESL and International students. \n \n 
URL:https://mcceastbay.org/event/las-positas-college-esl-tabling/
LOCATION:MCC East Bay\, 5724 W Las Positas Blvd #300\, Pleasanton\, CA\, 94588\, United States
ATTACH;FMTTYPE=image/png:https://mcceastbay.org/wp-content/uploads/2024/06/ESL-Outreach-Virtual-Open-House-May-16-1.png
ORGANIZER;CN="Muslim Community Center - East Bay":MAILTO:events@mcceastbay.org
END:VEVENT
BEGIN:VEVENT
DTSTART;TZID=America/Los_Angeles:20220520T181500
DTEND;TZID=America/Los_Angeles:20220520T202000
DTSTAMP:20260421T074352
CREATED:20220513T034430Z
LAST-MODIFIED:20220513T034430Z
UID:10017898-1653070500-1653078000@mcceastbay.org
SUMMARY:"My Parents Just Don't Understand" | Post-Ramadan Parent-Teen Forum
DESCRIPTION:**Due to unforeseen circumstances\, today’s parent-teen community forum is postponed until a later date\, InshaAllah. Please watch prior recordings in our parenting series at https://mcceastbay.org/parenting \n** \nMCC invites teens ages 13 to 19 and parents of teenagers to participate in an open forum intended to bridge the generational gap and help navigate difficult discussions\, answer complex questions\, and bring clarity to both groups about effective ways to communicate and encourage harmonious and mutually beneficial relationships. \n6:15 p.m. to 8:20 p.m. (Asr to Maghrib) | Friday\, May 20 | Free | No registration required | No babysitting provided \nOur panelists included in this post-Ramadan community parenting panel are local community members Sidi Azmat Zeeshan Mukhtar\, Ustadha Hosai Mojaddidi (emcee)\, Sr. Hina Khan-Mukhtar\, Sidi Haroon Sellars\, and Sidi Mahdy Amine.  \nThey each bring 40+ years of experience as both parents and educators who work closely with children and teens of all backgrounds. The parenting panel will be one joint session of teens and parents of teens; no breakout session this time for teens. \nThis is the third part in the community parenting series “My Parents Just Don’t Understand.” Watch the first two parts at https://mcceastbay.org/parent-teen \nParents and teens are invited to ask their questions\, bring up their concerns\, and express their feelings about any topic they wish to before the program. The speakers will try to address these issues during the panel: mcceastbay.org/questions \nNo dinner options are offered. Please plan on having dinner with your family prior to this important event. \nSchedule: \n\n6:15 p.m. – Asr prayers (Prayer Hall)\n6:20 p.m. to 8:20 p.m. – Parenting panel with introductory remarks & fielding questions pre-submitted\, from the live audience\, and submitted from Livestream (Prayer Hall)\n8:20 p.m. – Maghrib prayers (Prayer Hall)\n\nPrior to the event\, the panel will review all submitted questions and do their due diligence to answer each one. They will also take live questions during the event\, only if time permits. pre-submitted questions receive priority. We strongly encourage both parents and teens to submit questions ahead of time a mcceastbay.org/questions \n\n – This event will be live-streamed and recorded at https://mcceastbay.org/parent-teen\n\nThis is the third part in the community parenting series “My Parents Just Don’t Understand.” Watch the first two parts at https://mcceastbay.org/parent-teen  \nQuestions? events@mcceastbay.org
URL:https://mcceastbay.org/event/parent-teen/
LOCATION:MCC East Bay\, 5724 W Las Positas Blvd #300\, Pleasanton\, CA\, 94588\, United States
CATEGORIES:Family Events,Teen
ATTACH;FMTTYPE=image/png:https://mcceastbay.org/wp-content/uploads/2024/06/Muslim-Teen-Parent-Communication.png
ORGANIZER;CN="Muslim Community Center - East Bay":MAILTO:events@mcceastbay.org
END:VEVENT
BEGIN:VEVENT
DTSTART;TZID=America/Los_Angeles:20220520T183000
DTEND;TZID=America/Los_Angeles:20220520T191500
DTSTAMP:20260421T074353
CREATED:20220329T114856Z
LAST-MODIFIED:20220329T114856Z
UID:10017166-1653071400-1653074100@mcceastbay.org
SUMMARY:Juz Recitation
DESCRIPTION:In Ramadan 2022\, Qari Amar Bellaha will recite regular rakats (cycles) at MCC’s nightly indoor Taraweeh\, which will begin after Isha at 9:30 p.m. \nIn addition\, Qari Amar will virtually also recite one chapter everyday in his sonorous voice. \nThe daily recitation (schedule) are broadcast after Asr prayer daily from 6:30 p.m. to about 7:15 p.m. on MCC’s Facebook and YouTube. \n\n– Qur’anic Recitation playlist: https://mcceastbay.org/ramadan22\n– Daily recitation schedule https://mcceastbay.org/recitation\n– Watch Tarawih in Ramadan ’19: https://mcceastbay.org/taraweeh\n– More Qari Amar: https://mcceastbay.org/amar\n– Qari Amar reciting Juz’ Ama 30 (final chapter of Qur’an): https://mcceastbay.org/juz-ama\n\nQuestions? events@mcceastbay.org \n\n\n\n\n\n\n\n\nQari Amar’s Taraweh 2022 Recitation Schedule at MCC East Bay\n\n\nPlaylist at https://mcceastbay.org/tarawih\n\n\n\n\n\n\n\n\nDate\nRamadan ’22 Day\nJuz\nAyat (links below from last Ramadan)\n\n\nSaturday\, April 2\, 2022\n1\n1\nAl Fatiha 1 – Al Baqarah 141\n\n\nSunday\, April 3\, 2022\n2\n2\nAl Baqarah 142 – Al Baqarah 252\n\n\nMonday\, April 4\, 2022\n3\n3\nAl Baqarah 253 – Al Imran 92\n\n\nTuesday\, April 5\, 2022\n4\n4\nAl Imran 93 – An Nisaa 32\n\n\nWednesday\, April 6\, 2022\n5\n5\nAn Nisa 33 – Al Nisa 147\n\n\nThursday\, April 7\, 2022\n6\n6\nAl Nisa 148 – Al Ma’edah 82\n\n\nFriday\, April 8\, 2022\n7\n7\nAl Ma’edah 83 – Al An’am 110\n\n\nSaturday\, April 9\, 2022\n8\n8\nAl-An’am 111 – Al-A’raaf 87\n\n\nSunday\, April 10\, 2022\n9\n9\nAl-A’raaf 88 – Al-Anfal 40\n\n\nMonday\, April 11\, 2022\n10\n10\nAl-Anfal 41 – At-Tawbah 92\n\n\nTuesday\, April 12\, 2022\n11\n11\nAt-Tawbah 93 – Hud 5\n\n\nWednesday\, April 13\, 2022\n12\n12\nHud 6 – Yusuf 52\n\n\nThursday\, April 14\, 2022\n13\n13\nYusuf 53 – Ibrahim 52\n\n\nFriday\, April 15\, 2022\n14\n14\nAl-Hijr 1 – An-Nahl 128\n\n\nSaturday\, April 16\, 2022\n15\n15\nAl-Isra 1 – Al-Kahf 74\n\n\nSunday\, April 17\, 2022\n16\n16\nAl-Kahf 75 – Taha 135\n\n\nMonday\, April 18\, 2022\n17\n17\nAl-Anbiyaa 1 – Al-Hajj 78\n\n\nTuesday\, April 19\, 2022\n18\n18\nAl-Muminun 1 – Al-Furqan 20\n\n\nWednesday\, April 20\, 2022\n19\n19\nAl-Furqan 21 – An-Naml 55\n\n\nThursday\, April 21\, 2022\n20\n20\nAn-Naml 56 – Al-Ankabut 45\n\n\nFriday\, April 22\, 2022\n21\n21\nAl-Ankabut 46 – Al-Ahzab 30\n\n\nSaturday\, April 23\, 2022\n22\n22\nAl-Ahzab 31 – Ya Sin 27\n\n\nSunday\, April 24\, 2022\n23\n23\nYa Sin 28 – Az-Zumar 31\n\n\nMonday\, April 25\, 2022\n24\n24\nAz-Zumar 32 – Fussilat 46\n\n\nTuesday\, April 26\, 2022\n25\n25\nFussilat 47 – Al-Jathiya 32\n\n\nWednesday\, April 27\, 2022\n26\n26\nAl-Jathiya 33 – Adh-Dhariyat 30\n\n\nThursday\, April 28\, 2022\n27\n27-28\nAdh-Dhariyat 31at – Tahrim 12 (Two Juz)\n\n\nFriday\, April 29\, 2022\n28\n29\nAt Taghabun 64 to Al Ghashiyah 88\n\n\nSaturday\, April 30\, 2022\n29\n30\nAl Na’ba 1– Al Na’s 6\n\n\n\n\n\n\n\n\nSee what else MCC is doing in this Holy Month\n\n\nhttps://mcceastbay.org/ramadan\n\n\n\n 
URL:https://mcceastbay.org/event/daily-juz-recitation/2022-05-20/
ATTACH;FMTTYPE=image/png:https://mcceastbay.org/wp-content/uploads/2024/06/Juz-Recitation.png
ORGANIZER;CN="Muslim Community Center - East Bay":MAILTO:events@mcceastbay.org
END:VEVENT
END:VCALENDAR