BEGIN:VCALENDAR
VERSION:2.0
PRODID:-//MCC East Bay - ECPv6.15.20//NONSGML v1.0//EN
CALSCALE:GREGORIAN
METHOD:PUBLISH
X-WR-CALNAME:MCC East Bay
X-ORIGINAL-URL:https://mcceastbay.org
X-WR-CALDESC:Events for MCC East Bay
REFRESH-INTERVAL;VALUE=DURATION:PT1H
X-Robots-Tag:noindex
X-PUBLISHED-TTL:PT1H
BEGIN:VTIMEZONE
TZID:America/Los_Angeles
BEGIN:DAYLIGHT
TZOFFSETFROM:-0800
TZOFFSETTO:-0700
TZNAME:PDT
DTSTART:20210314T100000
END:DAYLIGHT
BEGIN:STANDARD
TZOFFSETFROM:-0700
TZOFFSETTO:-0800
TZNAME:PST
DTSTART:20211107T090000
END:STANDARD
BEGIN:DAYLIGHT
TZOFFSETFROM:-0800
TZOFFSETTO:-0700
TZNAME:PDT
DTSTART:20220313T100000
END:DAYLIGHT
BEGIN:STANDARD
TZOFFSETFROM:-0700
TZOFFSETTO:-0800
TZNAME:PST
DTSTART:20221106T090000
END:STANDARD
BEGIN:DAYLIGHT
TZOFFSETFROM:-0800
TZOFFSETTO:-0700
TZNAME:PDT
DTSTART:20230312T100000
END:DAYLIGHT
BEGIN:STANDARD
TZOFFSETFROM:-0700
TZOFFSETTO:-0800
TZNAME:PST
DTSTART:20231105T090000
END:STANDARD
END:VTIMEZONE
BEGIN:VEVENT
DTSTART;TZID=America/Los_Angeles:20221002T063000
DTEND;TZID=America/Los_Angeles:20221002T073000
DTSTAMP:20260421T005936
CREATED:20220915T025622Z
LAST-MODIFIED:20240630T213547Z
UID:10019296-1664692200-1664695800@mcceastbay.org
SUMMARY:#TeamFajr Monthly Sunday Breakfast
DESCRIPTION:“If people knew the reward in praying Fajr & Isha in a congregation\, they would go to the Masjid even if they had to crawl” [Bukhari & Muslim] \nJoin Qari Amar Bellaha on the first Sunday of each month. Pray the pre-dawn prayer in congregation followed by recitations of Surah Yaseen and Al-Wird Al-Latif (booklets provided) in unison and following sunup\, Salat al-Ishraq prayer in congregation. Our monthly Fajr gathering is also live streamed at mcceastbay.org/live \nFollowing the post-sunrise prayer\, Qari Amar and anyone else who wishes to accompany him will visit Five Pillars Islamic Cemetery in Livermore (weather permitting). \nMCC provides tea\, coffee\, orange juice & muffins. \nFall & Winter 2022 dates and Fajr times: \n\nSunday\, October 2 | Fajr Iqamah at 6:30 a.m.\nSunday\, November 6 | Fajr Iqamah at 6 a.m.\nSunday\, December 4 | Fajr Iqamah at 6:30 a.m.\nSunday\, January 1\, 2023 | Fajr Iqamah at 6:30 a.m.\nSunday\, February 5\, 2023 | Fajr Iqamah at 6:15 a.m.\nSunday\, March 5\, 2023 (last Fajr gathering before Ramadan) | Fajr Iqamah at 5:45 a.m.\n\nQuestions? events@mcceastbay.org \n\nMore Qari Amar: https://mcceastbay.org/amar\nImam al-Haddad’s litanies (al-Wird al-Latif): https://mcceastbay.org/wird\nThe Prophet (Peace be upon him) said\, “He who performs the Fajr will be under the protection of Allah.” [Muslim]\nThe Messenger of Allah (ﷺ) said: “The best prayer before Allah is Fajr prayer on Friday in congregation.”
URL:https://mcceastbay.org/event/teamfajr-2/2022-10-02/
LOCATION:MCC East Bay\, 5724 W Las Positas Blvd #300\, Pleasanton\, CA\, 94588\, United States
CATEGORIES:Family Events
ATTACH;FMTTYPE=image/png:https://mcceastbay.org/wp-content/uploads/2024/06/Monthly-TeamFajr-Gathering-Qari-Amar-Bellaha-breakfast.png
ORGANIZER;CN="Muslim Community Center - East Bay":MAILTO:events@mcceastbay.org
END:VEVENT
BEGIN:VEVENT
DTSTART;TZID=America/Los_Angeles:20221002T070000
DTEND;TZID=America/Los_Angeles:20221002T100000
DTSTAMP:20260421T005936
CREATED:20220925T093726Z
LAST-MODIFIED:20220925T093726Z
UID:10019360-1664694000-1664704800@mcceastbay.org
SUMMARY:Monthly Sisterhood Hike at West Side Loop
DESCRIPTION:Join us from 7 a.m. to 10 a.m. on October 2 for a Sunday morning hike at West Side Loop to Brushy Peak and Laughlin Loop Trail in Livermore to get to know other sisters in the community and enjoy the great outdoors. No children\, please (teens okay).\n\n– When: Sunday\, October 2\n– Time: 7 a.m. to 10 a.m. – Please arrive a little early to park and find the group. The group can wait till 7:10 a.m. and will start the hike. Please be on time since we cannot hold the group.\n– Carpool: No carpool from MCC is available for this hike. Carpool encouraged others on this hike.\n\nParking: Street parking\n\n– Location: 3899 Laughlin Rd\, Livermore\, CA 94551\n– Distance: 6.5 miles\n– All Trails: https://www.alltrails.com/trail/us/california/west-side-loop-to-brushy-peak-and-laughlin-loop-trail\n– Difficulty: Moderate\n– Misc: Please wear comfortable walking/hiking shoes\, carry enough water\, a small snack\, a hat\, sunglasses\, and hiking poles if you have one. No cell network in that area\, suggest carpooling and downloading the AllTrail maps.\n– RSVP: By Friday\, September 30\, please let us know you are coming for this hike: https://mcceastbay.org/rsvp\n\nSr. Aparna Khan and Sr. Sohaila will be leading this hike. On the day of the hike\, if you have trouble finding the group\, please call or text Sr. Aparna at (408) 480-6584. Please remember that we cannot hold all the group so we request you to please be on time. \nFor future hikes\, please subscribe to the MCC newsletter and/or add your phone number to the Women’s Hiking WhatsUp group. \nPlease wear comfortable walking/hiking shoes\, carry a water bottle\, a small snack\, hat\, sunglasses\, and hiking poles if you have one.  \nAbout the Trail: \n\nDiscover this 6.4-mile loop trail near Livermore\, California. Generally considered a moderately challenging route\, it takes an average of 3 h 11 min to complete. This is a popular trail for birding\, hiking\, and mountain biking\, but you can still enjoy some solitude during quieter times of day. The best times to visit this trail are March through October. Dogs are welcome\, but must be on a leash. \n\nQuestions? hiking@mcceastbay.org
URL:https://mcceastbay.org/event/monthly-sisterhood-hike-at-west-side-loop/
LOCATION:MCC East Bay\, 5724 W Las Positas Blvd #300\, Pleasanton\, CA\, 94588\, United States
ATTACH;FMTTYPE=image/jpeg:https://mcceastbay.org/wp-content/uploads/2024/06/Monthly-Sisterhood-Hike-at-West-Side-Loop.jpg
ORGANIZER;CN="Muslim Community Center - East Bay":MAILTO:events@mcceastbay.org
END:VEVENT
BEGIN:VEVENT
DTSTART;TZID=America/Los_Angeles:20221002T180000
DTEND;TZID=America/Los_Angeles:20221002T210000
DTSTAMP:20260421T005936
CREATED:20220521T051904Z
LAST-MODIFIED:20220521T051904Z
UID:10018017-1664733600-1664744400@mcceastbay.org
SUMMARY:MCC Community Townhall
DESCRIPTION:Join us for a town hall meeting with the MCC Board of Directors\, Construction Committee\, and Staff to engage and inform the congregation of MCC’s long-term goals to support our mission of helping our congregation find faith through the community. \nOur programs shifted and largely went online during the last couple of years during the pandemic and our human services have dramatically increased. We’re sure that all of this change has raised questions\, and now that the dust has settled\, it’s a good time for an MCC Town Hall where we can address our questions together. \nWe will also announce an exciting new Mental Health Clinic partnership at MCC and address questions about Fall programming in our popular Friday night youth program and the Youth Director role at MCC. \n6 p.m. to 9 p.m. | Friday\, June 24 | Conference Room or watch online at https://mcceastbay.org/live \nSchedule: \n\n– 6 p.m. – Dinner food sales begin from El Halal Amigos in the MCC parking lot\n– 6:30 p.m. – Asr prayer in Prayer Hall\n– 7:30 p.m. – Townhall begins in the Conference Room\n– 8 p.m. – Q&A begins (in person and with questions on live stream)\n– 8:37 – Maghrib prayer in Prayer Hall\n– 9 p.m. – Food sales end from El Halal Amigos end (unless food runs out ahead of time)\n\nIf you’d like to submit your feedback\, comments\, and question(s) beforehand\, email them to board@mcceastbay.org \nMCC’s leadership is privileged to serve our community. We know that when people express their vision of what their mosque could be\, they are more likely to want to work to make it look like that vision. Talking and dreaming about the future energizes and gives hope. Join us at this congregation town hall meeting in order to get input on new church programs and activities\, as well as to ‘float’ new ideas. It is an opportunity for you to present your ideas and to help others to develop their ideas as well as how to grow our masjid and reach out to the community. \nOur other quarterly MCC town halls in 2022: \n\n– 6 p.m. on Sunday\, October 2\, 2022\n– 5 p.m. on Sunday\, December 11\, 2022\n\nMay Allah (swt) bless our masjid\, keep our community united\, and give our leadership the ability to serve the community to the best of their abilities. Ameen. \nQuestions? board@mcceastbay.org
URL:https://mcceastbay.org/event/community-townhall/2022-10-02/
LOCATION:MCC East Bay\, 5724 W Las Positas Blvd #300\, Pleasanton\, CA\, 94588\, United States
CATEGORIES:Family Events
ATTACH;FMTTYPE=image/png:https://mcceastbay.org/wp-content/uploads/2024/06/MCC-Community-Townhall-v2.png
ORGANIZER;CN="Muslim Community Center - East Bay":MAILTO:events@mcceastbay.org
END:VEVENT
BEGIN:VEVENT
DTSTART;TZID=America/Los_Angeles:20221002T180000
DTEND;TZID=America/Los_Angeles:20221002T210000
DTSTAMP:20260421T005936
CREATED:20220521T051904Z
LAST-MODIFIED:20220521T051904Z
UID:10018022-1664733600-1664744400@mcceastbay.org
SUMMARY:MCC Community Townhall
DESCRIPTION:Join us for a town hall meeting with the MCC Board of Directors\, Construction Committee\, and Staff to engage and inform the congregation of MCC’s long-term goals to support our mission of helping our congregation find faith through the community. \nOur programs shifted and largely went online during the last couple of years during the pandemic and our human services have dramatically increased. We’re sure that all of this change has raised questions\, and now that the dust has settled\, it’s a good time for an MCC Town Hall where we can address our questions together. \nWe will also announce an exciting new Mental Health Clinic partnership at MCC and address questions about Fall programming in our popular Friday night youth program and the Youth Director role at MCC. \n6 p.m. to 9 p.m. | Friday\, June 24 | Conference Room or watch online at https://mcceastbay.org/live \nSchedule: \n\n– 6 p.m. – Dinner food sales begin from El Halal Amigos in the MCC parking lot\n– 6:30 p.m. – Asr prayer in Prayer Hall\n– 7:30 p.m. – Townhall begins in the Conference Room\n– 8 p.m. – Q&A begins (in person and with questions on live stream)\n– 8:37 – Maghrib prayer in Prayer Hall\n– 9 p.m. – Food sales end from El Halal Amigos end (unless food runs out ahead of time)\n\nIf you’d like to submit your feedback\, comments\, and question(s) beforehand\, email them to board@mcceastbay.org \nMCC’s leadership is privileged to serve our community. We know that when people express their vision of what their mosque could be\, they are more likely to want to work to make it look like that vision. Talking and dreaming about the future energizes and gives hope. Join us at this congregation town hall meeting in order to get input on new church programs and activities\, as well as to ‘float’ new ideas. It is an opportunity for you to present your ideas and to help others to develop their ideas as well as how to grow our masjid and reach out to the community. \nOur other quarterly MCC town halls in 2022: \n\n– 6 p.m. on Sunday\, October 2\, 2022\n– 5 p.m. on Sunday\, December 11\, 2022\n\nMay Allah (swt) bless our masjid\, keep our community united\, and give our leadership the ability to serve the community to the best of their abilities. Ameen. \nQuestions? board@mcceastbay.org
URL:https://mcceastbay.org/event/community-townhall/2022-10-02/
LOCATION:MCC East Bay\, 5724 W Las Positas Blvd #300\, Pleasanton\, CA\, 94588\, United States
CATEGORIES:Family Events
ATTACH;FMTTYPE=image/png:https://mcceastbay.org/wp-content/uploads/2024/06/MCC-Community-Townhall-v2.png
ORGANIZER;CN="Muslim Community Center - East Bay":MAILTO:events@mcceastbay.org
END:VEVENT
BEGIN:VEVENT
DTSTART;TZID=America/Los_Angeles:20221002T180000
DTEND;TZID=America/Los_Angeles:20221002T210000
DTSTAMP:20260421T005936
CREATED:20220521T051904Z
LAST-MODIFIED:20220521T051904Z
UID:10019239-1664733600-1664744400@mcceastbay.org
SUMMARY:MCC Community Townhall
DESCRIPTION:Join us for a town hall meeting with the MCC Board of Directors\, Construction Committee\, and Staff to engage and inform the congregation of MCC’s long-term goals to support our mission of helping our congregation find faith through the community. \nOur programs shifted and largely went online during the last couple of years during the pandemic and our human services have dramatically increased. We’re sure that all of this change has raised questions\, and now that the dust has settled\, it’s a good time for an MCC Town Hall where we can address our questions together. \nWe will also announce an exciting new Mental Health Clinic partnership at MCC and address questions about Fall programming in our popular Friday night youth program and the Youth Director role at MCC. \n6 p.m. to 9 p.m. | Friday\, June 24 | Conference Room or watch online at https://mcceastbay.org/live \nSchedule: \n\n– 6 p.m. – Dinner food sales begin from El Halal Amigos in the MCC parking lot\n– 6:30 p.m. – Asr prayer in Prayer Hall\n– 7:30 p.m. – Townhall begins in the Conference Room\n– 8 p.m. – Q&A begins (in person and with questions on live stream)\n– 8:37 – Maghrib prayer in Prayer Hall\n– 9 p.m. – Food sales end from El Halal Amigos end (unless food runs out ahead of time)\n\nIf you’d like to submit your feedback\, comments\, and question(s) beforehand\, email them to board@mcceastbay.org \nMCC’s leadership is privileged to serve our community. We know that when people express their vision of what their mosque could be\, they are more likely to want to work to make it look like that vision. Talking and dreaming about the future energizes and gives hope. Join us at this congregation town hall meeting in order to get input on new church programs and activities\, as well as to ‘float’ new ideas. It is an opportunity for you to present your ideas and to help others to develop their ideas as well as how to grow our masjid and reach out to the community. \nOur other quarterly MCC town halls in 2022: \n\n– 6 p.m. on Sunday\, October 2\, 2022\n– 5 p.m. on Sunday\, December 11\, 2022\n\nMay Allah (swt) bless our masjid\, keep our community united\, and give our leadership the ability to serve the community to the best of their abilities. Ameen. \nQuestions? board@mcceastbay.org
URL:https://mcceastbay.org/event/community-townhall/2022-10-02/
LOCATION:MCC East Bay\, 5724 W Las Positas Blvd #300\, Pleasanton\, CA\, 94588\, United States
CATEGORIES:Family Events
ATTACH;FMTTYPE=image/png:https://mcceastbay.org/wp-content/uploads/2024/06/MCC-Community-Townhall-v2.png
ORGANIZER;CN="Muslim Community Center - East Bay":MAILTO:events@mcceastbay.org
END:VEVENT
END:VCALENDAR