BEGIN:VCALENDAR
VERSION:2.0
PRODID:-//MCC East Bay - ECPv6.15.20//NONSGML v1.0//EN
CALSCALE:GREGORIAN
METHOD:PUBLISH
X-ORIGINAL-URL:https://mcceastbay.org
X-WR-CALDESC:Events for MCC East Bay
REFRESH-INTERVAL;VALUE=DURATION:PT1H
X-Robots-Tag:noindex
X-PUBLISHED-TTL:PT1H
BEGIN:VTIMEZONE
TZID:America/Los_Angeles
BEGIN:DAYLIGHT
TZOFFSETFROM:-0800
TZOFFSETTO:-0700
TZNAME:PDT
DTSTART:20220313T100000
END:DAYLIGHT
BEGIN:STANDARD
TZOFFSETFROM:-0700
TZOFFSETTO:-0800
TZNAME:PST
DTSTART:20221106T090000
END:STANDARD
BEGIN:DAYLIGHT
TZOFFSETFROM:-0800
TZOFFSETTO:-0700
TZNAME:PDT
DTSTART:20230312T100000
END:DAYLIGHT
BEGIN:STANDARD
TZOFFSETFROM:-0700
TZOFFSETTO:-0800
TZNAME:PST
DTSTART:20231105T090000
END:STANDARD
BEGIN:DAYLIGHT
TZOFFSETFROM:-0800
TZOFFSETTO:-0700
TZNAME:PDT
DTSTART:20240310T100000
END:DAYLIGHT
BEGIN:STANDARD
TZOFFSETFROM:-0700
TZOFFSETTO:-0800
TZNAME:PST
DTSTART:20241103T090000
END:STANDARD
END:VTIMEZONE
BEGIN:VEVENT
DTSTART;TZID=America/Los_Angeles:20230122T143000
DTEND;TZID=America/Los_Angeles:20230122T170000
DTSTAMP:20260421T023417
CREATED:20230120T120117Z
LAST-MODIFIED:20230120T120117Z
UID:10019570-1674397800-1674406800@mcceastbay.org
SUMMARY:Women's Burdah Gathering
DESCRIPTION:Join us for MCC’s monthly women’s-only talks and recitations of the Blessed Burdah\, a world-renowned poem of the cloak\, which is a great means to connect to the Best of Creation ﷺ. Reciting this magnificent poem is a means of getting closer to the Prophet ﷺ through its recital\, its commentary\, and its appreciation. Led by Ustadha Nihad Hammoudeh\, Ustadha Roya Ataie\, and Ustadha Mona ElZankaly\, this celebrated poem has been a mainstay in Islamic scholarship gatherings for centuries.   \n\n\n\n2:30 p.m. to 5 p.m. | Sunday\, Jan. 22| MCC Conference Room| In-person only| No RSVP | Women & girls only\, boys under 8 welcomeQuestions? event@mcceastbay.org
URL:https://mcceastbay.org/event/burdah-gathering/
LOCATION:MCC East Bay\, 5724 W Las Positas Blvd #300\, Pleasanton\, CA\, 94588\, United States
CATEGORIES:Women's Activities
ATTACH;FMTTYPE=image/png:https://mcceastbay.org/wp-content/uploads/2024/06/Womens-Burdah.png
END:VEVENT
END:VCALENDAR