BEGIN:VCALENDAR
VERSION:2.0
PRODID:-//MCC East Bay - ECPv6.15.20//NONSGML v1.0//EN
CALSCALE:GREGORIAN
METHOD:PUBLISH
X-ORIGINAL-URL:https://mcceastbay.org
X-WR-CALDESC:Events for MCC East Bay
REFRESH-INTERVAL;VALUE=DURATION:PT1H
X-Robots-Tag:noindex
X-PUBLISHED-TTL:PT1H
BEGIN:VTIMEZONE
TZID:America/Los_Angeles
BEGIN:DAYLIGHT
TZOFFSETFROM:-0800
TZOFFSETTO:-0700
TZNAME:PDT
DTSTART:20220313T100000
END:DAYLIGHT
BEGIN:STANDARD
TZOFFSETFROM:-0700
TZOFFSETTO:-0800
TZNAME:PST
DTSTART:20221106T090000
END:STANDARD
BEGIN:DAYLIGHT
TZOFFSETFROM:-0800
TZOFFSETTO:-0700
TZNAME:PDT
DTSTART:20230312T100000
END:DAYLIGHT
BEGIN:STANDARD
TZOFFSETFROM:-0700
TZOFFSETTO:-0800
TZNAME:PST
DTSTART:20231105T090000
END:STANDARD
BEGIN:DAYLIGHT
TZOFFSETFROM:-0800
TZOFFSETTO:-0700
TZNAME:PDT
DTSTART:20240310T100000
END:DAYLIGHT
BEGIN:STANDARD
TZOFFSETFROM:-0700
TZOFFSETTO:-0800
TZNAME:PST
DTSTART:20241103T090000
END:STANDARD
END:VTIMEZONE
BEGIN:VEVENT
DTSTART;TZID=America/Los_Angeles:20230415T234500
DTEND;TZID=America/Los_Angeles:20230416T060000
DTSTAMP:20260421T053813
CREATED:20230405T142741Z
LAST-MODIFIED:20230405T142741Z
UID:10019730-1681602300-1681624800@mcceastbay.org
SUMMARY:Odd-Night Program & Suhoor
DESCRIPTION:On every odd night in the blessed last ten nights of Ramadan\, join us after Taraweeh ends at about 11:15 p.m. in the MCC Prayer Hall for special Qur’an recitation\, zikr (devotional acts)\, Salat Tasbeeh\, time for individual worship\, advice\, nasheed\, and a free community Suhoor meal before Fajr prayer in congregation. \n\n\n\nThe blessed Laylat al-Qadr 27th night is on Monday\, April 17. The Qur’an Khatam completion in Taraweeh begins at 9:30 p.m. on Wednesday\, April 19. \n\n\n\nQari Amar Bellaha and a special guest speaker facilitate the nightly odd-night program. No RSVP is needed to attend Qiyam. RSVP is required for Suhoor (please see below). \n\n\n\n\n– 11:30 p.m. to 6 a.m. | Tuesday\, April 11 (21st night) | Special Guest Speaker: Ustadh Mahdy Amine\n\n\n\n– 11:30 p.m. to 6 a.m. | Thursday\, April 13 (23rd night) | Special Guest Speaker: Ustadh Mahdy Amine\n\n\n\n– 11:30 p.m. to 6 a.m. | Saturday\, April 15 (25th night) | Special Guest Speaker: Ustadh Feraidoon Mojadedi\n\n\n\n– 11:30 p.m. to 5:35 a.m. | Monday\, April 17 (27th night)* | Special Guest Speaker: Ustadh Dr. Ali Ataie\n\n\n\n– 11:30 p.m. to 5:35 a.m. | Wednesday\, April 19 (29th night)** | Special Guest Speaker: Ustadh Mahdy Amine*Laylatul Qadr (Night of Power)**Qur’an Khatam Night During Taraweeh prayer at 9:30 p.m.\n\n\n\n\nSuhoor Meals: \n\n\n\n\nThe community Suhoors are being hosted by groups in the MCC congregation:\n\n\n\n– Tuesday\, April 11 (21st night): Senior Afghan sisters who pray at Taraweeh\n\n\n\n– Thursday\, April 13 (23rd night): Sisters and brothers of Hyderabadi descent\n\n\n\n– Saturday\, April 15 (25th night): Sisters and brothers of South Indian descent\n\n\n\n– Monday\, April 17 (27th night): Sisters and brothers of Pakistani descent\n\n\n\n– Wednesday\, April 19 (29th night): Sisters and brothers of Arab descent\n\n\n\n\nPlease join us for a Suhoor meal (RSVP required) in the early mornings of: \n\n\n\n\nWednesday\, April 12 (RSVP at mcceastbay.org/suhoor-1)\n\n\n\nFriday\, April 14 (RSVP at mcceastbay.org/suhoor-2)\n\n\n\nSunday\, April 16 (RSVP at mcceastbay.org/suhoor-3)\n\n\n\nTuesday\, April 18 (RSVP at mcceastbay.org/suhoor-4)\n\n\n\nThursday\, April 20 (RSVP at mcceastbay.org/suhoor-5)\n\n\n\n\nTo help sponsor the cost of a Suhoor or Iftar meal at the MCC this Ramadan\, please visit https://mcceastbay.org/ramadan-meals \n\n\n\nTo join the limited space for Itikaf at MCC in the last ten days\, please register at HTTP://mcceastbay.org/itikaf \n\n\n\n\n\n\n\nOdd Nights Program Schedule: \n\n\n\nTuesday\, April 11: \n\n\n\n\nTaraweeh (9:30 p.m. to 11:15 p.m.)\n\n\n\nBreak (15 min)\n\n\n\nTalk by Sidi Mahdy\, Salat Tasbeeh\, & Dua (11:30 p.m. to 1:30 a.m.)\n\n\n\nBreak (90 min)\n\n\n\nQiyam (3 a.m. to 4 a.m.)\n\n\n\nSuhoor\n\n\n\n\nThursday\, April 13: \n\n\n\n\nTaraweeh (9:30 p.m. to 11:15 p.m.)\n\n\n\nBreak (15 min)\n\n\n\nTalk by Sidi Mahdy\, Salat Tasbeeh\, & Dua (11:30 p.m. to 1:30 a.m.)\n\n\n\nBreak (90 min)\n\n\n\nQiyam (3 a.m. to 4 a.m.)\n\n\n\nSuhoor\n\n\n\n\nSaturday\, April 15: \n\n\n\n\nTaraweeh (9:30 p.m. to 11:15 p.m.)\n\n\n\nBreak (15 min)\n\n\n\nTalk by Ustadh Feraidoon\, Salat Tasbeeh\, & Dua (11:30 p.m. to 1:30 a.m.)\n\n\n\nBreak (90 min)\n\n\n\nQiyam (3 a.m. to 4 a.m.)\n\n\n\nSuhoor\n\n\n\n\nMonday\, April 17: \n\n\n\n\nTaraweeh (9:30 p.m. to 11:15 p.m.)\n\n\n\nBreak (15 min)\n\n\n\nTalk by Dr. Ali Ataie\, Salat Tasbeeh\, & Dua (11:30 p.m. to 1:30 a.m.)\n\n\n\nBreak (90 min)\n\n\n\nQiyam (3 a.m. to 4 a.m.)\n\n\n\nSuhoor\n\n\n\n\nWednesday\, April 19: \n\n\n\n\nTaraweeh (9:30 p.m. to 11:15 p.m.)\n\n\n\nBreak (15 min)\n\n\n\nTalk by Sidi Mahdy\, Mawlid/Nasheed\, Salat Tasbeeh\, & Dua (11:30 p.m. to 1:30 a.m.)\n\n\n\nBreak (90 min)\n\n\n\nQiyam (3 a.m. to 4 a.m.)\n\n\n\nSuhoor\n\n\n\n\n\n\n\n\n\n\nMore details: \n\n\n\n\n–  Ramadan ’23 Iqama & Events calendar: https://mcceastbay.org/timetable\n\n\n\n– Odd nights program schedule: https://mcceastbay.org/odd-night\n\n\n\n– Watch Ramadan reflections: https://mcceastbay.org/reflections\n\n\n\n– Watch Ramadan reminders: https://mcceastbay.org/ramadan-reminders\n\n\n\n– More Qari Amar: https://mcceastbay.org/amar\n\n\n\n– More Sidi Mahdy: https://mcceastbay.org/mahdy\n\n\n\n– More Sidi Feraidoon: https://mcceastbay.org/feraidoon\n\n\n\n– More Dr. Ataie: https://mcceastbay.org/ali\n\n\n\n\nQuestions? events@mcceastbay.org
URL:https://mcceastbay.org/event/odd-night-program-suhoor/2023-04-15/
LOCATION:MCC East Bay\, 5724 W Las Positas Blvd #300\, Pleasanton\, CA\, 94588\, United States
CATEGORIES:Family Events
ATTACH;FMTTYPE=image/png:https://mcceastbay.org/wp-content/uploads/2024/06/Odd-Nights-Program-2023-2.png
END:VEVENT
BEGIN:VEVENT
DTSTART;TZID=America/Los_Angeles:20230416T120000
DTEND;TZID=America/Los_Angeles:20230416T130000
DTSTAMP:20260421T053813
CREATED:20230317T004612Z
LAST-MODIFIED:20230317T004612Z
UID:10019667-1681646400-1681650000@mcceastbay.org
SUMMARY:Ramadan Weekly Storytime on Sundays | Khala Sahar
DESCRIPTION:Every Sunday in Ramadan\, Khala Sahar reads and entertains our young children in an engaging hour for ages 2 to 10 with a fun Islamic theme.12 p.m. to 1 p.m. | Sundays\, 3/26\, 4/2\, 4/9\, & 4/16 | Conference Room | In-person only\, no live-stream option | Free; no registration needed \n\n\n\nRAMADAN WEEKLY STORYTIME ON SUNDAYS! \n\n\n\n\nSunday\, March 26\, from 1 p.m. to 2 p.m. \n\n\n\nSunday\, April 2\, from 12 p.m. to 1 p.m. \n\n\n\nSunday\, April 9\, from 12 p.m. to 1 p.m. \n\n\n\nSunday\, April 16\, from 12 p.m. to 1 p.m. \n\n\n\n\n*PLEASE NOTE THE NEW DAY IN RAMADAN*RAMADAN BOOK DRIVE \n\n\n\nPlease help us give back to children and families most in need in our community. We will collect new Islamic children’s books to give as Eid gifts. Drop off at MCC storytime. \n\n\n\n\n– More Sister Sahar: https://mcceastbay.org/sahar\n\n\n\n– More sessions for young Muslim children: https://mcceastbay.org/children\n\n\n\n\nAbout the Facilitator \n\n\n\nSister Sahar grew up in Southern California and earned her bachelor’s degree in psychology from the University of California – Irvine (UCI). She went on to work as a behavioral therapist for autistic children for many years. After having her own two boys\, she dedicated her time to raising and homeschooling them. Sahar enjoys working with children and is inspired by their love and curiosity for life and Allah’s creation. \n\n\n\nKhala Sahar’s Book Raffle: Win a free book! On a blank piece of paper\, write your name\, age\, and 10 books read between each story time (or print out the book log to fill out). Bring your book log to storytime and enter the raffle. For every 10 books read\, enter your name an additional time! The more you read\, the more chances you have to win! (Note: books can be read independently\, aloud by someone to the child\, or an audiobook). Print the log: https://mcceastbay.org/log \n\n\n\nQuestions? events@mcceastbay.org
URL:https://mcceastbay.org/event/ramadan-weekly-storytime/2023-04-16/
LOCATION:MCC East Bay\, 5724 W Las Positas Blvd #300\, Pleasanton\, CA\, 94588\, United States
CATEGORIES:Young Children
ATTACH;FMTTYPE=image/png:https://mcceastbay.org/wp-content/uploads/2024/06/Sister-Sahars-Kids-Storytime-2-1.png
END:VEVENT
BEGIN:VEVENT
DTSTART;TZID=America/Los_Angeles:20230416T134500
DTEND;TZID=America/Los_Angeles:20230416T144500
DTSTAMP:20260421T053813
CREATED:20230505T013056Z
LAST-MODIFIED:20230505T013056Z
UID:10020091-1681652700-1681656300@mcceastbay.org
SUMMARY:Tafseer of Surah Yaseen
DESCRIPTION:Every Sunday | 1:45 p.m. to 2:45 p.m. | MCC Conference Room | Join in-person or watch live at mcceastbay.org/live \n\n\n\nEvery Sunday afternoon\, Shaykh Talal will lead us through Surah Yaseen\, unfolding the lines\, stories\, and lessons we can benefit from. \n\n\n\n-More Shaykh Talal: https://mcceastbay.org/talal-Previous sessions: HTTP://mcceastbay.org/tafseer-yaseen \n\n\n\nShaykh Talal Ahdab serves on the MA faculty at Zaytuna College. He pursued a rigorous and structured classical curriculum with Islamic authorities\, focusing on Islamic theology\, epistemology\, ontology\, language\, jurisprudence\, and legal theory. Over the last twenty years\, he has taught the Islamic disciplines to senior students and professors of Islamic studies. His research interests include exploring how modern challenges can be addressed through Islam’s rich tradition of knowledge and scholarship. Shaykh Talal is fluent in Arabic. Shaykh Talal joined the Zaytuna College faculty in the Fall of 2017.  \n\n\n\nMore Shaykh Talal: https://mcceastbay.org/talal
URL:https://mcceastbay.org/event/tafseer-of-surah-yaseen-2/2023-04-16/
LOCATION:MCC East Bay\, 5724 W Las Positas Blvd #300\, Pleasanton\, CA\, 94588\, United States
CATEGORIES:Classes & Activities,Lectures & Workshops
ATTACH;FMTTYPE=image/png:https://mcceastbay.org/wp-content/uploads/2024/06/1920x1080-template-1.png
END:VEVENT
BEGIN:VEVENT
DTSTART;TZID=America/Los_Angeles:20230416T134500
DTEND;TZID=America/Los_Angeles:20230416T144500
DTSTAMP:20260421T053813
CREATED:20230505T072819Z
LAST-MODIFIED:20230505T072819Z
UID:10020101-1681652700-1681656300@mcceastbay.org
SUMMARY:Tafseer of Surah Yaseen
DESCRIPTION:Every Sunday | 1:45 p.m. to 2:45 p.m. | MCC Conference Room | Join in-person or watch live at mcceastbay.org/live \n\n\n\nEvery Sunday afternoon\, Shaykh Talal will lead us through Surah Yaseen\, unfolding the lines\, stories\, and lessons we can benefit from. \n\n\n\n-More Shaykh Talal: https://mcceastbay.org/talal-Previous sessions: HTTP://mcceastbay.org/tafseer-yaseen \n\n\n\nShaykh Talal Ahdab serves on the MA faculty at Zaytuna College. He pursued a rigorous and structured classical curriculum with Islamic authorities\, focusing on Islamic theology\, epistemology\, ontology\, language\, jurisprudence\, and legal theory. Over the last twenty years\, he has taught the Islamic disciplines to senior students and professors of Islamic studies. His research interests include exploring how modern challenges can be addressed through Islam’s rich tradition of knowledge and scholarship. Shaykh Talal is fluent in Arabic. Shaykh Talal joined the Zaytuna College faculty in the Fall of 2017.  \n\n\n\nMore Shaykh Talal: https://mcceastbay.org/talal
URL:https://mcceastbay.org/event/tafseer-of-surah-yaseen-3/2023-04-16/
LOCATION:MCC East Bay\, 5724 W Las Positas Blvd #300\, Pleasanton\, CA\, 94588\, United States
CATEGORIES:Classes & Activities,Lectures & Workshops
ATTACH;FMTTYPE=image/png:https://mcceastbay.org/wp-content/uploads/2024/06/Surah-Yaseen.png
END:VEVENT
BEGIN:VEVENT
DTSTART;TZID=America/Los_Angeles:20230416T192500
DTEND;TZID=America/Los_Angeles:20230416T200000
DTSTAMP:20260421T053813
CREATED:20230321T063423Z
LAST-MODIFIED:20230321T063423Z
UID:10019692-1681673100-1681675200@mcceastbay.org
SUMMARY:Daily Singles Iftar
DESCRIPTION:MCC is honored to host a nightly dinner for all our single brothers & sisters. The Iftar space is gender segregated. \n\n\n\nOnly on Saturdays\, the singles Iftar is suspended and joins the community-wide Iftar. \n\n\n\nThe singles Iftar space is in the room next to the kitchen. Map: https://mcceastbay.org/facility-map \n\n\n\nSingles Iftar registration for the new week opens at noon on Saturdays: \n\n\n\n\n– Starting Wednesday\, March 22: RSVP for Thursday\, March 23 to Friday\, March 31 at https://mcceastbay.org/singles-1\n\n\n\n– Starting Saturday\, April 1: RSVP for Sunday\, April 2 to Friday\, April 7 at https://mcceastbay.org/singles-2\n\n\n\n– Starting Saturday\, April 8: RSVP for Sunday\, April 9 to Friday\, April 14 at https://mcceastbay.org/singles-3\n\n\n\n– Starting Saturday\, April 15: RSVP for Sunday\, April 16 to Thursday\, April 20 at https://mcceastbay.org/singles-4\n\n\n\n\nFood is served in takeout boxes to make it easier to take leftovers home. \n\n\n\nFree. Optional donation. \n\n\n\n\n– Ramadan timetable: https://mcceastbay.org/timetable\n\n\n\n– More about events and activities in Ramadan 2023 at mcceastbay.org/ramadan
URL:https://mcceastbay.org/event/daily-singles-iftar-2/2023-04-16/
LOCATION:MCC East Bay\, 5724 W Las Positas Blvd #300\, Pleasanton\, CA\, 94588\, United States
ATTACH;FMTTYPE=image/png:https://mcceastbay.org/wp-content/uploads/2024/06/Daily-Singles-Iftar.png
END:VEVENT
END:VCALENDAR