BEGIN:VCALENDAR
VERSION:2.0
PRODID:-//MCC East Bay - ECPv6.15.20//NONSGML v1.0//EN
CALSCALE:GREGORIAN
METHOD:PUBLISH
X-ORIGINAL-URL:https://mcceastbay.org
X-WR-CALDESC:Events for MCC East Bay
REFRESH-INTERVAL;VALUE=DURATION:PT1H
X-Robots-Tag:noindex
X-PUBLISHED-TTL:PT1H
BEGIN:VTIMEZONE
TZID:America/Los_Angeles
BEGIN:DAYLIGHT
TZOFFSETFROM:-0800
TZOFFSETTO:-0700
TZNAME:PDT
DTSTART:20220313T100000
END:DAYLIGHT
BEGIN:STANDARD
TZOFFSETFROM:-0700
TZOFFSETTO:-0800
TZNAME:PST
DTSTART:20221106T090000
END:STANDARD
BEGIN:DAYLIGHT
TZOFFSETFROM:-0800
TZOFFSETTO:-0700
TZNAME:PDT
DTSTART:20230312T100000
END:DAYLIGHT
BEGIN:STANDARD
TZOFFSETFROM:-0700
TZOFFSETTO:-0800
TZNAME:PST
DTSTART:20231105T090000
END:STANDARD
BEGIN:DAYLIGHT
TZOFFSETFROM:-0800
TZOFFSETTO:-0700
TZNAME:PDT
DTSTART:20240310T100000
END:DAYLIGHT
BEGIN:STANDARD
TZOFFSETFROM:-0700
TZOFFSETTO:-0800
TZNAME:PST
DTSTART:20241103T090000
END:STANDARD
END:VTIMEZONE
BEGIN:VEVENT
DTSTART;TZID=America/Los_Angeles:20230812T090000
DTEND;TZID=America/Los_Angeles:20230812T170000
DTSTAMP:20260421T060114
CREATED:20230428T021821Z
LAST-MODIFIED:20230428T021821Z
UID:10020073-1691830800-1691859600@mcceastbay.org
SUMMARY:Private Event
DESCRIPTION:Conference Room & Banquet Hall.
URL:https://mcceastbay.org/event/private-event-60/
LOCATION:MCC East Bay\, 5724 W Las Positas Blvd #300\, Pleasanton\, CA\, 94588\, United States
CATEGORIES:Private Event
ATTACH;FMTTYPE=image/png:https://mcceastbay.org/wp-content/uploads/2024/06/private-event-masjid.png
END:VEVENT
BEGIN:VEVENT
DTSTART;TZID=America/Los_Angeles:20230812T120000
DTEND;TZID=America/Los_Angeles:20230812T170000
DTSTAMP:20260421T060114
CREATED:20230612T063017Z
LAST-MODIFIED:20240630T215533Z
UID:10020171-1691841600-1691859600@mcceastbay.org
SUMMARY:Free Medical Clinic | UCSF Muslim Medical Student Association & MCC East Bay
DESCRIPTION:Join us for a free clinic day with local Muslim health providers & medical students to get free health screenings\, learn about your health through nutrition and health counseling\, learn about preventative care\, and more.  \n\n\n\nSaturday\, Aug. 12 | 12 p.m. to 5 p.m. | Join in person or watch specific health talks that will be live-streamed at mcceastbay.org/live | Register at mcceastbay.org/medical-day | Walk-ins are welcomed \n\n\n\nWe also invite refugee families to learn about the healthcare resources available to them and answer their questions.This event is hosted in collaboration with Muslim Medical Student Association at UCSF. \n\n\n\nServices include: \n\n\n\n\nHealth screenings\n\nblood pressure checks\n\n\n\ndiabetes & cholesterol screenings\n\n\n\nheart health screenings\n\n\n\n\n\nNutrition and health counseling\n\n\n\nPreventative care\n\n\n\nSocial work & case management questions\n\n\n\n\n \n\n\n\nQuestions? events@mcceastbay.org \n\n\n\n \n\n\n\nMPAN \n\n\n\nOUR MISSION \n\n\n\nTo enhance understanding of Islam\, protect civil rights\, promote justice\, and empower American Muslims. \n\n\n\nOUR VISION \n\n\n\nTo be a leading advocate for justice and mutual understanding. \n\n\n\nMuslim Healthcare Professionals Advocacy Network – CAIR California San Francisco Bay Area is a new chapter under CAIRSFBA to create a network of biomedical professionals engaging in policy making and advocating for Muslim community needs in the healthcare exchange.  \n\n\n\nIf you are a professional or a student in the biomedical field\, please consider signing up\, we recognize how busy professionals are\, and we are working on social movement change up to policy-making within the context of your overwhelmed schedule.  \n\n\n\nWe have faith in our Muslim community and their precious value in the healthcare landscape\, and we look forward to working with like-minded professionals.  \n\n\n\nWasilah’s Mission \n\n\n\nOur mission is to provide holistic support for individuals facing mental\, emotional\, financial\, and personal challenges by building\, facilitating\, and connecting individuals to resources to strategically provide short- and long-term solutions to overcome their challenges. Vision Our vision is to create a movement to cultivate a collective community mindset of helping the most vulnerable populations within our community achieve success and wellness at all levels of their lives. – More Wasilah Connections: https://mcceastbay.org/wasilah \n\n\n\nLearn more and support this organization at https://wasilahconnect.org
URL:https://mcceastbay.org/event/free-medical-clinic/
LOCATION:MCC East Bay\, 5724 W Las Positas Blvd #300\, Pleasanton\, CA\, 94588\, United States
ATTACH;FMTTYPE=image/jpeg:https://mcceastbay.org/wp-content/uploads/2024/06/MCC-Free-Medical-Day.v2.jpg
END:VEVENT
BEGIN:VEVENT
DTSTART;TZID=America/Los_Angeles:20230812T190000
DTEND;TZID=America/Los_Angeles:20230812T220000
DTSTAMP:20260421T060114
CREATED:20230612T071416Z
LAST-MODIFIED:20230612T071416Z
UID:10020172-1691866800-1691877600@mcceastbay.org
SUMMARY:The Prophetic Model of Teaching | Shaykh Rami Nsour
DESCRIPTION:https://www.youtube.com/watch?v=1DbjEFTXoyI\n\n\n\n\n\n\n\n\n\n\nJoin us on a Saturday evening with Shaykh Rami Nsour to uncover timeless wisdom and learn effective teaching techniques using the prophetic model. Registered attendees will get a free workbook that accompanies the workshop.Saturday\, Aug. 12 | 7 p.m. to 10 p.m. | MCC Conference Room | Join in-person or watch virtually at mcceastbay.org/live  | Free | Register at mcceastbay.org/prophetic-model \n\n\n\nIf you will be joining us online\, please prepurchase the workbook here: https://www.amazon.com/dp/B0BFVVB92W \n\n\n\nSponsored by Tayba Foundation & MCC East Bay \n\n\n\nQuestions? events@mcceastbay.org \n\n\n\n– More Shaykh Rami: https://mcceastbay.org/rami– More Shaykh Rami’s Friday night halaqa sessions: https://mcceastbay.org/remindersShaykh Rami Nsour spent a number of years in Mauritania\, where he studied at some of the foremost Islamic Colleges (mahdaras). He is the Co-Founder of the Tayba Foundation\, one of the few Muslim organizations in the US serving incarcerated Muslims\, providing them much-needed Islamic education and essential life skills training and assistance upon re-entry.Learn more about Sheikh Rami at https://www.taybafoundation.org/our-team“The Messenger of Allah (sal Allahu alayhi wa sallam) said\, “People are ores like the ores of gold and silver. The best of them in jahiliyya are the best of them in Islam if they gain fiqh (understanding).” We should not see in ourselves and others what is immediately apparent but rather look for the potential that can be attained. This potential is unlocked through knowledge of Islam.”Rami Nsour was born in Amman\, Jordan\, and moved to the United States at the age of 9. During his college years\, he attended classes taught by shuyukh in the San Francisco Bay Area\, notably Shaykh Khatri bin Bayba\, Shaykh Abdullah bin Ahmedna\, and Shaykh Hamza Yusuf. With their encouragement\, Rami embarked on a journey to Mauritania in 1998. In Mauritania\, he studied with some of the greatest scholars of our times\, such as his foremost\, Shaykh Murabit al Hajj bin Fahfu. He was also blessed to study with Murabit Muhammad al-Amin bin al-Shaykh\, Murabit Ahmed Fal bin Ahmedna\, Shaykh Abdullah bin Ahmedna\, Shaykh Tahir ibn Murabit al Hajj and Shaykh Sa’d Bu among others. Rami completed studies in the subjects of Qu’ran\, ‘Aqeedah (Belief)\, Fiqh (Law)\, Nahu (grammar)\, Ihsan (spiritual purification)\, and adab (manners).He has memorized the final text of Maliki fiqh\, Mukhtasar Khalil\, and has been granted permission by his shuyukh to teach. In addition to his extensive study of fiqh\, he was afforded the unique opportunity to attend one-on-one sessions with his teachers\, where he would engage them in countless hours of discussion on the application of fiqh in general and specifically for those living in the West.Rami has translated traditional Islamic texts from Arabic\, including various works on Maliki fiqh and several works of the great Mauritanian scholar Shaykh Muhammad Mawlud\, including Birr al-Walidayan (The Rights of Parents)\, Ishraq al-Qarar (The Spiritual Aspects of Prayer)\, and the Adab of Sadaqa. He has also translated a versified version of Adab of the Student entitled Iya’ant al Mutafahim (The Assistance of the Student) by Shaykh Muhammad al Hasan as well as the original Taleem al Muta’llim by Shaykh Zarnuji.In addition\, Rami has dedicated much of his time to teaching\, conducting seminars\, and counseling. He has spent a great deal of his time teaching and aiding Muslims in prison and has seen how knowledge unlocks human potential. His students in the prisons have\, in turn\, taught countless people and invited many people to Islam. He was instrumental in co-founding Dar as-Salaam\, a project dedicated to building and supporting a school in Mauritania. Shaykh Rami serves as Senior Instructor at SeekersHub Global. Rami is the co-founder of the Tayba Foundation\, which has a correspondence program for Muslim inmates (http://www.taybafoundation.org/). In addition to traditional teaching licenses (ijazah)\, Rami holds a B.A. in Human Development with a Focus on Early Childhood. Rami resides in the San Francisco Bay Area\, is married\, and has two children. \n\n\n\n \n\n\n\nABOUT THIS EDUCATIONAL SEMINAR BOOKLETWe are all teachers in some respect or another. What would happen to our teaching if we incorporated some elements from the example of Messenger of Allah صلى الله عليه وسلم ? \n\n\n\nWe can all become better teachers\, no matter what stage of life we are in or in what capacity we are teaching. We can continually enhance our ability to be sincere and effective teachers by learning from his methods. \n\n\n\nEven if we don’t see teaching as an aspect of our lives\, we can also grow closer to the Messenger of Allah صلى الله عليه وسلم by knowing him better.ABOUT TAYBAWE SERVE THE FORGOTTEN BELIEVERSIn prisons across America\, nearly 1 in 10 prisoners turn to Islam to start a new life and rekindle their relationship with God. But access to learning the deen is scarce behind bars\, and anti-Muslim prejudice is common. \n\n\n\nTayba Foundation is one of the few American organizations serving Muslims in prison nationwide. We offer a comprehensive Islamic curriculum to both help new converts cover the essentials of their faith and dedicated students to reach a level where they can become teachers in local communities. \n\n\n\nTayba also offers programs to help incarcerated Muslims overcome challenges from their past\, such as trauma\, addiction\, mental health disorders\, etc. \n\n\n\nTo learn more about our work and support your incarcerated brothers and sisters\, head to:www.taybafoundation.org 510.952.9683 \n\n\n\ninfo@taybafoundation.org
URL:https://mcceastbay.org/event/shaykh-rami/
LOCATION:MCC East Bay\, 5724 W Las Positas Blvd #300\, Pleasanton\, CA\, 94588\, United States
CATEGORIES:Family Events
ATTACH;FMTTYPE=image/jpeg:https://mcceastbay.org/wp-content/uploads/2024/06/Shaykh-Rami-Nsour-1.jpg
END:VEVENT
END:VCALENDAR