BEGIN:VCALENDAR
VERSION:2.0
PRODID:-//MCC East Bay - ECPv6.15.20//NONSGML v1.0//EN
CALSCALE:GREGORIAN
METHOD:PUBLISH
X-WR-CALNAME:MCC East Bay
X-ORIGINAL-URL:https://mcceastbay.org
X-WR-CALDESC:Events for MCC East Bay
REFRESH-INTERVAL;VALUE=DURATION:PT1H
X-Robots-Tag:noindex
X-PUBLISHED-TTL:PT1H
BEGIN:VTIMEZONE
TZID:America/Los_Angeles
BEGIN:DAYLIGHT
TZOFFSETFROM:-0800
TZOFFSETTO:-0700
TZNAME:PDT
DTSTART:20220313T100000
END:DAYLIGHT
BEGIN:STANDARD
TZOFFSETFROM:-0700
TZOFFSETTO:-0800
TZNAME:PST
DTSTART:20221106T090000
END:STANDARD
BEGIN:DAYLIGHT
TZOFFSETFROM:-0800
TZOFFSETTO:-0700
TZNAME:PDT
DTSTART:20230312T100000
END:DAYLIGHT
BEGIN:STANDARD
TZOFFSETFROM:-0700
TZOFFSETTO:-0800
TZNAME:PST
DTSTART:20231105T090000
END:STANDARD
BEGIN:DAYLIGHT
TZOFFSETFROM:-0800
TZOFFSETTO:-0700
TZNAME:PDT
DTSTART:20240310T100000
END:DAYLIGHT
BEGIN:STANDARD
TZOFFSETFROM:-0700
TZOFFSETTO:-0800
TZNAME:PST
DTSTART:20241103T090000
END:STANDARD
END:VTIMEZONE
BEGIN:VEVENT
DTSTART;TZID=America/Los_Angeles:20231208T123000
DTEND;TZID=America/Los_Angeles:20231208T145000
DTSTAMP:20260421T024921
CREATED:20231208T085259Z
LAST-MODIFIED:20231208T085259Z
UID:10020500-1702038600-1702047000@mcceastbay.org
SUMMARY:Jumu’ah Services @ MCC & Dublin Library
DESCRIPTION:For MCC’s Jumu’ah services on Friday\, December 8\, 2023: \n\n\n\n\n12:30 p.m. to 12:50 p.m.\n\nShaykh Mustafa Umar delivers this sermon at MCC.\n\n\n\n\n\n1:30 p.m. to 1:50 p.m.\n\n– Shaykh Talal Ahdab delivers this sermon at MCC.\n\n\n\n\n\n1:40 p.m. to 2:10 p.m.\n\n–  TBD at the Dublin Library this Friday.\n\n\n\n\n\n2:30 p.m. – 2:50 p.m. \n\n–  Sidi Mahdy Amine delivers the sermon at MCC.\n\n\n\n\n\n\nPlease attend at 12:30 or 2:30 p.m. to avoid heavier second-service congestion whenever possible. Please note that the former HP lot (now Pleasanton School District) is no longer available to our congregation. Please come to the first and fourth Jumu’ah to ease up parking congestion or attend the parallel satellite prayer at 1:40 p.m. at Dublin Library: https://mcceastbay.org/satellite-jumuah-library-update \n\n\n\n\n– Virtually watch the three MCC sermons from home: https://mcceastbay.org/live\n\n\n\n– More Shaykh Talal: https://mcceastbay.org/talal\n\n\n\n– More Sidi Mahdy: https://mcceastbay.org/mahdy\n\n\n\n\nFor parents attending with young children indoors at the main MCC facility\, we offer private mothers’ and fathers’ rooms with an audio and visual connection to the Prayer Hall. Parents can watch the sermon and pray while working with other parents with young children. The mothers/fathers prayer room is just past the Banquet Hall doors into the school area. \n\n\n\nQuestions? events@mcceastbay.org
URL:https://mcceastbay.org/event/four-jumuah-services-2/
END:VEVENT
BEGIN:VEVENT
DTSTART;TZID=America/Los_Angeles:20231208T123000
DTEND;TZID=America/Los_Angeles:20231208T150000
DTSTAMP:20260421T024921
CREATED:20231206T235039Z
LAST-MODIFIED:20231206T235039Z
UID:10020497-1702038600-1702047600@mcceastbay.org
SUMMARY:Indian American Muslim Council Tables @ MCC Jumu’ahs
DESCRIPTION:IAMC is the largest US-based advocacy organization of Indian American Muslims. They have an upcoming fundraiser on Saturday\, Dec. 9 at Chandni Restaurant in Newark.
URL:https://mcceastbay.org/event/indian-american-muslim-council-tables-mcc-jumuahs-3/
ATTACH;FMTTYPE=image/jpeg:https://mcceastbay.org/wp-content/uploads/2024/06/40193bc3-6710-4541-bfcb-b53005ff5f0b.jpeg
END:VEVENT
BEGIN:VEVENT
DTSTART;TZID=America/Los_Angeles:20231208T160000
DTEND;TZID=America/Los_Angeles:20231208T180000
DTSTAMP:20260421T024921
CREATED:20230921T232917Z
LAST-MODIFIED:20230921T232917Z
UID:10020326-1702051200-1702058400@mcceastbay.org
SUMMARY:Women's Tafseer Class in Farsi | Ustadha Nooria Musleh
DESCRIPTION:For Farsi and Pashto-speaking women who want to learn or brush up on Qur’an\, join this two-hour class every Friday after the third Jumu’ah to connect with the Book of Allah (swt). \n\n\n\nFridays | 4 p.m. to 6 p.m. | Women only | Classroom 1 | In-person only | Join in person or virtually at mcceastbay.org/farsi-tafseer \n\n\n\nQuestions? events@mcceastbay.org
URL:https://mcceastbay.org/event/quran-in-farsi/2023-12-08/
CATEGORIES:Women's Activities
ATTACH;FMTTYPE=image/jpeg:https://mcceastbay.org/wp-content/uploads/2024/06/Sr.-Nooria-Musleh-Quran-Class-1.jpg
END:VEVENT
BEGIN:VEVENT
DTSTART;TZID=America/Los_Angeles:20231208T170000
DTEND;TZID=America/Los_Angeles:20231208T173000
DTSTAMP:20260421T024921
CREATED:20231208T003602Z
LAST-MODIFIED:20231208T003602Z
UID:10020498-1702054800-1702056600@mcceastbay.org
SUMMARY:Dua for our Brothers & Sisters | Qari Amar Bellaha
DESCRIPTION:“The parable of the believers in their affection\, mercy\, and compassion for each other is that of a body. When any limb aches\, the whole body reacts with sleeplessness and fever.” Prophet Muhammad (PBUH) \n\n\n\nJoin us to supplicate for our brothers and sisters in Palestine on Friday evenings. After the Maghrib Prayers (5 p.m.)\, Qari Amar will recite the Dua Al-Nasri (Prayers of the Oppressed). \n\n\n\n5 p.m. to 5:30 p.m.  | Fridays | Prayer Hall | Join in person or watch live at https://mcceastbay.org/liveIn the enormity of this moment\, MCC is responding to our sisters and brothers in Palestine by: \n\n\n\n\n– Our Jumu’ahs are dedicated to our sisters and brothers. Our Khateebs will make dua and encourage worshipers to give generously for humanitarian relief efforts in Gaza. MCC will absorb the credit card processing fees and send collected funds to Islamic Relief & UNRWA. Donate at https://mcceastbay.org/palestine\n\n\n\n– Our MCC youth are baking goods and selling in the MCC lobby during the Jumu’ahs for humanitarian relief efforts during Jumu’ah.\n\n\n\n\nMCC will cover the credit card processing fees so that 100 percent of our community’s donations go to two reputable organizations providing on-the-ground relief efforts in Gaza. Donate: mcceastbay.org/palestine \n\n\n\nThe Nasiri Dua is from the pen of the renowned Sufi Shaykh ibn Nasir ad Dari Rahimahullah of the Shadhiliyya Tariqa. Faced with the military power of France\, who were bombing villages in Morocco\, the Shaykh Rahimahullah wrote this Dua\, which was recited in every Masjid in the Maghrib in various different styles. This Dua had such an effect that the French President issued a law banning its recitation. Due to the barakah of this beautiful Dua\, Morocco gained independence from France. \n\n\n\nThe power of this Dua of Imam Muhammad ibn Nasir al-Dar’i lies in its simplicity\, its purity\, and its sincere supplication. It is essentially a plea to Allah that our transgressions be overlooked\, that divine mercy be bestowed upon us\, that social justice be restored in spite of us\, that wrongs be righted\, and that righteousness reigns once again in our lands so that the destitute may no longer be in need\, the young may be educated\, the animals’ purpose fulfilled\, rain restored\, and bounties poured forth. It is a plea to be freed from the aggression of foreigners in lands over which they have no right – a plea much needed in our modern world\, rampant as it is with invasions and territorial occupations. Ultimately\, it asks not to destroy our enemies but simply to halt their plots and the harm they cause. Its essence is mercy\, which in turn is the essence of the Messenger of Allah\, Muhammad\, peace and blessings be upon him: “And We have only sent you as a mercy to all the worlds.” \n\n\n\nPDF copy of the Nasiri Dua \n\n\n\n\n\n\n\n\n\n\n\n\n\n\nhttps://youtu.be/rLvq6nyi_w8?si=v6s6IXqHsMZtqOKr
URL:https://mcceastbay.org/event/dua-for-oppressed-3/
CATEGORIES:Family Events
END:VEVENT
BEGIN:VEVENT
DTSTART;TZID=America/Los_Angeles:20231208T190000
DTEND;TZID=America/Los_Angeles:20231208T210000
DTSTAMP:20260421T024921
CREATED:20230929T071326Z
LAST-MODIFIED:20230929T071326Z
UID:10020345-1702062000-1702069200@mcceastbay.org
SUMMARY:Dr. Rania Awaad’s Weekly Friday Evening Halaqa
DESCRIPTION:Ustadha Dr. Rania Awaad holds a weekly Friday evening women’s gathering about navigating contemporary issues. This program runs in parallel to the Friday night girl’s halaqa. \n\n\n\n7 p.m. to 9 p.m. | Every Friday from October 6\, 2023\, to May 24\, 2024 |  MCC Conference Room | Free; no registration or RSVP required to attend in person | To join virtually\, register at https://mcceastbay.org/zoom \n\n\n\n\n– More Dr. Rania: https://mcceastbay.org/rania\n\n\n\n– Watch past Dr. Rania’s Friday Evening Halaqa recordings: https://mcceastbay.org/womens-halaqa\n\n\n\n– Join Dr. Rania’s WhatsUp group: https://chat.whatsapp.com/HlHmFFnGbwvCvLl6uGD1C4\n\n\n\n\nThe fall session runs from Friday\, Oct. 6th to Friday\, Dec. 15th\, with Thanksgiving Break on Friday\, November 24. \n\n\n\nAfter winter break\, we continue in the winter from Friday\, Jan. 26 to Friday\, March 8\, with then a break for Ramadan (March 15\, 22\, 29\, April 5 & April 12)\, and we restart from April 19 to May 24. \n\n\n\nFree babysitting is provided in Room 23. Facility map: https://mcceastbay.org/facility-map \n\n\n\nQuestions? events@mcceastbay.org \n\n\n\nThis halaqa is hosted parallel to our girls’ program in partnership with The Rahmah Foundation. \n\n\n\nUstadha Rania AwaadRaised in the U.S.\, Ustadha Rania Awaad began her formal study of the traditional Islamic sciences when her parents permitted her to travel to Damascus\, Syria\, at 14. Her desire to continue studying the Deen resulted in multiple trips back to Damascus\, interspersed between her high school\, college\, and medical studies. She was honored to receive Ijazah (authorization to teach) several branches of the Shari’ah sciences at the hands of many renowned scholars\, including many female scholars. She has received Ijazah to teach Tajwid in the Hafs and Warsh recitations from the late eminent Syrian scholar Shaykh Abu Hassan al-Kurdi. In addition to completing several advanced texts of the Shafi’i madhhab\, she is licensed to teach texts of Maliki fiqh\, Adab\, and Ihsan. Currently\, Ustadha Rania teaches online and local classes for The Rahmah Foundation\, Rabata\, and is on the faculty of Zaytuna College\, where she teaches courses in Shafi’i fiqh\, women’s issues in fiqh and has helped develop and co-direct the Tajweed and Hifz program. \n\n\n\nUstadha Rania is also a medical doctor with a specialty in Psychiatry. She completed her Psychiatric residency and fellowship training at Stanford University\, where she is currently on the faculty as a Clinical Instructor in the Stanford Psychiatry and Behavioral Sciences department. Her medical interests include addressing mental health care concerns in the Muslim community- particularly that of Muslim women and girls. She has been awarded grants from the NIMH (National Institute of Mental Health) to research this topic and has presented her findings at several medical conferences. Other ongoing endeavors include compiling manuscripts addressing female-related mental health and medical issues from a fiqh-oriented perspective. She currently serves as the Director of the Rahmah Foundation\, a non-profit organization that teaches Muslim women and girls traditional Islamic knowledge. In this capacity\, she also heads the Murbbiyah Mentoring Program\, which trains young women to teach and mentor Muslim girls and teens. Ustadha Rania is both a wife and a mother; she has been counseling and teaching women classes on Tajwid\, Shafi’i Fiqh\, Ihsan\, marriage\, and raising children since 1999. \n\n\n\nLearn more about Dr. Rania and her work at http://med.stanford.edu/psychiatry/research/MuslimMHLab.html \n\n\n\nEvery Friday evening\, the MCC bustles with activity. MCC hosts four halaqas to increase God-consciousness for youth\, women\, and men. \n\n\n\nFrom 7 p.m. to 9 p.m.\, join Dr. Rania Awaad‘s women’s gathering about navigating contemporary issues. This wide-ranging Muslimah halaqa is in the MCC Conference Room\, and the first hour is live-streamed here (watch past sessions at https://mcceastbay.org/halaqa). This halaqa is organized in partnership with The Rahmah Foundation.
URL:https://mcceastbay.org/event/friday-womens-halaqa/2023-12-08/
CATEGORIES:Women's Activities
ATTACH;FMTTYPE=image/png:https://mcceastbay.org/wp-content/uploads/2024/06/Dr.-Rania-Awaads-Weekly-Friday-Evening-Halaqa.png
END:VEVENT
BEGIN:VEVENT
DTSTART;TZID=America/Los_Angeles:20231208T190000
DTEND;TZID=America/Los_Angeles:20231208T210000
DTSTAMP:20260421T024921
CREATED:20231017T232217Z
LAST-MODIFIED:20231017T232217Z
UID:10020403-1702062000-1702069200@mcceastbay.org
SUMMARY:Conquering Doubts: From Atheism to Islam | Shaykh Mustafa Umar
DESCRIPTION:Join us on a Friday evening with Shaykh Mustafa Umar as he shares his fascinating journey from growing up in a Muslim household to Atheism and then finding Islam again on his own terms.  \n\n\n\nThis discussion is especially pertinent for teenagers and young professionals to attend this practical chat to fortify their convictions.  \n\n\n\nFriday\, December 8 | 7 p.m. to 9 p.m. | Prayer Hall | Join in person or watch live at mcceastbay.org/live \n\n\n\nSidi Asaad Traina from the MCC congregation interviews Shaykh Mustafa. Afterward\, we will have a Q&A session with Shaykh Mustafa.  \n\n\n\nShaykh Mustafa will also give the second Jumu’ah Khutbah on Friday\, Dec. 8\, from 1:30 p.m. to 2 p.m.Shaykh Mustafa Umar completed a B.S. in Information and Computer Science from UC Irvine\, a B.A. in Theology & Islamic Law from the European Institute of Islamic Sciences in France\, and an M.A. in Islamic Studies from the University of Gloucestershire in the UK. He also studied the Islamic sciences for a year at Nadwatul ʿUlamā’ in Lucknow\, India\, and spent another year studying in Cairo\, Egypt. He has authored several books\, served the Muslim community of Southern California as an Imam and activist for over a decade years\, and is currently the founder and president of California Islamic University\, the Director of Education and Outreach at the Islamic Institute of Orange County\, and an executive member of the Fiqh Council of North America. \n\n\n\n\n\n\n\n\n\nQuestions? events@mcceastbay.org
URL:https://mcceastbay.org/event/atheism-to-islam/
CATEGORIES:Family Events
ATTACH;FMTTYPE=image/jpeg:https://mcceastbay.org/wp-content/uploads/2024/06/Shaykh-Mustafa-Umar.jpg
END:VEVENT
END:VCALENDAR