BEGIN:VCALENDAR
VERSION:2.0
PRODID:-//MCC East Bay - ECPv6.15.20//NONSGML v1.0//EN
CALSCALE:GREGORIAN
METHOD:PUBLISH
X-ORIGINAL-URL:https://mcceastbay.org
X-WR-CALDESC:Events for MCC East Bay
REFRESH-INTERVAL;VALUE=DURATION:PT1H
X-Robots-Tag:noindex
X-PUBLISHED-TTL:PT1H
BEGIN:VTIMEZONE
TZID:America/Los_Angeles
BEGIN:DAYLIGHT
TZOFFSETFROM:-0800
TZOFFSETTO:-0700
TZNAME:PDT
DTSTART:20230312T100000
END:DAYLIGHT
BEGIN:STANDARD
TZOFFSETFROM:-0700
TZOFFSETTO:-0800
TZNAME:PST
DTSTART:20231105T090000
END:STANDARD
BEGIN:DAYLIGHT
TZOFFSETFROM:-0800
TZOFFSETTO:-0700
TZNAME:PDT
DTSTART:20240310T100000
END:DAYLIGHT
BEGIN:STANDARD
TZOFFSETFROM:-0700
TZOFFSETTO:-0800
TZNAME:PST
DTSTART:20241103T090000
END:STANDARD
BEGIN:DAYLIGHT
TZOFFSETFROM:-0800
TZOFFSETTO:-0700
TZNAME:PDT
DTSTART:20250309T100000
END:DAYLIGHT
BEGIN:STANDARD
TZOFFSETFROM:-0700
TZOFFSETTO:-0800
TZNAME:PST
DTSTART:20251102T090000
END:STANDARD
END:VTIMEZONE
BEGIN:VEVENT
DTSTART;TZID=America/Los_Angeles:20240308T080000
DTEND;TZID=America/Los_Angeles:20240405T080000
DTSTAMP:20260420T033408
CREATED:20240308T013830Z
LAST-MODIFIED:20240630T220601Z
UID:10020638-1709884800-1712304000@mcceastbay.org
SUMMARY:Annual Eid Toy Drive for Zakat-Eligible Families
DESCRIPTION:Please help us spread cheer to families in need during this blessed time by donating new unwrapped gifts (in person or online) to the MCC Girl Scouts’ 6th Annual Toy Drive. \n\n\n\nThis year\, we are collecting over 650 toys for local zakat-eligible families\, including many refugee families assisted by MCC East Bay.  \n\n\n\nHelp us ensure every child receives a gift in time for Eid by making donations or dropping off your gifts on March 1 – 25.  This gives us time to sort and pack individualized gifts appropriate for each family.  \n\n\n\nThere are four ways to bring a smile to a child’s face this Eid: \n\n\n\n\n– Ship to MCC via our Amazon wish list at https://mcceastbay.org/wishlist. Please use this list as a guide for the types/numbers of toys requested. We encourage you to shop elsewhere when possible and to boycott brands like Walmart and Fisher-Price.\n\n\n\n– Donate using Cheddar Up (secure link) or drop off cash/checks (made out to “Girl Scouts”) marked “Toy Drive” or gift cards to the MCC office.* These can be handed to Aminah on Fridays (9 am – 4 pm).\n\n\n\n– Drop off toys at MCC (bins are located in the lobby) (MCC doors are open from 10 a.m. to 10 p.m. daily) or Northstar School.\n\n\n\n– Ship toys/gift cards from any online retailer to: MCC Girl Scouts\, 5724 W. Las Positas Blvd.\, #300\, Pleasanton\, CA 94588\n\n\n\n\nPlease avoid: \n\n\n\n\n– Electronics or electronic accessories requiring children to have access to a particular device\n\n\n\n– Previously used items\n\n\n\n– Clothing\n\n\n\n– Dollar store or similar quality toys\n\n\n\n– Toys of a violent nature (guns\, swords\, etc.)\n\n\n\n– Toys that may be construed as having an inappropriate nature\n\n\n\n– Makeup\, nail polish\, ‘tattoos’\n\n\n\n\nRemember that we hope to share gifts these children may not typically have access to. If you donate a toy that needs batteries\, please attach a set. \n\n\n\nWe are grateful to all our interfaith community partners for their support\, year after year. \n\n\n\n\n\n			\n				\n			\n		\n\n\n\n\n			\n				\n			\n		\n\n\n\n\n*MCC Girl Scouts will use funds collected to purchase toys or wrapping supplies for the drive.  Any extra funds received will be used for school supplies for the same group of children for the next school year. \n\n\n\nQuestions for Girl Scouts Troops 30875 and 32705? girl-scouts@mcceastbay.org
URL:https://mcceastbay.org/event/annual-eid-toy-drive/
CATEGORIES:Charity & Community Service
ATTACH;FMTTYPE=image/jpeg:https://mcceastbay.org/wp-content/uploads/2024/06/image-2.jpg
END:VEVENT
BEGIN:VEVENT
DTSTART;TZID=America/Los_Angeles:20240404T211500
DTEND;TZID=America/Los_Angeles:20240405T060000
DTSTAMP:20260420T033408
CREATED:20240326T004453Z
LAST-MODIFIED:20240630T220651Z
UID:10020692-1712265300-1712296800@mcceastbay.org
SUMMARY:Odd-Night Program & Suhoor
DESCRIPTION:On every odd night in the blessed last ten nights of Ramadan\, join us after Taraweeh ends at about 11:15 p.m. in the MCC Prayer Hall for special Qur’an recitation\, zikr (devotional acts)\, Salat Tasbeeh\, time for individual worship\, advice\, nasheed\, and a free community Suhoor meal before Fajr prayer in congregation. \n\n\n\nThe blessed Laylat al-Qadr (27th night) is on Saturday\, April 6. The Qur’an Khatam completion in Taraweeh begins at 9:15 p.m. on Monday\, April 8. \n\n\n\nQari Amar Bellaha and a special guest speaker facilitate the nightly odd-night program. No RSVP is needed to attend Qiyam. RSVP is required for Suhoor (please see below). \n\n\n\n\n– 11:30 p.m. to 6 a.m. | Sunday\, March 31 (21st night) | Special Guest Speaker: Ustadh Amu Tarif\n\n\n\n– 11:30 p.m. to 6 a.m. | Tuesday\, April 2 (23rd night) | Special Guest Speaker: Ustadh Amu Tarif\n\n\n\n– 11:30 p.m. to 6 a.m. | Thursday\, April 4 (25th night) | Special Guest Speaker: Ustadh Feraidoon Mojadedi\n\n\n\n– 11:30 p.m. to 6 a.m. | Saturday\, April 6 (27th night)* | Special Guest Speaker: Ustadh Dr. Ali Ataie \n\n\n\n– 11:30 p.m. to 5:50 a.m. | Monday\, April 8 (29th night)** | Special Guest Speaker: Imam Zaid Shakir & Shaykh Hisham Mahmoud*Laylatul Qadr (Night of Power)**Qur’an Khatam Night During Taraweeh prayer at 9:15 p.m.\n\n\n\n\nSuhoor Meals: \n\n\n\n\nGroups in the MCC congregation are hosting the community Suhoors:\n\n\n\n– Monday\, April 1 (21st night): Sisters and brothers of Arab descent\n\n\n\n– Wednesday\, April 3 (23rd night): Senior Afghan sisters who pray at Taraweeh\n\n\n\n– Friday\, April 5 (25th night): Continental Suhoor\n\n\n\n– Sunday\, April 7 (27th night): Sisters and brothers of Pakistani descent\n\n\n\n– Tuesday\, April 9 (29th night): Sisters and brothers of Hyderabadi descent\n\n\n\n\nPlease join us for a Suhoor meal (RSVP required) in the early mornings of: \n\n\n\n\nMonday\, April 1 (RSVP at mcceastbay.org/suhoor-1)\n\n\n\nWednesday\, April 3 (RSVP at mcceastbay.org/suhoor-2)\n\n\n\nFriday\, April 5 (RSVP at mcceastbay.org/suhoor-3)\n\n\n\nSunday\, April 7 (RSVP at mcceastbay.org/suhoor-4)\n\n\n\nTuesday\, April 9 (RSVP at mcceastbay.org/suhoor-5)\n\n\n\n\nTo help sponsor the cost of a Suhoor or Iftar meal at the MCC this Ramadan\, please visit https://mcceastbay.org/ramadan-meals \n\n\n\nTo join the limited space for Itikaf at MCC in the last ten days\, please register at HTTP://mcceastbay.org/itikaf \n\n\n\n\n\n\n\nOdd Nights Program Schedule: \n\n\n\nSunday\, March 31: \n\n\n\n\nTaraweeh (9:15 p.m. to 11:15 p.m.)\n\n\n\nBreak (15 min)\n\n\n\nTalk by Sidi Mahdy Amine\, Salat Tasbeeh\, & Dua (11:30 p.m. to 1:30 a.m.)\n\n\n\nBreak (90 min)\n\n\n\nQiyam led by Qari Amar Bellaha (3 a.m. to 4 a.m.)\n\n\n\nSuhoor\n\n\n\n\nTuesday\, April 2: \n\n\n\n\nTaraweeh (9:15 p.m. to 11:15 p.m.)\n\n\n\nBreak (15 min)\n\n\n\nTalk by Sidi Mahdy Amine\, Salat Tasbeeh\, & Dua (11:30 p.m. to 1:30 a.m.)\n\n\n\nBreak (90 min)\n\n\n\nQiyam led by Qari Amar Bellaha (3 a.m. to 4 a.m.)\n\n\n\nSuhoor\n\n\n\n\nThursday\, April 4: \n\n\n\n\nTaraweeh (9:15 p.m. to 11:15 p.m.)\n\n\n\nBreak (15 min)\n\n\n\nTalk by Ustadh Feraidoon Mojadedi\, Salat Tasbeeh\, & Dua (11:30 p.m. to 1:30 a.m.)\n\n\n\nBreak (90 min)\n\n\n\nQiyam led by Qari Amar Bellaha (3 a.m. to 4 a.m.)\n\n\n\nSuhoor\n\n\n\n\nSaturday\, April 6: \n\n\n\n\nTaraweeh (9:15 p.m. to 11:15 p.m.)\n\n\n\nBreak (15 min)\n\n\n\nTalk by Dr. Ali Ataie\, and Shaykh Abdullah Anik Misra\, Salat Tasbeeh\, & Dua (11:30 p.m. to 1:30 a.m.)\n\n\n\nBreak (90 min)\n\n\n\nQiyam led by Qari Amar Bellaha (3 a.m. to 4 a.m.)\n\n\n\nSuhoor\n\n\n\n\nMonday\, April 8: \n\n\n\n\nTaraweeh (9:15 p.m. to 11:15 p.m.)\n\n\n\nBreak (15 min)\n\n\n\nTalk by Shaykh Abdullah Anik Misra\, Mawlid/Nasheed\, Salat Tasbeeh\, & Dua (11:30 p.m. to 1:30 a.m.)\n\n\n\nBreak (90 min)\n\n\n\nQiyam led by Qari Amar Bellaha (3 a.m. to 4 a.m.)\n\n\n\nSuhoor\n\n\n\n\n\n\n\n\n\n\nMore details: \n\n\n\n\n–  Ramadan ’24 Iqama & Events calendar: https://mcceastbay.org/timetable\n\n\n\n– Odd nights program schedule: https://mcceastbay.org/odd-night\n\n\n\n– Watch Ramadan reflections: https://mcceastbay.org/reflections\n\n\n\n– Watch Ramadan reminders: https://mcceastbay.org/ramadan-reminders\n\n\n\n– More Qari Amar: https://mcceastbay.org/amar\n\n\n\n– More Sidi Feraidoon: https://mcceastbay.org/feraidoon\n\n\n\n– More Dr. Ataie: https://mcceastbay.org/ali\n\n\n\n-More Ustadh Tarif: http://mcceastbay.org/tarif\n\n\n\n– More Shaykh Hisham: http://mcceastbay.org/hisham\n\n\n\n\nQuestions? events@mcceastbay.org
URL:https://mcceastbay.org/event/odd-night-programs-suhoor/2024-04-04/
CATEGORIES:Family Events
ATTACH;FMTTYPE=image/jpeg:https://mcceastbay.org/wp-content/uploads/2024/06/Odd-Night-Programs-1.jpg
END:VEVENT
BEGIN:VEVENT
DTSTART;TZID=America/Los_Angeles:20240405T120000
DTEND;TZID=America/Los_Angeles:20240405T123000
DTSTAMP:20260420T033408
CREATED:20240329T091619Z
LAST-MODIFIED:20240329T091619Z
UID:10020705-1712318400-1712320200@mcceastbay.org
SUMMARY:Youth Kahf Recitation
DESCRIPTION:Listen to a young MCC Hifz/Advanced Qur’an student studying with Qari Amar Bellaha recite the important Friday Surah al-Kahf with English subtitles at noon each Friday in Ramadan ’24. \n\n\n\n\n– March 15: Zidan Khan\n\n\n\n\nThese recitations are part of the MCC Mic Check series\, a teen-initiated effort when a youth in the East Bay expresses their love for the Qur’an by reciting their favorite verses with melody and beauty. The Muslim Student Association (MSA) at California High School in San Ramon curated this series. \n\n\n\n\n– Watch the recitation on YouTube at mcceastbay.org/live\n\n\n\n– Watch the recitation on Facebook at mcceastbay.org/facebook\n\n\n\n– Mic Check Youth Qur’anic recitations at https://mcceastbay.org/mic-check\n\n\n\n\nQuestions? events@mcceastbay.org \n\n\n\nReciters in Ramadan ’24: \n\n\n\n\n– March 15: Zidan Khan\n\n\n\n– March 22: Sidi Umair Shafi\n\n\n\n– March 29:\n\n\n\n– April 5: \n\n\n\n\nReciters in Ramadan ’23: \n\n\n\n\n– March 24: Muhammed Constantino\n\n\n\n– March 31: Muhammad Rasyiid Prihardono\n\n\n\n– April 7: Muhriz Munir\n\n\n\n– April 14: Ahmad Prihardono\n\n\n\n\nReciters in Ramadan ’22: \n\n\n\n\n– Rayhan Ali: https://youtu.be/b8aPeterrE0\n\n\n\n– Haanee Badal: https://youtu.be/gVMDtxrfIlw\n\n\n\n– Umair Shafi: https://youtu.be/JwRnFcdJ6LM\n\n\n\n– Zacharia Hamze: https://youtu.be/BUSLlXwlx3g\n\n\n\n\nReciters in Ramadan ’21: \n\n\n\n\n– Omar Ali: https://youtu.be/bcAnFhVm1w4\n\n\n\n– Ahmed Hussayni: https://youtu.be/6_56HU_Ngow\n\n\n\n– Yusra Constantino: https://youtu.be/EIn59jQibTM\n\n\n\n– Taha Abdullah: https://youtu.be/eU4K3EKB6cE\n\n\n\n\nSurah al-Kahf (Arabic: الكهف\, meaning: The Cave) is the 18th chapter (sūrah) of the Quran with 110 verses (āyāt). It is considered by many to be among the most important Qur’anic Surahs due to its doctrine\, spirituality\, guidance\, and storytelling. \n\n\n\nAbu Sa’id Al-Khudri reported: The Prophet\, peace and blessings be upon him\, said\, “Whoever recites Surat al-Kahf on Friday will have a light between this Friday and the next.” -As-Sunan al-Kubra
URL:https://mcceastbay.org/event/youth-kahf-recitation-6/2024-04-05/
ATTACH;FMTTYPE=image/jpeg:https://mcceastbay.org/wp-content/uploads/2024/06/surah-al-kahf.jpeg
END:VEVENT
BEGIN:VEVENT
DTSTART;TZID=America/Los_Angeles:20240405T133000
DTEND;TZID=America/Los_Angeles:20240405T160000
DTSTAMP:20260420T033408
CREATED:20240405T022342Z
LAST-MODIFIED:20240405T022342Z
UID:10020716-1712323800-1712332800@mcceastbay.org
SUMMARY:Jumu’ah Services @ MCC & Rosewood Conference Center
DESCRIPTION:For MCC’s four Jumu’ah services on Friday\, April 5\, 2024: \n\n\n\n\n1:30 p.m. to 1:50 p.m.\n\nTBA delivers this sermon at MCC.\n\n\n\n\n\n1:40 p.m. to 2:10 p.m.\n\n– Sidi Qura’an Hodge delivers this sermon at Rosewood Conference Center.\n\n\n\n\n\n2:30 p.m. to 2:50 p.m.\n\n– Br. Mohammed Abdul Baseer delivers this sermon at MCC.\n\n\n\n\n\n2:40 p.m. – 3:10 p.m. \n\n– Sidi Qur’an Hodge delivers the sermon at Rosewood Conference Center.\n\n\n\n\n\n3:40 p.m. – 4 p.m. \n\n– Sidi Shaan Mukhtar delivers this sermon at MCC.\n\n\n\n\n\n\nPlease attend at 2:30 or 3:40 p.m. @ MCC to avoid heavier first-service congestion whenever possible. Please note that the former HP lot (now Pleasanton School District) is no longer available to our congregation. Please come to the first and fourth Jumuah to ease up parking congestion or attend the parallel satellite prayer at 1:40 p.m. at Dublin Library: https://mcceastbay.org/satellite-jumuah-library-update \n\n\n\n\n– Virtually watch the three MCC sermons from home: https://mcceastbay.org/live\n\n\n\n– More Br. Mohammed: HTTP://mcceastbay.org/baseer\n\n\n\n– More Sidi Qur’an: HTTP://mcceastbay.org/quran-hodge\n\n\n\n– More Sidi Shaan: HTTP://mcceastbay.org/shaan\n\n\n\n\nFor parents attending with young children indoors at the main MCC facility\, we offer private mothers’ and fathers’ rooms with an audio and visual connection to the Prayer Hall. Parents can watch the sermon and pray while working with other parents with young children. The mothers/fathers prayer room is just past the Banquet Hall doors into the school area. \n\n\n\nQuestions? events@mcceastbay.org
URL:https://mcceastbay.org/event/mcc-rosewood-jumuah-2/
ATTACH;FMTTYPE=image/jpeg:https://mcceastbay.org/wp-content/uploads/2024/06/Friday-Jumuah-Khateebs-8.jpg
END:VEVENT
BEGIN:VEVENT
DTSTART;TZID=America/Los_Angeles:20240405T134000
DTEND;TZID=America/Los_Angeles:20240405T151000
DTSTAMP:20260420T033408
CREATED:20240314T232935Z
LAST-MODIFIED:20240630T220627Z
UID:10020675-1712324400-1712329800@mcceastbay.org
SUMMARY:Off-site Jumu'ah @ Rosewood Conference Center
DESCRIPTION:On Friday\, March 15 & April 5\, our weekly off-site Jumu’ah (1:40 p.m. to 2:10 p.m. & 2:40 p.m. to 3:10 p.m.) will be at the Rosewood Commons Conference Center in Pleasanton (4400 Rosewood Dr\, Pleasanton). Please attend this Jumu’ah to help ease parking congestion at MCC. Fulfill your religious obligation while helping your local masjid.
URL:https://mcceastbay.org/event/off-site-jumuah-rosewood-conference-center/2024-04-05/
LOCATION:Rosewood Commons Conference Center\, 4432 Rosewood Dr\, Pleasanton\, 94588
ATTACH;FMTTYPE=image/jpeg:https://mcceastbay.org/wp-content/uploads/2024/06/rosewood-conference-center-2.jpeg
END:VEVENT
BEGIN:VEVENT
DTSTART;TZID=America/Los_Angeles:20240405T192500
DTEND;TZID=America/Los_Angeles:20240405T203000
DTSTAMP:20260420T033408
CREATED:20240311T230814Z
LAST-MODIFIED:20240311T230814Z
UID:10020666-1712345100-1712349000@mcceastbay.org
SUMMARY:MCC '24 Singles Iftar Week Four
DESCRIPTION:MCC is honored to host a nightly dinner for all our single brothers & sisters. \n\n\n\nThe singles Iftar is suspended only on Saturdays and joins the community-wide Iftar except for the last Saturday (April 6). \n\n\n\nThe singles Iftar space is in the room next to the kitchen. Map: https://mcceastbay.org/facility-map \n\n\n\nSingles Iftar registration for the new week opens at noon on Saturdays: \n\n\n\n\n– Starting Saturday\, March 9: RSVP for Tuesday\, March 12 to Sunday\, March 17 at https://mcceastbay.org/singles-1\n\n\n\n– Starting Saturday\, March 16: RSVP for Monday\, March 18 to Sunday\, March 24 at https://mcceastbay.org/singles-2\n\n\n\n– Starting Saturday\, March 23: RSVP for Monday\, March 25 to Sunday\, March 31 at https://mcceastbay.org/singles-3\n\n\n\n– Starting Saturday\, March 30: RSVP for Monday\, April 1 to Tuesday\, April 9: https://mcceastbay.org/singles-4\n\n\n\n\nRSVP is required each Saturday for the Iftars you plan to attend that week. Nominal $3/person charge. Food is served in takeout boxes to make it easier to take leftovers home. \n\n\n\nFree. Optional donation \n\n\n\n– Ramadan timetable: https://mcceastbay.org/timetable \n\n\n\n\n– More about events and activities in Ramadan 2024 at mcceastbay.org/ramadan
URL:https://mcceastbay.org/event/singles-iftar-week-four/2024-04-05/
ATTACH;FMTTYPE=image/jpeg:https://mcceastbay.org/wp-content/uploads/2024/06/Singles-Iftars-2.jpg
END:VEVENT
END:VCALENDAR