BEGIN:VCALENDAR
VERSION:2.0
PRODID:-//MCC East Bay - ECPv6.15.20//NONSGML v1.0//EN
CALSCALE:GREGORIAN
METHOD:PUBLISH
X-ORIGINAL-URL:https://mcceastbay.org
X-WR-CALDESC:Events for MCC East Bay
REFRESH-INTERVAL;VALUE=DURATION:PT1H
X-Robots-Tag:noindex
X-PUBLISHED-TTL:PT1H
BEGIN:VTIMEZONE
TZID:America/Los_Angeles
BEGIN:DAYLIGHT
TZOFFSETFROM:-0800
TZOFFSETTO:-0700
TZNAME:PDT
DTSTART:20230312T100000
END:DAYLIGHT
BEGIN:STANDARD
TZOFFSETFROM:-0700
TZOFFSETTO:-0800
TZNAME:PST
DTSTART:20231105T090000
END:STANDARD
BEGIN:DAYLIGHT
TZOFFSETFROM:-0800
TZOFFSETTO:-0700
TZNAME:PDT
DTSTART:20240310T100000
END:DAYLIGHT
BEGIN:STANDARD
TZOFFSETFROM:-0700
TZOFFSETTO:-0800
TZNAME:PST
DTSTART:20241103T090000
END:STANDARD
BEGIN:DAYLIGHT
TZOFFSETFROM:-0800
TZOFFSETTO:-0700
TZNAME:PDT
DTSTART:20250309T100000
END:DAYLIGHT
BEGIN:STANDARD
TZOFFSETFROM:-0700
TZOFFSETTO:-0800
TZNAME:PST
DTSTART:20251102T090000
END:STANDARD
END:VTIMEZONE
BEGIN:VEVENT
DTSTART;TZID=America/Los_Angeles:20241011T133000
DTEND;TZID=America/Los_Angeles:20241011T160000
DTSTAMP:20260420T042750
CREATED:20240910T161707Z
LAST-MODIFIED:20250105T054312Z
UID:10021626-1728653400-1728662400@mcceastbay.org
SUMMARY:Hidaya Collection Drive @ Jumu'ah
DESCRIPTION:Help our less fortunate sisters and brothers around the world this Friday. \nHidaya Foundation will be in the MCC parking lot during our three Jumu’ah services (1:30 p.m. to 4 p.m.) on Friday\, Oct. 11. \nThe collection truck staff will give you a tax-deductible receipt. A $10 donation is necessary per bag to help cover the container shipping cost to send to your needy Muslim sisters and brothers overseas. \nPlease be considerate of your donation and give dignity to the families receiving your generous contributions by donating quality used items that are washed and folded. \nThe Hidaya Foundation collection truck will accept: \n\n– Winter coats\, jackets\, and sweatshirts (for all ages and all seasons)\n– Blankets\, sleeping bags\, comforters\, pillows\, bed sheets\, towels\n– Baby clothes\, regular clothes\, and traditional clothes like Shalwar Kamis (men & women)\, Hijabs\, etc.\n– Tennis shoes\, sneakers\, runners\, boots\, sandals (tie laces together)\n– Backpacks with school supplies and educational books\n– Children’s toys\n– Pots and pans and kitchen items\n– Tents\, tarps & tools\n– No food items since buying locally is cheaper and gets there faster.\n– No furniture (submit furniture at https://mcceastbay.org/furniture)\n\nPlease tie all shoelaces together to ensure pairs stay together. Also\, please do not use broken or dirty items. \nLearn more about the Hidaya Foundation container project at https://www.hidaya.org/social-welfare/container-shipment-for-in-kind-donations \nQuestions? events@mcceastbay.org
URL:https://mcceastbay.org/event/jumuah-collection-drive/
ATTACH;FMTTYPE=image/jpeg:https://mcceastbay.org/wp-content/uploads/2024/09/Hidaya-Collection-drive.jpg
END:VEVENT
BEGIN:VEVENT
DTSTART;TZID=America/Los_Angeles:20241011T133000
DTEND;TZID=America/Los_Angeles:20241011T160000
DTSTAMP:20260420T042750
CREATED:20240917T171149Z
LAST-MODIFIED:20241001T170855Z
UID:10021668-1728653400-1728662400@mcceastbay.org
SUMMARY:MCC Girl Scouts Families Bake Sale @ MCC Jumu'ahs
DESCRIPTION:MCC Girl Scouts families are doing a bake sale to raise funds for those affected by the heavy floods this summer in Bangladesh. Please help them in this mission. All the funds will be donated to the Zakat Foundation of America.
URL:https://mcceastbay.org/event/mcc-girl-scouts-troop-30875-bake-sale-mcc-jumuahs/
ATTACH;FMTTYPE=image/jpeg:https://mcceastbay.org/wp-content/uploads/2024/09/image_6483441.jpg
END:VEVENT
BEGIN:VEVENT
DTSTART;TZID=America/Los_Angeles:20241011T133000
DTEND;TZID=America/Los_Angeles:20241011T160000
DTSTAMP:20260420T042750
CREATED:20241002T155816Z
LAST-MODIFIED:20241002T194417Z
UID:10021751-1728653400-1728662400@mcceastbay.org
SUMMARY:Maristan Tables @ MCC Jumu'ahs
DESCRIPTION:Maristan offers culturally and religiously tailored mental health services for individuals to explore well-being within their faith. They aim to raise awareness about mental health in Muslim communities and beyond\, breaking down stigmas and fostering a supportive environment for holistic healing. Visit their table this Friday to learn about their support programs\, resources\, and a clinic operating at MCC.
URL:https://mcceastbay.org/event/maristan-tables-mcc-jumuahs-2/
ATTACH;FMTTYPE=image/jpeg:https://mcceastbay.org/wp-content/uploads/2024/10/Maristan.jpeg
END:VEVENT
BEGIN:VEVENT
DTSTART;TZID=America/Los_Angeles:20241011T133000
DTEND;TZID=America/Los_Angeles:20241011T160000
DTSTAMP:20260420T042750
CREATED:20241010T221919Z
LAST-MODIFIED:20241010T234814Z
UID:10021782-1728653400-1728662400@mcceastbay.org
SUMMARY:Jumu’ah Services @ MCC & Rosewood
DESCRIPTION:For MCC’s four Jumu’ah services on Friday\, Oct. 11\, 2024: \n\n\n\n\n*Heavy parking congestion. Please\, kindly avoid this service 🙂 *\n\nDr. Rushain Abbasi delivers this sermon at MCC East Bay\n\n\n\n\n\n1:40 p.m. to 2:10 p.m.\n\n– Hafiz Atef Arabi delivers this sermon at Rosewood Conference Center.\n\n\n\n\n\n2:30 p.m. to 2:50 p.m.\n\n– Hafiz Atef Arabi delivers this sermon at MCC East Bay\n\n\n\n\n\n3:40 p.m. – 4 p.m. \n\n– Ustadh Omar Naisan delivers this sermon at MCC East Bay\n\n\n\n\n\n\n*Please attend at 2:30 or 3:40 p.m. @ MCC to avoid heavier first-service congestion whenever possible\, or attend the off-site MCC Jumu’ah service each week at Rosewood Commons\, 4400 Rosewood Dr.\, Pleasanton.Please note that the former HP lot (now Pleasanton School District) is no longer available to our congregation. Please come to the second or fourth Jumuah to ease up parking congestion or (better yet) attend our weekly parallel satellite prayer at 1:40 p.m. at Rosewood Conference Center: https://mcceastbay.org/rosewood \n\n\n\n\n– Virtually watch the three MCC sermons from home: https://mcceastbay.org/live\n– More Sidi Rushain: HTTP://mcceastbay.org/rushain\n\n\n\n– More Hafiz Atef: http://mcceastbay.org/atef\n– More Ustadh Omar: http://mcceastbay.org/omar\n\n\n\n\nFor parents attending with young children indoors at the main MCC facility\, we offer private mothers’ and fathers’ rooms with an audio and visual connection to the Prayer Hall. Parents can watch the sermon and pray while working with other parents and young children. The mothers’ and fathers’ prayer room is just past the Banquet Hall doors into the school area. \n\n\n\nQuestions? events@mcceastbay.org \n\n\n\n\n\n\n\n\n\n\n\n\n\n\n\n\n\n\n\n\n\n 
URL:https://mcceastbay.org/event/mcc-rosewood-friday-prayers/
LOCATION:MCC East Bay\, 5724 W Las Positas Blvd #300\, Pleasanton\, CA\, 94588\, United States
ATTACH;FMTTYPE=image/jpeg:https://mcceastbay.org/wp-content/uploads/2024/10/Friday-Jumuah-Khateebs-1.jpg
ORGANIZER;CN="Muslim Community Center - East Bay":MAILTO:events@mcceastbay.org
END:VEVENT
BEGIN:VEVENT
DTSTART;TZID=America/Los_Angeles:20241011T190000
DTEND;TZID=America/Los_Angeles:20241011T210000
DTSTAMP:20260420T042750
CREATED:20240812T202016Z
LAST-MODIFIED:20241023T233708Z
UID:10021372-1728673200-1728680400@mcceastbay.org
SUMMARY:Dr. Rania Awaad’s Weekly Friday Evening Halaqa
DESCRIPTION:Ustadha Dr. Rania Awaad holds a weekly women’s gathering on Friday evenings to discuss navigating contemporary issues. This program runs in parallel to the Friday night girl’s halaqa. \n\n\n\n7 p.m. to 9 p.m. | Every Friday from September 20\, 2024\, to February 21\, 2025\, |  MCC Conference Room | Free; no registration or RSVP required to attend in person | To join virtually\, register at https://mcceastbay.org/zoom \n\n\n\n\n\n\n– More Dr. Rania: https://mcceastbay.org/rania\n– Watch past Dr. Rania’s Friday Evening Halaqa recordings: https://mcceastbay.org/womens-halaqa\n– Join Dr. Rania’s WhatsUp group: https://chat.whatsapp.com/HlHmFFnGbwvCvLl6uGD1C4\n– The Rahmah Foundation’s Holiday Calendar: https://mcceastbay.org/rahmah-calendar\n\n\n\n\n\n\n\n\n\n\nThe Fall session runs from Friday\, Sept. 20\, 2024\, to May 23\, 2025\, with no halaqas on Friday\, November 29\, December 27\, March 7\, 14\, 21\, 28\, and April 4)\, and we restart from April 11\, 2025 to May 23\, 2025. See calendar. \n\n\n\nFree weekly babysitting is provided in Room 23. Facility map: https://mcceastbay.org/facility-map \n\n\n\nQuestions? events@mcceastbay.org \n\n\n\nThis halaqa is hosted parallel to our girls’ program in partnership with The Rahmah Foundation. \n\n\n\nUstadha Rania Awaad was raised in the U.S. and began her formal study of the traditional Islamic sciences when her parents permitted her to travel to Damascus\, Syria\, at 14. Her desire to continue studying the Deen resulted in multiple trips back to Damascus\, interspersed between her high school\, college\, and medical studies. She was honored to receive Ijazah (authorization to teach) several branches of the Shari’ah sciences at the hands of many renowned scholars\, including many female scholars. She has received Ijazah to teach Tajwid in the Hafs and Warsh recitations from the late eminent Syrian scholar Shaykh Abu Hassan al-Kurdi. In addition to completing several advanced texts of the Shafi’i madhhab\, she is licensed to teach texts of Maliki fiqh\, Adab\, and Ihsan. Currently\, Ustadha Rania teaches online and local classes for The Rahmah Foundation\, Rabata. She is on the faculty of Zaytuna College\, where she teaches courses in Shafi’i fiqh and women’s issues in fiqh and has helped develop and co-direct the Tajweed and Hifz program. \n\n\n\nUstadha Rania is also a medical doctor with a specialty in Psychiatry. She completed her Psychiatric residency and fellowship training at Stanford University\, where she is currently on the faculty as a Clinical Instructor in the Stanford Psychiatry and Behavioral Sciences department. Her medical interests include addressing mental health care concerns in the Muslim community- particularly that of Muslim women and girls. She has been awarded grants from the NIMH (National Institute of Mental Health) to research this topic and has presented her findings at several medical conferences. Other ongoing endeavors include compiling manuscripts addressing female-related mental health and medical issues from a fiqh-oriented perspective. She is the Director of the Rahmah Foundation\, a non-profit organization that teaches traditional Islamic knowledge to Muslim women and girls. In this capacity\, she also heads the Murbbiyah Mentoring Program\, which trains young women to teach and mentor Muslim girls and teens. Ustadha Rania is both a wife and a mother; she has been counseling and teaching women classes on Tajwid\, Shafi’i Fiqh\, Ihsan\, marriage\, and raising children since 1999. \n\n\n\nLearn more about Dr. Rania and her work at http://med.stanford.edu/psychiatry/research/MuslimMHLab.html \n\n\n\nEvery Friday evening\, the MCC bustles with activity. MCC hosts four halaqas to increase God-consciousness for youth\, women\, and men. \n\n\n\nJoin Dr. Rania Awaad‘s women’s gathering on navigating contemporary issues from 7 p.m. to 9 p.m. This wide-ranging Muslimah halaqa is in the MCC Conference Room\, and the first hour is live-streamed here (watch past sessions at https://mcceastbay.org/halaqa). This halaqa is organized in partnership with The Rahmah Foundation. \nQuestions? events@mcceastbay.org
URL:https://mcceastbay.org/event/weekly-halaqa/2024-10-11/
LOCATION:MCC East Bay\, 5724 W Las Positas Blvd #300\, Pleasanton\, CA\, 94588\, United States
CATEGORIES:Sisters Program
ATTACH;FMTTYPE=image/png:https://mcceastbay.org/wp-content/uploads/2024/06/Dr.-Rania-Awaads-Weekly-Friday-Evening-Halaqa.png
ORGANIZER;CN="The Rahmah Foundation":MAILTO:mailbox@therahmahfoundation.org
END:VEVENT
BEGIN:VEVENT
DTSTART;TZID=America/Los_Angeles:20241011T190000
DTEND;TZID=America/Los_Angeles:20241011T210000
DTSTAMP:20260420T042750
CREATED:20240912T223042Z
LAST-MODIFIED:20250411T231443Z
UID:10021634-1728673200-1728680400@mcceastbay.org
SUMMARY:Friday Night Boys High School Halaqa | Sidi Quran Hodge
DESCRIPTION:Join MCC Youth Activities Facilitator Sidi Quran Hodge for weekly Friday evening basketball & halaqa sessions for teen high school boys from 9th through 12th grade. \nThese sessions aim to craft our next generation of confident\, faithful Muslim men. These halaqas are for only high school boys only—no younger boys. The sessions are capped at 30 teens. Once limited spots are full\, please join the waitlist. \nPizza is included each week. The first hour is physical activities in the gym (basketball\, flag football\, or soccer)\, and the latter hour is a teen halaqa with Sidi Quran.  \n7 p.m. to 9 p.m. | Fridays | Sep. 20\, 2024 to May 23\, 2025 (with a break in Ramadan ‘25) | $400/person | Register at mcceastbay.org/boys  \nThe MCC has a standing policy that financial need should never hold a family in the East Bay from benefiting from any offering at the MCC facility. To request a financial waiver\, please complete the application at mcceastbay.org/scholarship \nLocation of Friday evening sessions for high school boys in ‘24 and ‘25: \n\n\n\n\n\n– September 20\, 2024\, at MCC East Bay\n– September 27\, 2024\, at MCC East Bay\n– October 4\, 2024\, at Donlon Elementary in Pleasanton\n– October 11\, 202\, at Donlon Elementary in Pleasanton\n– October 18\, 2024\, at Donlon Elementary in Pleasanton\n– October 25\, 2024\, at Donlon Elementary in Pleasanton\n– November 1\, 2024\, at Donlon Elementary in Pleasanton\n– November 8\, 2024\, at Donlon Elementary in Pleasanton\n– November 15\, 2024\, at Donlon Elementary in Pleasanton\n– November 22\, 2024\, at Donlon Elementary in Pleasanton\n– November 29\, 2024 (no session)\n– December 6\, 2024\, at Donlon Elementary in Pleasanton\n– December 13\, 2024\, at Fairlands Elementary School in Pleasanton\n– December 20\, 2024\, at Donlon Elementary in Pleasanton\n– December 27\, 2024 (no session)\n– January 3\, 2025\, at MCC East Bay\n– January 10\, 2025\, location TBA\n– January 17\, 2025\, location TBA\n– January 24\, 2025\, location TBA\n– January 31\, 2025\, Donlon Elementary in Pleasanton\n– February 7\, 2025\, Donlon Elementary in Pleasanton\n– February 14\, 2025\, Donlon Elementary in Pleasanton\n– February 21\, 2025\, location TBA (last session before Ramadan 2025)\n– February 28\, 2025 (no session – join Moonsighting in MCC parking lot)\n– March 7\, 2025 (no session)\n– March 14\, 2025 (no session)\n– March 21\, 2025 (no session)\n– March 28\, 2025 (no session)\n– April 4\, 2025\, at Thomas Hart Middle School\n– April 11\, 2025\, location Amador Valley High School\n– April 18\, 2025\, location Thomas Hart Middle School\n– April 25\, 2025\, location Thomas Hart Middle School\n– May 2\, 2025\, location Thomas Hart Middle School \n– May 9\, 2025\, location Thomas Hart Middle School \n– May 16\, 2025\, location Thomas Hart Middle School \n– May 23\, 2025\, location Thomas Hart Middle School \n\n\n\n\n\nAbout Sidi Quran \nQur’an Hodge is a Bay Area native. He began his Islamic education in 2019\, studying Arabic at the Al Maqasid Seminary in Pennsylvania. Sidi Quran continued to Dar Al Mustafa\, a Yemeni Islamic university in Tarim\, Hadhramaut. At this Islamic seminary founded by Habib Umar bin Hafiz\, Sidi Qur’an studied Ibtidaiyya\, Hadith\, Aqida\, Seerah\, Nahw\, Quran Hifzdh\, Kitaba\, and Tafseer in classical Arabic.  \nSidi Quran has completed certificates in Taleef Collective’s Refining the Core and Zaytuna College’s Permaculture Program. He is passionate about creatively working on community issues\, particularly the challenges Muslim youth face. He lives with his wife and child in Castro Valley. \n\n– More Quran Hodge: https://mcceastbay.org/quran-hodge
URL:https://mcceastbay.org/event/friday-boys-halaqa/2024-10-11/
CATEGORIES:Teen
ATTACH;FMTTYPE=image/jpeg:https://mcceastbay.org/wp-content/uploads/2024/09/Friday-Night-Boys-Halaqa.jpg
ORGANIZER;CN="Muslim Community Center - East Bay":MAILTO:events@mcceastbay.org
END:VEVENT
BEGIN:VEVENT
DTSTART;TZID=America/Los_Angeles:20241011T190000
DTEND;TZID=America/Los_Angeles:20241011T210000
DTSTAMP:20260420T042750
CREATED:20240930T213618Z
LAST-MODIFIED:20241016T180413Z
UID:10021692-1728673200-1728680400@mcceastbay.org
SUMMARY:Middle School Boys Halaqa & Hangout | Sidi Zeeshan Mukhtar
DESCRIPTION:*Due to popular demand\, sessions are full* \nFor middle school boys aged 8-13: Join us over three Fridays in October for a Halaqa and hang-out session to help them make connections and bonds\, form a brotherhood\, and navigate school and social challenges as they grow into young men. \nThese sessions aim to craft our next generation of confident\, faithful Muslim men. These Halaqas are for only ages 8-13—no younger boys. The sessions are capped at 30 teens. Once limited spots are full\, please join the waitlist. \nPizza is included each week. \n7 p.m. to 9 p.m. | Fridays | 10/11\, 10/18 & 10/25 | MCC Banquet Hall | $10/week | Register at mcceastbay.org/boys-hangout \nThe MCC has a standing policy that financial need should never hold a family in the East Bay from benefiting from any offering at the MCC facility. To request a financial waiver\, please complete the application at mcceastbay.org/scholarship \nOur partner SRVIC also hosts a middle school boy’s halaqa in October on Oct 4 and October 11 with Sidi Hasseb Sadat: https://srvic.org/event/boys-pre-teen-halaqa-with-haseeb-sadat/ \nAbout the halaqa facilitators \nAzmat Zeeshan Mukhtar is a local father and mentor from our community who enjoys sports and kids. He will organize the activities and bring on some other dads to help volunteer and make this a rewarding activity for our young Muslim boys. Brother Zeeshan Mukhtar has previously led similar sessions at his son’s school\, and in the past\, he coached flag football for boys at MCC. \nSister Fouzia Alam\, a mother of three boys\, is collaborating to launch the Boys’ Halaqa. She has extensive experience and organized numerous Bay Area enrichment programs.
URL:https://mcceastbay.org/event/halaqa-and-hangout/
LOCATION:MCC East Bay\, 5724 W Las Positas Blvd #300\, Pleasanton\, CA\, 94588\, United States
CATEGORIES:Youth Program
ATTACH;FMTTYPE=image/jpeg:https://mcceastbay.org/wp-content/uploads/2024/09/Friday-Night-Boys-Halaqa-1.jpg
END:VEVENT
END:VCALENDAR