BEGIN:VCALENDAR
VERSION:2.0
PRODID:-//MCC East Bay - ECPv6.15.20//NONSGML v1.0//EN
CALSCALE:GREGORIAN
METHOD:PUBLISH
X-WR-CALNAME:MCC East Bay
X-ORIGINAL-URL:https://mcceastbay.org
X-WR-CALDESC:Events for MCC East Bay
REFRESH-INTERVAL;VALUE=DURATION:PT1H
X-Robots-Tag:noindex
X-PUBLISHED-TTL:PT1H
BEGIN:VTIMEZONE
TZID:America/Los_Angeles
BEGIN:DAYLIGHT
TZOFFSETFROM:-0800
TZOFFSETTO:-0700
TZNAME:PDT
DTSTART:20230312T100000
END:DAYLIGHT
BEGIN:STANDARD
TZOFFSETFROM:-0700
TZOFFSETTO:-0800
TZNAME:PST
DTSTART:20231105T090000
END:STANDARD
BEGIN:DAYLIGHT
TZOFFSETFROM:-0800
TZOFFSETTO:-0700
TZNAME:PDT
DTSTART:20240310T100000
END:DAYLIGHT
BEGIN:STANDARD
TZOFFSETFROM:-0700
TZOFFSETTO:-0800
TZNAME:PST
DTSTART:20241103T090000
END:STANDARD
BEGIN:DAYLIGHT
TZOFFSETFROM:-0800
TZOFFSETTO:-0700
TZNAME:PDT
DTSTART:20250309T100000
END:DAYLIGHT
BEGIN:STANDARD
TZOFFSETFROM:-0700
TZOFFSETTO:-0800
TZNAME:PST
DTSTART:20251102T090000
END:STANDARD
END:VTIMEZONE
BEGIN:VEVENT
DTSTART;TZID=America/Los_Angeles:20241113T183000
DTEND;TZID=America/Los_Angeles:20241113T193000
DTSTAMP:20260421T102827
CREATED:20241024T233915Z
LAST-MODIFIED:20241211T192847Z
UID:10021872-1731522600-1731526200@mcceastbay.org
SUMMARY:Building Healthy Marriages\, Relationships\, and Homes in Islam | Sidi Shahryar Abbasi
DESCRIPTION:Join us for a new 6-week mini-series on Wednesdays\, where we delve into the spiritual and practical aspects of building healthy marriages and relationships according to Islamic teachings. This series is designed to offer insights into creating harmonious homes rooted in Islamic values. \n\nFoundations of Islamic Marriage: Explore the Quranic principles that define marriage as a bond of peace\, love\, and mercy. Understand the significance of equality\, mutual respect\, and shared responsibilities between spouses.\nSpiritual Harmony in Family Life: Explore how spiritual practices like prayer can enhance marital bonds and create a home filled with tranquility and spiritual growth.\nCommunication and Conflict Resolution: Learn effective communication strategies inspired by the Prophet Muhammad (peace be upon him)\, emphasizing kindness\, patience\, and forgiveness as tools for resolving conflicts.\nNurturing Love and Compassion: Discover how to cultivate love that sustains and grows through acts of kindness\, empathy\, and compassion. Understand the importance of maintaining emotional and physical closeness.\nBalancing Rights and Responsibilities: Gain insights into balancing personal rights with responsibilities towards your spouse and family\, fostering an environment of mutual support and accountability.\n\nThis class is ideal for individuals seeking to strengthen their home environments\, marital relationships\, or marriage preparation. By integrating Islamic teachings into daily life\, participants will learn to build homes that reflect the core values of Islam—peace\, love\, and unity. \nWednesdays\, Starts Nov. 6 | 6:30 p.m. to 7:30 p.m. | MCC Conference Room | Join in-person or watch live at mcceastbay.org/live.  \n– More Sidi Shahryar: https://mcceastbay.org/shahryar\n– Sidi Shahryar’s “Building Healthy Relationships” Series: https://mcceastbay.org/harmony\n– Sidi Shahryar’s “Purification of the Heart” Series: https://mcceastbay.org/healing\n Sidi Shahryar’s “The Soul’s Journey” Series: https://mcceastbay.org/journey \n– Sidi Shahryar’s “Real Talk Series”: https://mcceastbay.org/real-talk\n– Sidi Shahryar’s “Traits of the Righteous” Series: https://mcceastbay.org/hallmark\n– Sidi Shahryar’s “Controlling Your Desires” Series: https://mcceastbay.org/desires\n– Sidi Shahryar’s “Soul’s Journey Series: https://mcceastbay.org/journey \nSidi Shahryar is an experienced teacher\, speaker\, mentor\, and coach. He is passionate about helping individuals build healthy relationships and cultivate spiritual growth. He provides practical guidance and insights rooted in Islamic teachings\, while addressing contemporary challenges faced by Western Muslim. Send him questions at: ask.abu.taha@gmail.com and learn more about him at https://www.tiktok.com/@islamic_spirituality.
URL:https://mcceastbay.org/event/harmonious/2024-11-13/
LOCATION:MCC East Bay\, 5724 W Las Positas Blvd #300\, Pleasanton\, CA\, 94588\, United States
CATEGORIES:Family Events
ATTACH;FMTTYPE=image/jpeg:https://mcceastbay.org/wp-content/uploads/2024/10/Sidi-Shahryar-Abbasi-New-Series.jpg
ORGANIZER;CN="Muslim Community Center - East Bay":MAILTO:events@mcceastbay.org
END:VEVENT
END:VCALENDAR