BEGIN:VCALENDAR
VERSION:2.0
PRODID:-//MCC East Bay - ECPv6.15.20//NONSGML v1.0//EN
CALSCALE:GREGORIAN
METHOD:PUBLISH
X-ORIGINAL-URL:https://mcceastbay.org
X-WR-CALDESC:Events for MCC East Bay
REFRESH-INTERVAL;VALUE=DURATION:PT1H
X-Robots-Tag:noindex
X-PUBLISHED-TTL:PT1H
BEGIN:VTIMEZONE
TZID:America/Los_Angeles
BEGIN:DAYLIGHT
TZOFFSETFROM:-0800
TZOFFSETTO:-0700
TZNAME:PDT
DTSTART:20240310T100000
END:DAYLIGHT
BEGIN:STANDARD
TZOFFSETFROM:-0700
TZOFFSETTO:-0800
TZNAME:PST
DTSTART:20241103T090000
END:STANDARD
BEGIN:DAYLIGHT
TZOFFSETFROM:-0800
TZOFFSETTO:-0700
TZNAME:PDT
DTSTART:20250309T100000
END:DAYLIGHT
BEGIN:STANDARD
TZOFFSETFROM:-0700
TZOFFSETTO:-0800
TZNAME:PST
DTSTART:20251102T090000
END:STANDARD
BEGIN:DAYLIGHT
TZOFFSETFROM:-0800
TZOFFSETTO:-0700
TZNAME:PDT
DTSTART:20260308T100000
END:DAYLIGHT
BEGIN:STANDARD
TZOFFSETFROM:-0700
TZOFFSETTO:-0800
TZNAME:PST
DTSTART:20261101T090000
END:STANDARD
END:VTIMEZONE
BEGIN:VEVENT
DTSTART;TZID=America/Los_Angeles:20250208T083000
DTEND;TZID=America/Los_Angeles:20250208T100000
DTSTAMP:20260421T121927
CREATED:20241031T162545Z
LAST-MODIFIED:20250122T054254Z
UID:10021905-1739003400-1739008800@mcceastbay.org
SUMMARY:Women's Weekly Pilates Sessions | Seema Duhan
DESCRIPTION:For Sisters Only: Join us for a transformative body and mind experience every Saturday and Sunday morning with a Professional Yoga and Pilates Instructor. Stretch your muscles\, shape your body\, and relax your mind. \nThe recommended age is 20+ for Pilates Classes. \nSat. (8:30 a.m. to 10 a.m.)  & Sun. (8 a.m. to 9:30 a.m.) | Weekly with a break in Ramadan ‘25 | Conference Room | Max 15 attendees per session | $15/session or $100/monthly | Register at mcceastbay.org/pilates \nPilates Classes\nPilates is based on six principles: breath\, concentration\, center\, control\, precision\, and flow. It is designed to transform muscles and bones while strengthening the core. Regular practice of Pilates not only reshapes the musculoskeletal system but also helps regulate emotions. This class is highly beneficial for individuals over the age of 20 years. Participants will learn how to control muscle movement and maintain poses while regulating their breathing. Regular Pilates practice increases muscle endurance against daily wear and tear and enhances flexibility. Starting age is 20 years. All props will be provided except the Yoga mat and foam roller. \nMCC has a standing policy that financial need should never hold a person back from attending any activity held in the community center. To request a financial waiver\, please complete our financial waiver request: HTTP://mcceastbay.org/scholarship\n\nAbout the Instructor:\nSeema Duhan represented her university in athletics at the national level in India. A health enthusiast\, she began learning yoga and Pilates a few years ago and\, inspired by the transformation in her own body\, decided to teach Pilates and stretching to fellow Muslim sisters to promote body awareness. Seema is currently pursuing her Pilates Instructor certification. \nQuestions? events@mcceastbay.org
URL:https://mcceastbay.org/event/womens-weekly-pilates-4/2025-02-08/
LOCATION:MCC East Bay\, 5724 W Las Positas Blvd #300\, Pleasanton\, CA\, 94588\, United States
CATEGORIES:Sisters Program
ATTACH;FMTTYPE=image/jpeg:https://mcceastbay.org/wp-content/uploads/2024/08/Pilates-Classes-FINAL.jpg
ORGANIZER;CN="Muslim Community Center - East Bay":MAILTO:events@mcceastbay.org
END:VEVENT
BEGIN:VEVENT
DTSTART;TZID=America/Los_Angeles:20250208T100000
DTEND;TZID=America/Los_Angeles:20250208T160000
DTSTAMP:20260421T121927
CREATED:20241219T203927Z
LAST-MODIFIED:20250208T041940Z
UID:10022367-1739008800-1739030400@mcceastbay.org
SUMMARY:Traditional Islamic Calligraphy Workshop With Master Calligrapher Khalid Casado
DESCRIPTION:Embark on a mesmerizing journey into the world of Islamic calligraphy as MCC East Bay hosts: “Sacred Lines: An Introduction to Islamic Calligraphy.” Led by Master Calligrapher Khalid Casado\, this one-day workshop will introduce you to the rich heritage of Islamic calligraphy\, the traditional tools and methods of the art\, and the fundamentals of writing this elegant script.  \nThis class offers a unique opportunity to deepen your appreciation and practice of Islamic calligraphy and is open to all skill levels\, beginners included. Under Ustadh Khalid’s guidance\, students will have ample time to practice writing Islamic calligraphy using traditional writing materials. \nAll materials will be provided\, and registrants will receive a calligraphy starter kit to take home. \nThis full-day workshop will include several hours of practical writing instruction and touch on some elements described during a free Friday evening preceding this workshop. \n10 a.m. to 4 p.m. (Lunch/Zuhr break from 12 p.m. to 1 p.m.) | Saturday\, February 8 | Limited to 30 spots | $80/person | Conference Room | Registration link mcceastbay.org/sacred-lines \nMCC has a standing policy that financial need should never hold a person back from attaining spiritual knowledge within the four walls of the MCC. To request a waiver or decrease in the fee\, please see HTTP://mcceastbay.org/scholarship \nThis workshop will not be recorded or live-streamed. \nPlease also join a free talk with Sidi Khalid on Friday evening: https://mcceastbay.org/event/calligraphy-primer \nQuestions? events@mcceastbay.org \nAbout the Instructor:  \nKhalid Pablo Casado was born and raised in Madrid\, Spain. He studied traditional Arabic calligraphy from 2007 to 2014 in Istanbul under the guidance of some of the greatest masters of our time\, including Nuria Garcia\, Ferhat Kurlu\, and Hasan Celebi. He received his calligraphy ijaza in 2014 and has gone on to continue the silsila (lineage) by teaching his students\, creating calligraphy artwork\, and participating in exhibitions around the world. \nMaster Calligrapher Khalid Casado is a highly accomplished calligrapher and has studied under some of the greatest masters of our time. Learn more att www.instagram.com/sacredlinesart or www.sacred-lines.com
URL:https://mcceastbay.org/event/calligraphy-workshop/
LOCATION:MCC East Bay\, 5724 W Las Positas Blvd #300\, Pleasanton\, CA\, 94588\, United States
ATTACH;FMTTYPE=image/jpeg:https://mcceastbay.org/wp-content/uploads/2024/12/Islamic-Calligraphy-Workshop-1.jpg
ORGANIZER;CN="Muslim Community Center - East Bay":MAILTO:events@mcceastbay.org
END:VEVENT
END:VCALENDAR