BEGIN:VCALENDAR
VERSION:2.0
PRODID:-//MCC East Bay - ECPv6.15.20//NONSGML v1.0//EN
CALSCALE:GREGORIAN
METHOD:PUBLISH
X-ORIGINAL-URL:https://mcceastbay.org
X-WR-CALDESC:Events for MCC East Bay
REFRESH-INTERVAL;VALUE=DURATION:PT1H
X-Robots-Tag:noindex
X-PUBLISHED-TTL:PT1H
BEGIN:VTIMEZONE
TZID:America/Los_Angeles
BEGIN:DAYLIGHT
TZOFFSETFROM:-0800
TZOFFSETTO:-0700
TZNAME:PDT
DTSTART:20240310T100000
END:DAYLIGHT
BEGIN:STANDARD
TZOFFSETFROM:-0700
TZOFFSETTO:-0800
TZNAME:PST
DTSTART:20241103T090000
END:STANDARD
BEGIN:DAYLIGHT
TZOFFSETFROM:-0800
TZOFFSETTO:-0700
TZNAME:PDT
DTSTART:20250309T100000
END:DAYLIGHT
BEGIN:STANDARD
TZOFFSETFROM:-0700
TZOFFSETTO:-0800
TZNAME:PST
DTSTART:20251102T090000
END:STANDARD
BEGIN:DAYLIGHT
TZOFFSETFROM:-0800
TZOFFSETTO:-0700
TZNAME:PDT
DTSTART:20260308T100000
END:DAYLIGHT
BEGIN:STANDARD
TZOFFSETFROM:-0700
TZOFFSETTO:-0800
TZNAME:PST
DTSTART:20261101T090000
END:STANDARD
END:VTIMEZONE
BEGIN:VEVENT
DTSTART;TZID=America/Los_Angeles:20250928T090000
DTEND;TZID=America/Los_Angeles:20250928T100000
DTSTAMP:20260421T092857
CREATED:20250912T213413Z
LAST-MODIFIED:20250912T213414Z
UID:10024025-1759050000-1759053600@mcceastbay.org
SUMMARY:Muslimah Girls Flag Football Team
DESCRIPTION:Sep. 14 session has been canceled. \nFor Girls Ages 12-18: Join us twice a month on Sunday mornings for girls-only flag football sessions. We will start with a short dua\, followed by warm-ups\, drills\, and games.  \nDedicated volunteers lead these sessions in our community. Moms are also welcome to join. \nSunday\, Sep. 14 & 28  | 9 a.m. to 10 a.m. | Emerald High School | Girls Ages 12-18 | $15/session | Register at mcceastbay.org/girls-flag-football \nCapped at 30 participants. \nQuestions? events@mcceastbay.org \nAbout the facilitator: \nBelqees Barethz is an active member of the East Bay community who grew up in the Tri-Valley Area and has enjoyed playing sports from a young age. While most of the other females in the family would be enjoying their time sitting and talking at park gatherings\, Belqees would be out on the field playing volleyball\, football\, or any other sport. Her passion for sports\, particularly flag football\, has led her to initiate these sessions specifically for young Muslimahs. She is excited to offer them to the community for the first time. Belqees is passionate about giving back to the community in one way or another and believes this will be a fun way to bring the youth together insha’Allah.
URL:https://mcceastbay.org/event/girls-flag-football-2-4/
LOCATION:Emerald High School
ATTACH;FMTTYPE=image/jpeg:https://mcceastbay.org/wp-content/uploads/2025/09/Girls-Flag-Football.jpg
ORGANIZER;CN="Muslim Community Center - East Bay":MAILTO:events@mcceastbay.org
END:VEVENT
END:VCALENDAR