BEGIN:VCALENDAR
VERSION:2.0
PRODID:-//MCC East Bay - ECPv6.15.20//NONSGML v1.0//EN
CALSCALE:GREGORIAN
METHOD:PUBLISH
X-WR-CALNAME:MCC East Bay
X-ORIGINAL-URL:https://mcceastbay.org
X-WR-CALDESC:Events for MCC East Bay
REFRESH-INTERVAL;VALUE=DURATION:PT1H
X-Robots-Tag:noindex
X-PUBLISHED-TTL:PT1H
BEGIN:VTIMEZONE
TZID:America/Los_Angeles
BEGIN:DAYLIGHT
TZOFFSETFROM:-0800
TZOFFSETTO:-0700
TZNAME:PDT
DTSTART:20240310T100000
END:DAYLIGHT
BEGIN:STANDARD
TZOFFSETFROM:-0700
TZOFFSETTO:-0800
TZNAME:PST
DTSTART:20241103T090000
END:STANDARD
BEGIN:DAYLIGHT
TZOFFSETFROM:-0800
TZOFFSETTO:-0700
TZNAME:PDT
DTSTART:20250309T100000
END:DAYLIGHT
BEGIN:STANDARD
TZOFFSETFROM:-0700
TZOFFSETTO:-0800
TZNAME:PST
DTSTART:20251102T090000
END:STANDARD
BEGIN:DAYLIGHT
TZOFFSETFROM:-0800
TZOFFSETTO:-0700
TZNAME:PDT
DTSTART:20260308T100000
END:DAYLIGHT
BEGIN:STANDARD
TZOFFSETFROM:-0700
TZOFFSETTO:-0800
TZNAME:PST
DTSTART:20261101T090000
END:STANDARD
END:VTIMEZONE
BEGIN:VEVENT
DTSTART;TZID=America/Los_Angeles:20251106T100000
DTEND;TZID=America/Los_Angeles:20251106T110000
DTSTAMP:20260420T191845
CREATED:20251007T172903Z
LAST-MODIFIED:20251007T172904Z
UID:10024134-1762423200-1762426800@mcceastbay.org
SUMMARY:Mommy & Me Fall–Winter 2025 Session | MCC's Mommy & Me Program
DESCRIPTION:In this five-week session\, our toddlers and pre-schoolers (ages 1-5) will develop love for Islam\, Allah (swt)\, and RasulAllah (saw) through book reading\, sing-alongs\, Parachute Time\, activities\, and more! \nThursdays: 10/23\, 10/30\, 11/06\, 11/13\, & 11/20 | Saturday: 11/08 | 10 a.m. to 11 a.m. | Conference Room or Prayer Hall | $75 for 5 sessions\, or $20 per session | Register at mcceastbay.org/happyhearts \nThese Mommy & Me sessions are designed for girls and boys ages one to four who are accompanied by a female guardian. Moms\, grandmothers\, and so on are welcome. This is also a great opportunity to connect with other moms and caretakers in the MCC community. \nOur Mommy and Me sessions begin with dua and a salaam/greeting song and end with the Fi-Amanillah song and kid-favorite parachute time. \nQuestions? Happy Hearts Playgroup Facilitator Sr. Khadija at mommyandme@mcceastbay.org \nMCC has a standing policy that financial need should never hold a person back from attending any activity held in the community center. To request a financial waiver\, please complete our financial waiver request: HTTP://mcceastbay.org/scholarship
URL:https://mcceastbay.org/event/mommy-me-fall-winter-2025/2025-11-06/
LOCATION:MCC East Bay\, 5724 W Las Positas Blvd #300\, Pleasanton\, CA\, 94588\, United States
CATEGORIES:Sisters Program,Young Children
ATTACH;FMTTYPE=image/jpeg:https://mcceastbay.org/wp-content/uploads/2025/10/Fall-Winter-Happy-Hearts.jpg
ORGANIZER;CN="Muslim Community Center - East Bay":MAILTO:events@mcceastbay.org
END:VEVENT
BEGIN:VEVENT
DTSTART;TZID=America/Los_Angeles:20251106T183000
DTEND;TZID=America/Los_Angeles:20251106T200000
DTSTAMP:20260420T191845
CREATED:20251002T222419Z
LAST-MODIFIED:20260215T155236Z
UID:10024814-1762453800-1762459200@mcceastbay.org
SUMMARY:Purification of the Heart – Men’s Book Club
DESCRIPTION:Join us for a weekly book club and discussion group as we collectively strive to purify our hearts and grow closer to Allah through understanding and treating the spiritual diseases that afflict us all. We will read and reflect on Hamza Yusuf’s translation and commentary of Imam Mawlud’s classical work\, Purification of the Heart: Signs\, Symptoms\, and Cures of the Spiritual Diseases of the Heart. \nEach session will cover one chapter\, including group discussions and reflections on heart diseases and their treatments. \nWhile we encourage consistent attendance for shared reflection and continuity\, each session is self-contained\, and participants are welcome to drop in even if they cannot commit to attending every week. Sidi Mohammed Kaddoura facilitates this group. \nStarts October 16 | Thursdays | 6:30 p.m. – 8:00 p.m. | Conference Room | In-person only \nClass Schedule: Tracking Chapters: Purification of the Heart– Men’s Book Club \nDisclaimer: This book club is intended to stimulate thought and reflection\, not to teach deen. It is not a fiqh or aqidah class. \nDiscussion Group Guidelines \n\nEveryone has something to say; everyone has something to learn.\n\nShy participants are encouraged to contribute.\nTalkative participants are encouraged to listen more.\n\n\nConfidentiality is essential.\n\nDo not share other participants’ reflections outside the group. It’s okay to say\, “someone in my book club made me think about…” but not “so-and-so said…”\n\n\nGive 70 excuses.\n\nAssume good intentions. If disagreements arise\, remember our shared goal is growth. We leave differences in the room and continue with brotherhood outside of it.\n\n\nMaintain emotional awareness.\n\nThe topics we discuss may evoke strong emotions. All participants are expected to remain calm\, respectful\, and emotionally intelligent. Please avoid getting carried away in conversation. Proper etiquette is required at all times.\n\n\n\nBook Purchase \nPlease purchase the book in advance if you want to follow along. Available at: \n\nAmazon: https://www.amazon.com/Purification-Heart-Symptoms-Spiritual-Diseases/dp/1929694156\nZaytuna Bookstore: https://bookstore.zaytuna.edu/products/purificationoftheheart\n\nAbout the Book \nThis exploration of Islamic spirituality delves into the psychological diseases and cures of the heart. The causes and practical cures of these diseases are discussed\, offering a penetrating glimpse into how Islam deals with spiritual and psychological problems and demonstrating how all people can benefit from these teachings. \n\nAuthor: Imam Mawlud (translated and with extensive commentary by Hamza Yusuf) \nAbout the Translator \nHamza Yusuf is an American Islamic scholar and co-founder of Zaytuna College\, the first accredited Muslim liberal arts college in the United States. He is one of the most influential Islamic educators in the Western world\, known for his ability to bridge traditional Islamic scholarship with contemporary issues. \nQuestions? events@mcceastbay.org \n\n\n\n\n\n\nOctober – 16\nWelcome & Book Overview\n\n\nOctober – 23\nIntroduction to Purification\n\n\nOctober – 30\nMiserliness\n\n\nNovember – 06\nNo Meeting\n\n\nNovember – 13\nWantoness\n\n\nNovember – 20\nHatred\n\n\nNovember – 27\nNo Meeting – Thanksgiving\n\n\nDecember – 04\nIniquity\n\n\nDecember – 11\nLove of the World\n\n\nDecember – 18\nEnvy\n\n\nDecember – 25\nNo Meeting – Christmas\n\n\nJanuary – 01\nNo Meeting – New Year’s Day\n\n\nJanuary – 08\nBlameworthy Modesty\n\n\nJanuary – 15\nFantasizing\n\n\nJanuary – 22\nFear of Poverty\n\n\nJanuary – 29\nOstentation\n\n\nFebruary – 05\nRelying on Other than God\n\n\nFebruary – 12\nDispleasure with Divine Decree\n\n\nFebruary – 19\nNo Meeting – Ramadan\n\n\nFebruary – 26\nNo Meeting – Ramadan\n\n\nMarch – 05\nNo Meeting – Ramadan\n\n\nMarch – 12\nNo Meeting – Ramadan\n\n\nMarch – 19\nNo Meeting – Ramadan
URL:https://mcceastbay.org/event/purification-of-the-heart-bookclub/2025-11-06/
LOCATION:MCC East Bay\, 5724 W Las Positas Blvd #300\, Pleasanton\, CA\, 94588\, United States
CATEGORIES:Men's Activities
ATTACH;FMTTYPE=image/jpeg:https://mcceastbay.org/wp-content/uploads/2025/10/Mens-Book-Club-Purification-of-the-Heart.jpg
ORGANIZER;CN="Muslim Community Center - East Bay":MAILTO:events@mcceastbay.org
END:VEVENT
BEGIN:VEVENT
DTSTART;TZID=America/Los_Angeles:20251106T183000
DTEND;TZID=America/Los_Angeles:20251106T200000
DTSTAMP:20260420T191845
CREATED:20251103T170722Z
LAST-MODIFIED:20251106T205728Z
UID:10024091-1762453800-1762459200@mcceastbay.org
SUMMARY:*Canceled* Purification of the Heart – Men’s Book Club
DESCRIPTION:Canceled this week. Instead\, join Remembering the Beloved ﷺ with Shaykh Yahya Rhodus this Thursday at 8 p.m. \nJoin us for a weekly book club and discussion group as we collectively strive to purify our hearts and grow closer to Allah through understanding and treating the spiritual diseases that afflict us all. We will read and reflect on Hamza Yusuf’s translation and commentary of Imam Mawlud’s classical work\, Purification of the Heart: Signs\, Symptoms\, and Cures of the Spiritual Diseases of the Heart. \nEach session will cover one chapter\, including group discussions and reflections on the diseases of the heart and their cures. \nWhile we encourage consistent attendance for the benefit of shared reflection and continuity\, each session is self-contained\, and participants are welcome to drop in even if they cannot commit to every week. Sidi Mohammed Kaddoura facilitates this group. \nStarts October 16 | Thursdays | 6:30 p.m. – 8:00 p.m. | Conference Room | In-person only \nClass Schedule: Tracking Chapters: Purification of the Heart– Men’s Book Club \n\nDisclaimer  \nThis book club is intended to stimulate thought and reflection\, not to teach deen. It is not a fiqh or aqidah class. \n  \nDiscussion Group Guidelines \n\nEveryone has something to say; everyone has something to learn.\n\nShy participants are encouraged to contribute.\nTalkative participants are encouraged to listen more.\n\n\nConfidentiality is essential.\n\nDo not share other participants’ reflections outside the group. It’s okay to say\, “someone in my book club made me think about…” but not “so-and-so said…”\n\n\nGive 70 excuses.\n\nAssume good intentions. If disagreements arise\, remember our shared goal is growth. We leave differences in the room and continue with brotherhood outside of it.\n\n\nMaintain emotional awareness.\n\nThe topics we discuss may evoke strong emotions. All participants are expected to remain calm\, respectful\, and emotionally intelligent. Please avoid getting carried away in conversation. Proper etiquette is required at all times.\n\n\n\nBook Purchase \nPlease purchase the book in advance if you want to follow along. Available at: \nAmazon: https://www.amazon.com/Purification-Heart-Symptoms-Spiritual-Diseases/dp/1929694156 \nZaytuna Bookstore: https://bookstore.zaytuna.edu/products/purificationoftheheart \nAbout the Book \nThis exploration of Islamic spirituality delves into the psychological diseases and cures of the heart. The causes and practical cures of these diseases are discussed\, offering a penetrating glimpse into how Islam deals with spiritual and psychological problems and demonstrating how all people can benefit from these teachings. \n\nAuthor: Imam Mawlud (translated and with extensive commentary by Hamza Yusuf) \n  \nAbout the Translator \nHamza Yusuf is an American Islamic scholar and co-founder of Zaytuna College\, the first accredited Muslim liberal arts college in the United States. He is one of the most influential Islamic educators in the Western world\, known for his ability to bridge traditional Islamic scholarship with contemporary issues. \n  \nQuestions? events@mcceastbay.org
URL:https://mcceastbay.org/event/purification-of-the-heart-bookclub-3/
LOCATION:MCC East Bay\, 5724 W Las Positas Blvd #300\, Pleasanton\, CA\, 94588\, United States
CATEGORIES:Men's Activities
ATTACH;FMTTYPE=image/jpeg:https://mcceastbay.org/wp-content/uploads/2025/10/Mens-Book-Club-Purification-of-the-Heart.jpg
ORGANIZER;CN="Muslim Community Center - East Bay":MAILTO:events@mcceastbay.org
END:VEVENT
BEGIN:VEVENT
DTSTART;TZID=America/Los_Angeles:20251106T200000
DTEND;TZID=America/Los_Angeles:20251106T223000
DTSTAMP:20260420T191845
CREATED:20251028T184815Z
LAST-MODIFIED:20251107T045859Z
UID:10024174-1762459200-1762468200@mcceastbay.org
SUMMARY:Remembering the Beloved ﷺ  | Shaykh Yahya Rhodus
DESCRIPTION:Join us for an inspiring evening of remembrance with our beloved teacher\, Shaykh Yahya Rhodus\, to connect the listener to the Prophet ﷺ and his teachings. The more we know about his life\, character\, and way\, the more we will come to love and follow the one beloved to Allah. PDF for gathering: https://bit.ly/39mLNXV \nThursday\, November 6\, 2025 | 8 p.m. (after Isha prayers) to 10:30 p.m. | MCC Prayer Hall | Join us in-person or virtually at mcceastbay.org/live \nShaykh Yahya is joined in this gathering by our beloved Bay Area teachers\, Qari Amar Bellaha\, Qari Tayeb Bouamama\, and Sidi Mahdy Amine. This program includes a recitation of the prophetic biography in poetry form\, followed by a counsel intended PDF for gathering: https://bit.ly/39mLNXV \nOn Saturday\, Nov. 8\, 2025\, Shaykh Rhodus will also give a free workshop at MCC about the traits of the righteous. Learn more at: https://mcceastbay.org/event/traits-of-righteous \n“Prayer itself orients and situates us\, just as these gatherings do. Every time we come together\, it is an opportunity for us to realign\, to reset\, to remind ourselves of what is truly important.” – Shaykh Yahya Rhodus \nQuestions? events@mcceastbay.org \nAbout Shaykh Yahya \nOne of the most well-respected Muslim scholars in the Western world\, Shaykh Yahya Rhodus\, has spent the best part of two decades studying at some of the most prestigious learning institutions in the Muslim and Western worlds. \nHaving embraced Islam at 19 in Santa Clara\, California\, he immediately began studying the Islamic sciences with Shaykh Hamza Yusuf and visiting Mauritanian scholars\, such as Shaykh Khatri Wuld Bayba and Shaykh Abd Allah Wuld Ahmadna. Shortly thereafter\, he traveled to Mauritania to pursue a full-time course of study where he could learn from one of Mauritania’s most outstanding scholars\, Murabit al-Hajj. Following an interim study period in Damascus\, Syria\, Shaykh Yahya spent the best part of seven years in Tarim\, in the Hadramawt Valley of Yemen. There\, he studied at the reputable school\, Dar al-Mustafa\, with the renowned scholars Habib Umar bin Hafiz and Habib Ali al-Jifri. \nSince then\, Shaykh Yahya has been the official translator for Habib Umar and Habib Ali at various international speaking engagements\, including the Common Word Conference held at Yale University in 2008. Upon returning to the United States\, Shaykh Yahya was a full-time instructor at Zaytuna College. He has a B.A. in Near Eastern Studies from UC Berkeley and an M.A. in Islamic Studies from the Graduate Theological Union. He is pursuing a Ph.D. in Theology and Religious Studies at the University of Cambridge\, England\, in collaboration with Dr. Tim Winter (Shaykh Abdal Hakim Murad). \nHe is the Founding Director of al-Maqasid\, where he is a full-time scholar and teacher. Al-Maqasid’s mission is to cultivate holistic learning environments rooted in knowledge\, devotion\, and service by providing full-time\, part-time\, online\, and community programs. \n\n– More Sheikh Yahya: http://mcceastbay.org/yahya
URL:https://mcceastbay.org/event/remembering-the-beloved/
LOCATION:MCC East Bay\, 5724 W Las Positas Blvd #300\, Pleasanton\, CA\, 94588\, United States
CATEGORIES:Family Events
ATTACH;FMTTYPE=image/jpeg:https://mcceastbay.org/wp-content/uploads/2025/10/v3-Shaykh-Yahya-Thursday.jpg
END:VEVENT
END:VCALENDAR