BEGIN:VCALENDAR
VERSION:2.0
PRODID:-//MCC East Bay - ECPv6.15.20//NONSGML v1.0//EN
CALSCALE:GREGORIAN
METHOD:PUBLISH
X-WR-CALNAME:MCC East Bay
X-ORIGINAL-URL:https://mcceastbay.org
X-WR-CALDESC:Events for MCC East Bay
REFRESH-INTERVAL;VALUE=DURATION:PT1H
X-Robots-Tag:noindex
X-PUBLISHED-TTL:PT1H
BEGIN:VTIMEZONE
TZID:America/Los_Angeles
BEGIN:DAYLIGHT
TZOFFSETFROM:-0800
TZOFFSETTO:-0700
TZNAME:PDT
DTSTART:20250309T100000
END:DAYLIGHT
BEGIN:STANDARD
TZOFFSETFROM:-0700
TZOFFSETTO:-0800
TZNAME:PST
DTSTART:20251102T090000
END:STANDARD
BEGIN:DAYLIGHT
TZOFFSETFROM:-0800
TZOFFSETTO:-0700
TZNAME:PDT
DTSTART:20260308T100000
END:DAYLIGHT
BEGIN:STANDARD
TZOFFSETFROM:-0700
TZOFFSETTO:-0800
TZNAME:PST
DTSTART:20261101T090000
END:STANDARD
BEGIN:DAYLIGHT
TZOFFSETFROM:-0800
TZOFFSETTO:-0700
TZNAME:PDT
DTSTART:20270314T100000
END:DAYLIGHT
BEGIN:STANDARD
TZOFFSETFROM:-0700
TZOFFSETTO:-0800
TZNAME:PST
DTSTART:20271107T090000
END:STANDARD
END:VTIMEZONE
BEGIN:VEVENT
DTSTART;TZID=America/Los_Angeles:20260208T080000
DTEND;TZID=America/Los_Angeles:20260208T103000
DTSTAMP:20260420T124343
CREATED:20260129T202413Z
LAST-MODIFIED:20260131T175934Z
UID:10024765-1770537600-1770546600@mcceastbay.org
SUMMARY:Monthly Sisterhood Hike  | Sisters in the Outdoors
DESCRIPTION:Join us at 8 a.m. on Sunday\, Feb. 8\, for a hike at Sycamore Grove Park in Livermore to get to know other sisters in the community and enjoy the great outdoors. No children\, please (female teens\, okay). Let us know you are coming: https://mcceastbay.org/rsvp \nIf sisters want to walk around more\, they can do it depending on their interest/time. The hike will be canceled if there are not enough RSVPs or depending on the weather. \n\n– When: Sunday\, Feb. 8\n– Time: 8 a.m. to 10:30 a.m. – Please arrive a little early to park and find the group. The group can wait till 8:15 a.m. and will start the hike. Please be on time\, since we cannot hold the group.\n– Carpool: We highly recommend carpooling. No carpool is available from MCC for this hike. Carpooling encouraged others on this hike. Please note that cell phone service is not available at the parking lot\, so we kindly request that you arrive on time.\n– Parking: If the gate is closed\, roadside parking is available.\n– Meeting Point: Valley Viewpoint and Harrier Trail\n– Trail: Valley Viewpoint and Harrier Trail\n– Distance: 5.6 miles\n– Difficulty: Moderate\n– Misc: Wear hiking shoes if possible. Bring a small breakfast/ Lunch sandwich or something to eat. Carry enough water\, a hat\, and a light jacket. Please download All Trails map (free version) in case you decide to return in the middle of the hike. This will be very helpful in navigating back to the parking lot.\n– RSVP: By Saturday\, Feb. 7th\, please let us know you are coming for this hike: https://mcceastbay.org/rsvp\n\nSr. Aparna Khan and Sr. Sohaila will be leading this hike. If you have trouble finding the group on the day of the hike\, please call or text Sr. Aparna at (408) 480-6584 or Sr. Sohaila at (925) 786-7698. Please remember that we cannot hold all the group\, so we request you to please be on time. \nFor future hikes\, please subscribe to the MCC newsletter and/or add your phone number to the Women’s Hiking WhatsUp group. \nPlease wear comfortable walking/hiking shoes\, carry a water bottle\, a small snack\, a hat\, sunglasses\, and hiking poles if you have one.  \nQuestions? hiking@mcceastbay.org \nAbout this trail: \nSycamore Grove Park features several trails and dirt roads that wind through open\, grassy meadows above the Arroyo Del Valle. This route begins at the Ranger Amy Amphitheater to the south. The Harrier Trail is an extension of the Valley View Trail\, a short\, winding trail. Bring water and a hat\, and be sure to protect yourself from the sun.
URL:https://mcceastbay.org/event/monthly-sisterhood-hike-13/
LOCATION:Sycamore Grove Park\, 1051 Wetmore Rd\, Livermore\, California\, 94550
CATEGORIES:Sisters Program,Women's Activities
ATTACH;FMTTYPE=image/jpeg:https://mcceastbay.org/wp-content/uploads/2026/01/Monthly-Sisterhood-Hike-1.jpg
ORGANIZER;CN="Muslim Community Center - East Bay":MAILTO:events@mcceastbay.org
END:VEVENT
BEGIN:VEVENT
DTSTART;TZID=America/Los_Angeles:20260208T140000
DTEND;TZID=America/Los_Angeles:20260208T180000
DTSTAMP:20260420T124343
CREATED:20260207T000821Z
LAST-MODIFIED:20260207T000821Z
UID:10024789-1770559200-1770573600@mcceastbay.org
SUMMARY:Private Event
DESCRIPTION:Banquet Hall
URL:https://mcceastbay.org/event/private-event-ma/
LOCATION:MCC East Bay\, 5724 W Las Positas Blvd #300\, Pleasanton\, CA\, 94588\, United States
ATTACH;FMTTYPE=image/png:https://mcceastbay.org/wp-content/uploads/2024/06/private-event-masjid.png
END:VEVENT
BEGIN:VEVENT
DTSTART;TZID=America/Los_Angeles:20260208T173000
DTEND;TZID=America/Los_Angeles:20260208T193000
DTSTAMP:20260420T124343
CREATED:20260123T010155Z
LAST-MODIFIED:20260216T114045Z
UID:10024698-1770571800-1770579000@mcceastbay.org
SUMMARY:Mawlid: Hearts Connected | Ta'leef Collective
DESCRIPTION:﻿ \nJoin us Sunday nights at 5:30 p.m. from January 18\, 2026\, to February 15\, 2026\, for evenings of remembrance\, reflection\, and community\, as MCC East Bay temporarily hosts Ta’leef Collective’s long-running weekly Mawlid. \nSidi Mahdy Amine is our special guest speaker on Sunday\, January 25\, 2026. \nGather to connect your heart to the Prophet ﷺ\, to God\, and to God’s servants. This gathering has been lovingly sustained for over 20 years by dedicated volunteers\, munshids\, and teachers. Each week will feature reflections from esteemed guest teachers. Join us and keep the connections alive. \n5:30 p.m. to 7:30 p.m. | Sundays | Jan. 18 to Feb. 15 | MCC Conference Room | Please join in person or watch virtually at mcceastbay.org/live \nSponsored by Taleef Collective & MCC East Bay. \nAhead of Ramadan ’26\, MCC is temporarily hosting five weeks of Ta’leef Collective’s weekly Mawlid\, a beautiful gathering of community & remembrance that has been held for more than 20 years for the East Bay Muslim community. Please join us on: \n\nSunday\, January 18\, 2026\nSunday\, January 25\, 2026\nSunday\, February 1\, 2026\nSunday\, February 8\, 2026\nSunday\, February 15\, 2026\n\nQuestions? events@mcceastbay.org \nMahdy Amine is a Zaytuna College alumnus and practicing attorney. Ustadh Mahdi also teaches Islamic Studies at ILM Tree\, and he serves as Convert Care Coordinator for Ta’leef Collective. \n“I want people to feel the true beauty of Islam when they encounter Ta’leef. Was not our Prophet (upon him peace and blessings) the radiant embodiment of outer and inner beauty? One who saw him was in awe\, and one who knew him fell in love. I hope Taleef translates that experiential beauty to a relevant American context while honoring the ethos and principles of the rich Islamic tradition.”  \n– More Ustadh Mahdi: https://mcceastbay.org/mahdy \nFrom Taleef: \nDear Ta’leef community\,\nAsalaamu alaykum.\nPeace and blessings to you all. \nWe invite you to join us this coming Sunday\, January 11th\, for the last Mawlid gathering in the Main Hall of our Fremont campus. Please bring your family and friends to fill the room as we honor 17 years of memories and look forward to the journey ahead. \nSince 2008\, this space has been a cherished sanctuary for Ta’leef\, holding countless memories of shahadas\, weddings\, and spiritual growth. This Sunday is a moment to gather in gratitude\, honoring all that this community has built here over nearly two decades. \nThe current property development plans for the building will necessitate our temporary relocation. Our landlord has generously offered to work with us to ensure a smooth transition\, including the potential use of the warehouse in the near future after construction. \nWe want to express our profound gratitude to our landlords. Their immense generosity has provided Ta’leef with a home in Fremont to serve our community for many years\, for which we pray that Allah rewards them immensely. \nIn the meantime\, MCC East Bay has graciously offered to temporarily host Ta’leef’s Mawlid for a few weeks beginning January 18th. \nMay Allah facilitate ease throughout this process\, and we look forward to gathering this Sunday to unite our hearts through the love of the Prophet (AS). \nWith gratitude\,\nThe Ta’leef Board of Directors
URL:https://mcceastbay.org/event/taleef-mawlid-2/2026-02-08/
LOCATION:MCC East Bay\, 5724 W Las Positas Blvd #300\, Pleasanton\, CA\, 94588\, United States
CATEGORIES:Community,Family Events
ATTACH;FMTTYPE=image/jpeg:https://mcceastbay.org/wp-content/uploads/2026/01/2revised-Taleef-Mawlid.jpg
ORGANIZER;CN="Muslim Community Center - East Bay":MAILTO:events@mcceastbay.org
END:VEVENT
END:VCALENDAR