BEGIN:VCALENDAR
VERSION:2.0
PRODID:-//MCC East Bay - ECPv6.15.20//NONSGML v1.0//EN
CALSCALE:GREGORIAN
METHOD:PUBLISH
X-WR-CALNAME:MCC East Bay
X-ORIGINAL-URL:https://mcceastbay.org
X-WR-CALDESC:Events for MCC East Bay
REFRESH-INTERVAL;VALUE=DURATION:PT1H
X-Robots-Tag:noindex
X-PUBLISHED-TTL:PT1H
BEGIN:VTIMEZONE
TZID:America/Los_Angeles
BEGIN:DAYLIGHT
TZOFFSETFROM:-0800
TZOFFSETTO:-0700
TZNAME:PDT
DTSTART:20200308T100000
END:DAYLIGHT
BEGIN:STANDARD
TZOFFSETFROM:-0700
TZOFFSETTO:-0800
TZNAME:PST
DTSTART:20201101T090000
END:STANDARD
BEGIN:DAYLIGHT
TZOFFSETFROM:-0800
TZOFFSETTO:-0700
TZNAME:PDT
DTSTART:20210314T100000
END:DAYLIGHT
BEGIN:STANDARD
TZOFFSETFROM:-0700
TZOFFSETTO:-0800
TZNAME:PST
DTSTART:20211107T090000
END:STANDARD
BEGIN:DAYLIGHT
TZOFFSETFROM:-0800
TZOFFSETTO:-0700
TZNAME:PDT
DTSTART:20220313T100000
END:DAYLIGHT
BEGIN:STANDARD
TZOFFSETFROM:-0700
TZOFFSETTO:-0800
TZNAME:PST
DTSTART:20221106T090000
END:STANDARD
END:VTIMEZONE
BEGIN:VEVENT
DTSTART;TZID=America/Los_Angeles:20210730T130000
DTEND;TZID=America/Los_Angeles:20210730T160000
DTSTAMP:20260419T134614
CREATED:20210710T114802Z
LAST-MODIFIED:20210710T114802Z
UID:10014736-1627650000-1627660800@mcceastbay.org
SUMMARY:Community E-waste Recycling Drive
DESCRIPTION:Pack up those unwanted items and bring them to the MCC parking lot during Jumu’ah (1 p.m. to 4 p.m.) on Friday\, July 30. \nWorking and nonworking e-waste items can include: monitors\, TVs\, computers\, servers\, laptops\, cell phones\, telecom equipment\, wire/cable\, PC boards\, stereo components and video game players\, computer mice\, keyboards\, printers\, fax & copy machines\, toner and ink cartridges\, stereo equipment\, VCRs\, DVD/CD/MP3 players\, microwave ovens and small appliances. You can also recycle old televisions\, computers\, wires and cables. \nAs you’ve been spending more time at home during this global pandemic\, you may have come across items that need to be recycled. This is a great opportunity to make more space in your home for the things that matter more to you and benefit our needy neighbors \nHazardous waste (fluorescent lights\, alkaline batteries\, propane tanks\, helium tanks\, chemical storage containers or any items with freon or other gas) will NOT be accepted. \nHelp MCC and our environment at the same time. The money raised from this event helps social services to our needy East Bay neighbors. \nOrganized by Milpitas Musallah‘s social services team and MCC East Bay \nQuestions? events@mcceastbay.org
URL:https://mcceastbay.org/event/ewaste/
LOCATION:MCC East Bay\, 5724 W Las Positas Blvd #300\, Pleasanton\, CA\, 94588\, United States
CATEGORIES:Charity & Community Service
ATTACH;FMTTYPE=image/png:https://mcceastbay.org/wp-content/uploads/2024/06/07.30.21-Recycle-Your-E-Waste_-.png
ORGANIZER;CN="Muslim Community Center - East Bay":MAILTO:events@mcceastbay.org
END:VEVENT
END:VCALENDAR