BEGIN:VCALENDAR
VERSION:2.0
PRODID:-//MCC East Bay - ECPv6.15.20//NONSGML v1.0//EN
CALSCALE:GREGORIAN
METHOD:PUBLISH
X-WR-CALNAME:MCC East Bay
X-ORIGINAL-URL:https://mcceastbay.org
X-WR-CALDESC:Events for MCC East Bay
REFRESH-INTERVAL;VALUE=DURATION:PT1H
X-Robots-Tag:noindex
X-PUBLISHED-TTL:PT1H
BEGIN:VTIMEZONE
TZID:America/Los_Angeles
BEGIN:DAYLIGHT
TZOFFSETFROM:-0800
TZOFFSETTO:-0700
TZNAME:PDT
DTSTART:20230312T100000
END:DAYLIGHT
BEGIN:STANDARD
TZOFFSETFROM:-0700
TZOFFSETTO:-0800
TZNAME:PST
DTSTART:20231105T090000
END:STANDARD
BEGIN:DAYLIGHT
TZOFFSETFROM:-0800
TZOFFSETTO:-0700
TZNAME:PDT
DTSTART:20240310T100000
END:DAYLIGHT
BEGIN:STANDARD
TZOFFSETFROM:-0700
TZOFFSETTO:-0800
TZNAME:PST
DTSTART:20241103T090000
END:STANDARD
BEGIN:DAYLIGHT
TZOFFSETFROM:-0800
TZOFFSETTO:-0700
TZNAME:PDT
DTSTART:20250309T100000
END:DAYLIGHT
BEGIN:STANDARD
TZOFFSETFROM:-0700
TZOFFSETTO:-0800
TZNAME:PST
DTSTART:20251102T090000
END:STANDARD
END:VTIMEZONE
BEGIN:VEVENT
DTSTART;TZID=America/Los_Angeles:20241018T133000
DTEND;TZID=America/Los_Angeles:20241018T160000
DTSTAMP:20260419T190321
CREATED:20241001T165243Z
LAST-MODIFIED:20241006T151402Z
UID:10021748-1729258200-1729267200@mcceastbay.org
SUMMARY:North American Bangladeshi Islamic Community (NABIC) Tables @ MCC Jumu'ahs
DESCRIPTION:Since 1990\, the North American Bangladeshi Islamic Community (NABIC) has worked to improve the living conditions of society’s most vulnerable and needy members through diverse projects in healthcare\, education\, and emergency relief. \nA response team is currently on the ground in Bangladesh\, assisting in flood relief efforts and raising funds for relief efforts. Visit their table this Friday to learn how you can support their efforts.
URL:https://mcceastbay.org/event/north-american-bangladeshi-islamic-community-nabic-tables-mcc-jumuahs/
LOCATION:CA
CATEGORIES:Charity & Community Service
ATTACH;FMTTYPE=image/jpeg:https://mcceastbay.org/wp-content/uploads/2024/10/nabic-banner.jpg
END:VEVENT
END:VCALENDAR