BEGIN:VCALENDAR
VERSION:2.0
PRODID:-//MCC East Bay - ECPv6.15.20//NONSGML v1.0//EN
CALSCALE:GREGORIAN
METHOD:PUBLISH
X-WR-CALNAME:MCC East Bay
X-ORIGINAL-URL:https://mcceastbay.org
X-WR-CALDESC:Events for MCC East Bay
REFRESH-INTERVAL;VALUE=DURATION:PT1H
X-Robots-Tag:noindex
X-PUBLISHED-TTL:PT1H
BEGIN:VTIMEZONE
TZID:America/Los_Angeles
BEGIN:DAYLIGHT
TZOFFSETFROM:-0800
TZOFFSETTO:-0700
TZNAME:PDT
DTSTART:20220313T100000
END:DAYLIGHT
BEGIN:STANDARD
TZOFFSETFROM:-0700
TZOFFSETTO:-0800
TZNAME:PST
DTSTART:20221106T090000
END:STANDARD
BEGIN:DAYLIGHT
TZOFFSETFROM:-0800
TZOFFSETTO:-0700
TZNAME:PDT
DTSTART:20230312T100000
END:DAYLIGHT
BEGIN:STANDARD
TZOFFSETFROM:-0700
TZOFFSETTO:-0800
TZNAME:PST
DTSTART:20231105T090000
END:STANDARD
BEGIN:DAYLIGHT
TZOFFSETFROM:-0800
TZOFFSETTO:-0700
TZNAME:PDT
DTSTART:20240310T100000
END:DAYLIGHT
BEGIN:STANDARD
TZOFFSETFROM:-0700
TZOFFSETTO:-0800
TZNAME:PST
DTSTART:20241103T090000
END:STANDARD
END:VTIMEZONE
BEGIN:VEVENT
DTSTART;TZID=America/Los_Angeles:20230722T120000
DTEND;TZID=America/Los_Angeles:20230722T130000
DTSTAMP:20260419T175327
CREATED:20230607T234441Z
LAST-MODIFIED:20241010T233925Z
UID:10020167-1690027200-1690030800@mcceastbay.org
SUMMARY:"Islamicate Impressionism" | Artist Safia Latif
DESCRIPTION: \n\n\n\n\nJoin us for an afternoon exploring breathtaking and inspiring Islamic art with artist Safia Latif\, unraveling their meanings and how she is using art to recreate Islamic narrative. \n\n\n\n12 p.m. to 1 p.m. | Saturday\, July 22 | Conference Room | Join in person or watch live at mcceastbay.org/live | Free; no registration requiredSafia Latif is an oil painter based in California. Her work creatively reimagines Islamic narratives and concepts using visible brushwork and an emphasis on light and color. Latif has pioneered the practice of “Islamicate Impressionism\,” a novel style that is recognizably painterly and conceptually draws on the social and cultural phenomena associated with the Muslim world from Morocco to Indonesia. Latif’s work emerges as a departure from traditional Islamic art known for hyperdetailed miniature paintings and calligraphic and arabesque designs. Instead\, she focuses on visual sensations of Islamic themes\, highlighting the inherently cosmopolitan nature of Islam and conveying a sense of wonder and beauty. \n\n\n\nLatif earned an MA in Middle Eastern Studies and began a Ph.D. in religion\, focusing on the notion of piety as a form of social capital for Muslim women in the medieval world. Though she enjoyed academia\, she was always drawn to art and decided instead to use her knowledge of Islamic history to inform a meaningful body of work. Her paintings reflect a personal openness to faith\, likely owing to her diasporic background as the daughter of an American Russian Jewish convert to Islam and a Pakistani Muslim immigrant. \n\n\n\nQuestions? events@mcceastbay.org \n\n\n\n\n\n\n\n\n\n\n\n\n\n\n\n\n\n 
URL:https://mcceastbay.org/event/islamicate-impressionism/
LOCATION:MCC East Bay\, 5724 W Las Positas Blvd #300\, Pleasanton\, CA\, 94588\, United States
CATEGORIES:Family Events
ATTACH;FMTTYPE=image/jpeg:https://mcceastbay.org/wp-content/uploads/2024/06/Islamicate-Impressionism.jpg
END:VEVENT
END:VCALENDAR