BEGIN:VCALENDAR
VERSION:2.0
PRODID:-//MCC East Bay - ECPv6.15.20//NONSGML v1.0//EN
CALSCALE:GREGORIAN
METHOD:PUBLISH
X-WR-CALNAME:MCC East Bay
X-ORIGINAL-URL:https://mcceastbay.org
X-WR-CALDESC:Events for MCC East Bay
REFRESH-INTERVAL;VALUE=DURATION:PT1H
X-Robots-Tag:noindex
X-PUBLISHED-TTL:PT1H
BEGIN:VTIMEZONE
TZID:America/Los_Angeles
BEGIN:DAYLIGHT
TZOFFSETFROM:-0800
TZOFFSETTO:-0700
TZNAME:PDT
DTSTART:20230312T100000
END:DAYLIGHT
BEGIN:STANDARD
TZOFFSETFROM:-0700
TZOFFSETTO:-0800
TZNAME:PST
DTSTART:20231105T090000
END:STANDARD
BEGIN:DAYLIGHT
TZOFFSETFROM:-0800
TZOFFSETTO:-0700
TZNAME:PDT
DTSTART:20240310T100000
END:DAYLIGHT
BEGIN:STANDARD
TZOFFSETFROM:-0700
TZOFFSETTO:-0800
TZNAME:PST
DTSTART:20241103T090000
END:STANDARD
BEGIN:DAYLIGHT
TZOFFSETFROM:-0800
TZOFFSETTO:-0700
TZNAME:PDT
DTSTART:20250309T100000
END:DAYLIGHT
BEGIN:STANDARD
TZOFFSETFROM:-0700
TZOFFSETTO:-0800
TZNAME:PST
DTSTART:20251102T090000
END:STANDARD
END:VTIMEZONE
BEGIN:VEVENT
DTSTART;TZID=America/Los_Angeles:20240202T190000
DTEND;TZID=America/Los_Angeles:20240202T210000
DTSTAMP:20260419T164234
CREATED:20240120T073407Z
LAST-MODIFIED:20240120T073407Z
UID:10020562-1706900400-1706907600@mcceastbay.org
SUMMARY:Friday Family Night: The Teacher and The Student | Sidi Quran Hodge
DESCRIPTION:Using the story of Moses (AS) and Al-Khidr in the Qur’an\, let’s analyze ourselves within both characters to manage how we respond when certain situations and challenges arise.  \n\n\n\n7 p.m. to 9 p.m. | Friday\, Feb. 2 | MCC Prayer Hall | Free | Join us in person or watch online or on replay at mcceastbay.org/live \n\n\n\nThis program is open to all\, particularly our youth and young professionals.  \n\n\n\n\nMore talks for teenagers: https://mcceastbay.org/teens\n\n\n\nMore sermons & talks with Quran Hodge: https://mcceastbay.org/quran-hodge\n\n\n\n\nAbout the SpeakerQur’an Hodge is a Bay Area native. He began his Islamic education in 2019\, studying Arabic at the Al Maqasid Seminary in Pennsylvania. Sidi Quran continued to Dar Al Mustafa\, a Yemeni Islamic university in Tarim\, Hadhramaut. At this Islamic seminary founded by Habib Umar bin Hafiz\, Sidi Qur’an studied Ibtidaiyya\, Hadith\, Aqida\, Seerah\, Nahw\, Quran Hifzdh\, Kitaba\, and Tafseer in classical Arabic. \n\n\n\nSidi Quran Hodge has completed certificates in Taleef Collective’s Refing the Core and Zaytuna College’s Permaculture Program. He is passionate about creatively working on community issues\, particularly the challenges Muslim youth face. He lives with his wife and child in Castro Valley. \n\n\n\nQuestions? events@mcceastbay.org
URL:https://mcceastbay.org/event/the-teacher/
LOCATION:CA
CATEGORIES:Family Events
ATTACH;FMTTYPE=image/jpeg:https://mcceastbay.org/wp-content/uploads/2024/06/The-Teacher-The-Student-1.jpg
END:VEVENT
END:VCALENDAR