BEGIN:VCALENDAR
VERSION:2.0
PRODID:-//MCC East Bay - ECPv6.15.20//NONSGML v1.0//EN
CALSCALE:GREGORIAN
METHOD:PUBLISH
X-WR-CALNAME:MCC East Bay
X-ORIGINAL-URL:https://mcceastbay.org
X-WR-CALDESC:Events for MCC East Bay
REFRESH-INTERVAL;VALUE=DURATION:PT1H
X-Robots-Tag:noindex
X-PUBLISHED-TTL:PT1H
BEGIN:VTIMEZONE
TZID:America/Los_Angeles
BEGIN:DAYLIGHT
TZOFFSETFROM:-0800
TZOFFSETTO:-0700
TZNAME:PDT
DTSTART:20230312T100000
END:DAYLIGHT
BEGIN:STANDARD
TZOFFSETFROM:-0700
TZOFFSETTO:-0800
TZNAME:PST
DTSTART:20231105T090000
END:STANDARD
BEGIN:DAYLIGHT
TZOFFSETFROM:-0800
TZOFFSETTO:-0700
TZNAME:PDT
DTSTART:20240310T100000
END:DAYLIGHT
BEGIN:STANDARD
TZOFFSETFROM:-0700
TZOFFSETTO:-0800
TZNAME:PST
DTSTART:20241103T090000
END:STANDARD
BEGIN:DAYLIGHT
TZOFFSETFROM:-0800
TZOFFSETTO:-0700
TZNAME:PDT
DTSTART:20250309T100000
END:DAYLIGHT
BEGIN:STANDARD
TZOFFSETFROM:-0700
TZOFFSETTO:-0800
TZNAME:PST
DTSTART:20251102T090000
END:STANDARD
END:VTIMEZONE
BEGIN:VEVENT
DTSTART;TZID=America/Los_Angeles:20240614T130000
DTEND;TZID=America/Los_Angeles:20240614T170000
DTSTAMP:20260419T170144
CREATED:20240530T214056Z
LAST-MODIFIED:20240630T220915Z
UID:10021096-1718370000-1718384400@mcceastbay.org
SUMMARY:Cat Adoption at Jumu'ah Prayers
DESCRIPTION:Valley Humane Society of Pleasanton will be on site with immediately adoptable furry felines who are ready to be part of your forever family. This will be our third cat adoption event at MCC! \n\n\n\n1 p.m. to 5 p.m. | Friday\, June 14 | MCC Banquet Hall | Free; no RSVP required to attend | See adoption fee below \n\n\n\n“Verily\, there is a Heavenly reward for every act of kindness done to a living animal.” Prophet Muhammad (PBUH) \n\n\n\nEach adopter must be at least 21 years of age. The adoption fee for a kitten is $125 or $200 for a pair and $100 for a cat. It includes: \n\n\n\n\n -medical summary report\n\n\n\n– spay or neuter surgery;\n\n\n\n– microchip and transfer of ownership\n\n\n\n– age-appropriate vaccinations;\n\n\n\n– up to date on flea control;\n\n\n\n– parasite control treatments;\n\n\n\n– free sample bag of food and\n\n\n\n– free vet check certificate\n\n\n\n– coupons for local pet stores\n\n\n\n\nQuestions? events@mcceastbay.org \n\n\n\nProphet Mohammad (peace be upon him) was fond of cats\, particularly his cat Muezza. Prophet Muhammad (PBUH) was so attached to him he’d let the cat sit on his lap while he gave his sermons. He’d even drink water that Muezza had previously been lapping up. \n\n\n\nThere are several well-known tales about Muezza. One says that the cat saved Prophet Muhammad from the deadly bite of a venomous snake. Another relates a time when Muezza was asleep on Prophet Muhammad’s robe when the call to prayers sounded. Although most people would have shooed away the cat\, Prophet Muhammad instead cut off the sleeve of his robe so Muezza could rest in peace. \n\n\n\nIslam instructs Muslims to revere cats. In fact\, mistreating a cat is considered a significant transgression.
URL:https://mcceastbay.org/event/cat-adoption-3/
LOCATION:CA
CATEGORIES:Family Events
ATTACH;FMTTYPE=image/jpeg:https://mcceastbay.org/wp-content/uploads/2024/06/06.14.24-Used.jpg
END:VEVENT
BEGIN:VEVENT
DTSTART;TZID=America/Los_Angeles:20240614T190000
DTEND;TZID=America/Los_Angeles:20240614T210000
DTSTAMP:20260419T170144
CREATED:20240607T040835Z
LAST-MODIFIED:20240630T220938Z
UID:10021115-1718391600-1718398800@mcceastbay.org
SUMMARY:The "Lost Shepherd" Parenting Workshop | Fouzia Usman
DESCRIPTION:https://www.youtube.com/live/i2KkxAf46kI?si=7YIfTdUq6OGzD0FN\n\n\n\n\n\n\nJoin us for a parenting workshop led by Fouzia Usman\, founder of Muslim Nation Builders\, where parents and kids will learn how to work together to create a nurturing\, balanced environment that bridges the gap between Deen and Dunya in everyday life. \n\n\n\nThe “Lost Shepherd” workshop by Muslim Nation Builders is tailored for Muslim parents\, focusing on aligning their lives to live by the hadith. After the workshop\, we will have a Q&A. \n\n\n\nFriday\, June 14 | 7 p.m. to 9 p.m. | Boys & Girls Ages 7 to 16 | Prayer Hall & Conference Room | RSVP required: mcceastbay.org/shepherd \n\n\n\nPlease note that this is a parent-and-me workshop. Parents are required to attend the workshop along with their child/children. The workshop is capped at 130 children. \n\n\n\nThis workshop will be live-streamed and not recorded. We highly recommend that you attend in person. Dinner sales begin at 6 p.m.Abdullah ibn Umar reported: The Messenger of Allah\, peace and blessings be upon him\, said\, “Every one of you is a shepherd and is responsible for his flock. The leader of the people is a guardian and is responsible for his subjects. A man is the guardian of his family\, and he is responsible for them. A woman is the guardian of her husband’s home and his children and is responsible for them. The servant of a man is a guardian of the property of his master\, and he is responsible for it. Undoubtedly\, every one of you is a shepherd responsible for his flock.” It addresses the modern challenges of raising practicing Muslims\, offering strategies to inspire and guide children toward a fulfilling Islamic life. The workshop includes practical advice and activities for families to recognize where we lack as parents in the 21st century. And how to foster a culture rooted in Islam for success in both Dunya and Akhirah. \n\n\n\nPurpose: To empower parents with insights and tools to address the spiritual and practical aspects of Islamic parenting. To help parents foster an environment where Islamic values are taught and lived\, promote a family culture where pursuing Jannah is a collective goal. This workshop stands out by combining Qur’anic teachings\, Prophetic examples\, and modern educational techniques to create a transformative experience for Muslim families\, aiming to bridge the gap between Deen and Dunya in everyday life. \n\n\n\nWhat makes it unique? MNB workshops are specially curated to offer valuable and practical advice to its participants. Rooted in the hadith\, “All of you are shepherds and each of you is responsible for his flock” the workshop will help parents understand their role and responsibilities as shepherds to their children and be the guardians of their flock. \n\n\n\nIt stands out by addressing contemporary challenges Muslim families face in a modern\, Dunya-centric society and offering practical advice and strategies for parents. \n\n\n\nIt helps lay a foundation for: \n\n\n\n\nbecome more mindful of Allah SWT\n\n\n\nowning our responsibility as shepherds to our children\n\n\n\nstrive to become better parents\, knowing we will be asked about our flock\n\n\n\nhelp one another stay on the Siratul Mustaqim\n\n\n\ngrow together as a family in Islam.\n\n\n\ninternalize the reality that our natural home is Jannah.\n\n\n\n\nThis workshop is intended for both parents.When raising children\, the active participation of both parents is paramount. Attending parenting workshops fosters a united front\, ensuring that both mother and father are aligned in their approach to their children’s upbringing. It promotes consistent parenting practices\, strengthens the family bond\, and underscores the significance of collaboration and mutual support to children. Just like mothers\, fathers play a crucial role in their children’s spiritual and moral development. By attending the workshop together\, parents can provide each other with better support and create a nurturing\, balanced environment for their children. \n\n\n\nAbout Fouzia Usman:Fouzia Usman is a passionate entrepreneur\, mother of three\, certified NLP practitioner\, and Positive Discipline Parent Educator. She is a full-time Software Engineer and an ardent visionary. She founded Ummah Stars and Muslim Nation Builders\, a transformative platform for parents and children. She aims to positively impact Muslim families worldwide by helping parents raise children practicing the deen with passion and conviction. As a conscious Muslim parent\, everything you have ever wanted for the Islamic upbringing of your children and your family as a whole is now being made possible through MUSLIM NATION BUILDERS. It is a testimony to the vision\, mission\, and dedication of how one person can initiate a resounding effect. Allah has blessed this initiative with a stellar team that has made a dream a reality. For more information\, please visit Muslim Nation Builders site at https://www.muslimnationbuilders.com \n\n\n\nQuestions? events@mcceastbay.org
URL:https://mcceastbay.org/event/the-lost-shepherd/
LOCATION:CA
CATEGORIES:Family Events
ATTACH;FMTTYPE=image/jpeg:https://mcceastbay.org/wp-content/uploads/2024/06/Fouzia-Usman-2-scaled-1.jpg
END:VEVENT
END:VCALENDAR