BEGIN:VCALENDAR
VERSION:2.0
PRODID:-//MCC East Bay - ECPv6.15.20//NONSGML v1.0//EN
CALSCALE:GREGORIAN
METHOD:PUBLISH
X-WR-CALNAME:MCC East Bay
X-ORIGINAL-URL:https://mcceastbay.org
X-WR-CALDESC:Events for MCC East Bay
REFRESH-INTERVAL;VALUE=DURATION:PT1H
X-Robots-Tag:noindex
X-PUBLISHED-TTL:PT1H
BEGIN:VTIMEZONE
TZID:America/Los_Angeles
BEGIN:DAYLIGHT
TZOFFSETFROM:-0800
TZOFFSETTO:-0700
TZNAME:PDT
DTSTART:20220313T100000
END:DAYLIGHT
BEGIN:STANDARD
TZOFFSETFROM:-0700
TZOFFSETTO:-0800
TZNAME:PST
DTSTART:20221106T090000
END:STANDARD
BEGIN:DAYLIGHT
TZOFFSETFROM:-0800
TZOFFSETTO:-0700
TZNAME:PDT
DTSTART:20230312T100000
END:DAYLIGHT
BEGIN:STANDARD
TZOFFSETFROM:-0700
TZOFFSETTO:-0800
TZNAME:PST
DTSTART:20231105T090000
END:STANDARD
BEGIN:DAYLIGHT
TZOFFSETFROM:-0800
TZOFFSETTO:-0700
TZNAME:PDT
DTSTART:20240310T100000
END:DAYLIGHT
BEGIN:STANDARD
TZOFFSETFROM:-0700
TZOFFSETTO:-0800
TZNAME:PST
DTSTART:20241103T090000
END:STANDARD
END:VTIMEZONE
BEGIN:VEVENT
DTSTART;TZID=America/Los_Angeles:20230327T183000
DTEND;TZID=America/Los_Angeles:20230327T191500
DTSTAMP:20260419T121329
CREATED:20230328T070915Z
LAST-MODIFIED:20230328T070915Z
UID:10019721-1679941800-1679944500@mcceastbay.org
SUMMARY:Daily Juz Recitation
DESCRIPTION:In Ramadan 2023\, Qari Amar Bellaha will recite regular rakats (cycles) at MCC’s nightly indoor Taraweeh\, which will begin after Isha at 9:15 p.m. \n\n\n\nIn addition\, Qari Amar will virtually also recite one chapter every day in his sonorous voice. \n\n\n\nThe daily recitation (schedule) are broadcast after Asr prayer daily from 6:30 p.m. to about 7:15 p.m. on MCC’s Facebook and YouTube. \n\n\n\n\n– Qur’anic Recitation playlist: https://mcceastbay.org/ramadan23\n\n\n\n– Daily recitation schedule https://mcceastbay.org/recitation\n\n\n\n– Watch Tarawih in Ramadan ’19: https://mcceastbay.org/taraweeh\n\n\n\n– More Qari Amar: https://mcceastbay.org/amar\n\n\n\n– Qari Amar reciting Juz’ Ama 30 (the final chapter of Qur’an): https://mcceastbay.org/juz-ama\n\n\n\n\nQuestions? events@mcceastbay.org
URL:https://mcceastbay.org/event/daily-juz-recitation-2/
LOCATION:MCC East Bay\, 5724 W Las Positas Blvd #300\, Pleasanton\, CA\, 94588\, United States
CATEGORIES:Family Events
ATTACH;FMTTYPE=image/png:https://mcceastbay.org/wp-content/uploads/2024/06/Light-Brown-Simple-Read-Quran-Everyday-Instagram-Post.png
END:VEVENT
BEGIN:VEVENT
DTSTART;TZID=America/Los_Angeles:20230401T192000
DTEND;TZID=America/Los_Angeles:20230401T210000
DTSTAMP:20260419T121329
CREATED:20230327T085402Z
LAST-MODIFIED:20230327T085402Z
UID:10019717-1680376800-1680382800@mcceastbay.org
SUMMARY:Community Iftar
DESCRIPTION:For the first three Saturdays in Ramadan\, join your fasting brothers and sisters for MCC’s community iftar and stay afterward for worship. Limited space. RSVP is required for this  Iftar (registration opens Saturday prior to each iftar). \nCome join us to pray and break bread in the community. Capped at 300 guests each week. \nA nominal $3/person registration is required so that we can have the right amount of food available. Please join the waitlist once the Iftar goes full. \n*Children under the age of 5 do not need a ticket.*  \nMCC is a green masjid. Please bring your own water bottles to reduce the use of disposable cups. \nPlease cancel your RSVP at any time if you cannot make the Iftar so your fasting brother & sister can join us. Message operations@mccastbay.org \n\n– Saturday\, March 25: Register at https://mcceastbay.org/iftar-1 (opens at 5 p.m. on Wednesday\, March 22nd)\n– Saturday\, April 1: Register at https://mcceastbay.org/iftar-2 (opens at 5 p.m. on Sunday\, March 26th)\n– Saturday\, April 8: Register at https://mcceastbay.org/iftar-3 (opens at 5 p.m. on Sunday\, April 2nd)\n\nMCC has a standing policy that financial need should never hold a person back from attending its events and actitvities. To request a financial waiver to attend\, please message scholarship@mcceastbay.org \nQuestions? events@mcceastbay.org \n 
URL:https://mcceastbay.org/event/community-iftar-3/2023-04-01/
LOCATION:MCC East Bay\, 5724 W Las Positas Blvd #300\, Pleasanton\, CA\, 94588\, United States
CATEGORIES:Family Events
ATTACH;FMTTYPE=image/png:https://mcceastbay.org/wp-content/uploads/2024/06/1920x1080-template-2.png
ORGANIZER;CN="Muslim Community Center - East Bay":MAILTO:events@mcceastbay.org
END:VEVENT
END:VCALENDAR