BEGIN:VCALENDAR
VERSION:2.0
PRODID:-//MCC East Bay - ECPv6.15.20//NONSGML v1.0//EN
CALSCALE:GREGORIAN
METHOD:PUBLISH
X-WR-CALNAME:MCC East Bay
X-ORIGINAL-URL:https://mcceastbay.org
X-WR-CALDESC:Events for MCC East Bay
REFRESH-INTERVAL;VALUE=DURATION:PT1H
X-Robots-Tag:noindex
X-PUBLISHED-TTL:PT1H
BEGIN:VTIMEZONE
TZID:America/Los_Angeles
BEGIN:DAYLIGHT
TZOFFSETFROM:-0800
TZOFFSETTO:-0700
TZNAME:PDT
DTSTART:20220313T100000
END:DAYLIGHT
BEGIN:STANDARD
TZOFFSETFROM:-0700
TZOFFSETTO:-0800
TZNAME:PST
DTSTART:20221106T090000
END:STANDARD
BEGIN:DAYLIGHT
TZOFFSETFROM:-0800
TZOFFSETTO:-0700
TZNAME:PDT
DTSTART:20230312T100000
END:DAYLIGHT
BEGIN:STANDARD
TZOFFSETFROM:-0700
TZOFFSETTO:-0800
TZNAME:PST
DTSTART:20231105T090000
END:STANDARD
BEGIN:DAYLIGHT
TZOFFSETFROM:-0800
TZOFFSETTO:-0700
TZNAME:PDT
DTSTART:20240310T100000
END:DAYLIGHT
BEGIN:STANDARD
TZOFFSETFROM:-0700
TZOFFSETTO:-0800
TZNAME:PST
DTSTART:20241103T090000
END:STANDARD
END:VTIMEZONE
BEGIN:VEVENT
DTSTART;TZID=America/Los_Angeles:20230408T192000
DTEND;TZID=America/Los_Angeles:20230408T210000
DTSTAMP:20260419T104303
CREATED:20230327T085402Z
LAST-MODIFIED:20230327T085402Z
UID:10019718-1680981600-1680987600@mcceastbay.org
SUMMARY:Community Iftar
DESCRIPTION:For the first three Saturdays in Ramadan\, join your fasting brothers and sisters for MCC’s community iftar and stay afterward for worship. Limited space. RSVP is required for this  Iftar (registration opens Saturday prior to each iftar). \nCome join us to pray and break bread in the community. Capped at 300 guests each week. \nA nominal $3/person registration is required so that we can have the right amount of food available. Please join the waitlist once the Iftar goes full. \n*Children under the age of 5 do not need a ticket.*  \nMCC is a green masjid. Please bring your own water bottles to reduce the use of disposable cups. \nPlease cancel your RSVP at any time if you cannot make the Iftar so your fasting brother & sister can join us. Message operations@mccastbay.org \n\n– Saturday\, March 25: Register at https://mcceastbay.org/iftar-1 (opens at 5 p.m. on Wednesday\, March 22nd)\n– Saturday\, April 1: Register at https://mcceastbay.org/iftar-2 (opens at 5 p.m. on Sunday\, March 26th)\n– Saturday\, April 8: Register at https://mcceastbay.org/iftar-3 (opens at 5 p.m. on Sunday\, April 2nd)\n\nMCC has a standing policy that financial need should never hold a person back from attending its events and actitvities. To request a financial waiver to attend\, please message scholarship@mcceastbay.org \nQuestions? events@mcceastbay.org \n 
URL:https://mcceastbay.org/event/community-iftar-3/2023-04-08/
LOCATION:MCC East Bay\, 5724 W Las Positas Blvd #300\, Pleasanton\, CA\, 94588\, United States
CATEGORIES:Family Events
ATTACH;FMTTYPE=image/png:https://mcceastbay.org/wp-content/uploads/2024/06/1920x1080-template-2.png
ORGANIZER;CN="Muslim Community Center - East Bay":MAILTO:events@mcceastbay.org
END:VEVENT
BEGIN:VEVENT
DTSTART;TZID=America/Los_Angeles:20230409T181500
DTEND;TZID=America/Los_Angeles:20230409T203000
DTSTAMP:20260419T104303
CREATED:20230328T051600Z
LAST-MODIFIED:20230328T051600Z
UID:10019719-1681064100-1681072200@mcceastbay.org
SUMMARY:Fourth-Annual Special Needs Iftar
DESCRIPTION:For San Francisco Bay Area families raising children with special needs\, join us for MCC’s fourth-annual Iftar. \n\n\n\n6:15 p.m. to 8:30 p.m. | Sunday\, April 9 | Register at: https://mcceastbay.org/special-iftar \n\n\n\nSchedule: \n\n\n\n\n– 6:15 p.m. – Asr prayer\n\n\n\n– 6:30 p.m. – Pre-Iftar halaqa in Conference Room with Br. Ahmed Alkubaisi\, and Br. Abdullah Mojaddidi.\n\n\n\n– 7:20 p.m. – Walk out to the Banquet Hall to socialize and reflect before breaking the fast with dates.\n\n\n\n– 7:41 p.m. – Maghrib prayer in Prayer Hall\n\n\n\n– 7:54 p.m. – Iftar in Banquet Hall\n\n\n\n– 9:15 p.m. – Isha/Taraweeh prayers\n\n\n\n\nQuestions? help@mcceastbay.org \n\n\n\n\n– More Muhsen co-sponsored events at MCC: https://mcceastbay.org/muhsen\n\n\n\n\nLearn more about how we are privileged to accommodate our special needs community: https://mcceastbay.org/accommodating-disabilities \n\n\n\nParents/caregivers took a break to socialize and learn about resources while all our special-needs guests received personalized one-on-one attention with MCC youth. The panelists are Br. Ahmed Alkubaisi and Br. Abdullah Mojaddedi. \n\n\n\nAlhamdulillah\, since 2017\, the MCC East Bay has been proud to be the first masjid on the West Coast to be certified as special-needs friendly. In 2019\, MCC East Bay became the first gold-certified masjid in California. We are working hard now to become the first platinum-certified masjid on the West Coast. \n\n\n\nWatch an event recap of a prior special needs event: https://youtu.be/gOWgE2aS3gc \n\n\n\nThis Iftar is in partnership with Muhsen. \n\n\n\nQuestions or accommodation requests? Contact us at help@mcceastbay.org \n\n\n\nBelow is a list of practices that are approved and endorsed by MUHSEN (Muslims Understanding and Helping Special Education Needs) in order to facilitate inclusion and accommodation at MCC events for individuals and families with special needs. \n\n\n\n\n– Accommodations for separate registration or check-in lines to avoid long wait times\n\n\n\n– Nearby accessible parking accommodations\n\n\n\n– Ample aisle space in halls/venues to maneuver wheelchairs in and out\n\n\n\n– Sign Language Interpreter for programs\n\n\n\n– Accessible seating near front and sides of hall with ease of access\n\n\n\n– Front of hall reserved\, designated seating specifically for guests who are Deaf to see ASL Interpreter\n\n\n\n– Ramp/lifts/elevators provided throughout the venue as appropriate including the stage\n\n\n\n– Specialized childcare arrangements for children with disabilities provided by capable\, trained volunteers\n\n\n\n– Captions on media/videos shown where ASL Interpreter is not available\n\n\n\n– Ushering for guests with special needs\n\n\n\n\nMUHSEN Ramadan 2022 Volunteer Sign up: \n\n\n\n\nhttps://docs.google.com/forms/d/e/1FAIpQLSfHiuyK2n2XO8bkxSjjAO_IgN_hQ5V5DMJWEI3TsPNja3oHBw/viewform?usp=sf_link
URL:https://mcceastbay.org/event/special-needs-iftar-2/
LOCATION:MCC East Bay\, 5724 W Las Positas Blvd #300\, Pleasanton\, CA\, 94588\, United States
CATEGORIES:Family Events,Young Children
ATTACH;FMTTYPE=image/png:https://mcceastbay.org/wp-content/uploads/2024/06/Special-Needs-Iftar.png
END:VEVENT
END:VCALENDAR