BEGIN:VCALENDAR
VERSION:2.0
PRODID:-//MCC East Bay - ECPv6.15.20//NONSGML v1.0//EN
CALSCALE:GREGORIAN
METHOD:PUBLISH
X-WR-CALNAME:MCC East Bay
X-ORIGINAL-URL:https://mcceastbay.org
X-WR-CALDESC:Events for MCC East Bay
REFRESH-INTERVAL;VALUE=DURATION:PT1H
X-Robots-Tag:noindex
X-PUBLISHED-TTL:PT1H
BEGIN:VTIMEZONE
TZID:America/Los_Angeles
BEGIN:DAYLIGHT
TZOFFSETFROM:-0800
TZOFFSETTO:-0700
TZNAME:PDT
DTSTART:20220313T100000
END:DAYLIGHT
BEGIN:STANDARD
TZOFFSETFROM:-0700
TZOFFSETTO:-0800
TZNAME:PST
DTSTART:20221106T090000
END:STANDARD
BEGIN:DAYLIGHT
TZOFFSETFROM:-0800
TZOFFSETTO:-0700
TZNAME:PDT
DTSTART:20230312T100000
END:DAYLIGHT
BEGIN:STANDARD
TZOFFSETFROM:-0700
TZOFFSETTO:-0800
TZNAME:PST
DTSTART:20231105T090000
END:STANDARD
BEGIN:DAYLIGHT
TZOFFSETFROM:-0800
TZOFFSETTO:-0700
TZNAME:PDT
DTSTART:20240310T100000
END:DAYLIGHT
BEGIN:STANDARD
TZOFFSETFROM:-0700
TZOFFSETTO:-0800
TZNAME:PST
DTSTART:20241103T090000
END:STANDARD
END:VTIMEZONE
BEGIN:VEVENT
DTSTART;TZID=America/Los_Angeles:20230411T233000
DTEND;TZID=America/Los_Angeles:20230412T060000
DTSTAMP:20260419T054449
CREATED:20230405T142741Z
LAST-MODIFIED:20230405T142741Z
UID:10019728-1681255800-1681279200@mcceastbay.org
SUMMARY:Odd-Night Program & Suhoor
DESCRIPTION:On every odd night in the blessed last ten nights of Ramadan\, join us after Taraweeh ends at about 11:15 p.m. in the MCC Prayer Hall for special Qur’an recitation\, zikr (devotional acts)\, Salat Tasbeeh\, time for individual worship\, advice\, nasheed\, and a free community Suhoor meal before Fajr prayer in congregation. \n\n\n\nThe blessed Laylat al-Qadr 27th night is on Monday\, April 17. The Qur’an Khatam completion in Taraweeh begins at 9:30 p.m. on Wednesday\, April 19. \n\n\n\nQari Amar Bellaha and a special guest speaker facilitate the nightly odd-night program. No RSVP is needed to attend Qiyam. RSVP is required for Suhoor (please see below). \n\n\n\n\n– 11:30 p.m. to 6 a.m. | Tuesday\, April 11 (21st night) | Special Guest Speaker: Ustadh Mahdy Amine\n\n\n\n– 11:30 p.m. to 6 a.m. | Thursday\, April 13 (23rd night) | Special Guest Speaker: Ustadh Mahdy Amine\n\n\n\n– 11:30 p.m. to 6 a.m. | Saturday\, April 15 (25th night) | Special Guest Speaker: Ustadh Feraidoon Mojadedi\n\n\n\n– 11:30 p.m. to 5:35 a.m. | Monday\, April 17 (27th night)* | Special Guest Speaker: Ustadh Dr. Ali Ataie\n\n\n\n– 11:30 p.m. to 5:35 a.m. | Wednesday\, April 19 (29th night)** | Special Guest Speaker: Ustadh Mahdy Amine*Laylatul Qadr (Night of Power)**Qur’an Khatam Night During Taraweeh prayer at 9:30 p.m.\n\n\n\n\nSuhoor Meals: \n\n\n\n\nThe community Suhoors are being hosted by groups in the MCC congregation:\n\n\n\n– Tuesday\, April 11 (21st night): Senior Afghan sisters who pray at Taraweeh\n\n\n\n– Thursday\, April 13 (23rd night): Sisters and brothers of Hyderabadi descent\n\n\n\n– Saturday\, April 15 (25th night): Sisters and brothers of South Indian descent\n\n\n\n– Monday\, April 17 (27th night): Sisters and brothers of Pakistani descent\n\n\n\n– Wednesday\, April 19 (29th night): Sisters and brothers of Arab descent\n\n\n\n\nPlease join us for a Suhoor meal (RSVP required) in the early mornings of: \n\n\n\n\nWednesday\, April 12 (RSVP at mcceastbay.org/suhoor-1)\n\n\n\nFriday\, April 14 (RSVP at mcceastbay.org/suhoor-2)\n\n\n\nSunday\, April 16 (RSVP at mcceastbay.org/suhoor-3)\n\n\n\nTuesday\, April 18 (RSVP at mcceastbay.org/suhoor-4)\n\n\n\nThursday\, April 20 (RSVP at mcceastbay.org/suhoor-5)\n\n\n\n\nTo help sponsor the cost of a Suhoor or Iftar meal at the MCC this Ramadan\, please visit https://mcceastbay.org/ramadan-meals \n\n\n\nTo join the limited space for Itikaf at MCC in the last ten days\, please register at HTTP://mcceastbay.org/itikaf \n\n\n\n\n\n\n\nOdd Nights Program Schedule: \n\n\n\nTuesday\, April 11: \n\n\n\n\nTaraweeh (9:30 p.m. to 11:15 p.m.)\n\n\n\nBreak (15 min)\n\n\n\nTalk by Sidi Mahdy\, Salat Tasbeeh\, & Dua (11:30 p.m. to 1:30 a.m.)\n\n\n\nBreak (90 min)\n\n\n\nQiyam (3 a.m. to 4 a.m.)\n\n\n\nSuhoor\n\n\n\n\nThursday\, April 13: \n\n\n\n\nTaraweeh (9:30 p.m. to 11:15 p.m.)\n\n\n\nBreak (15 min)\n\n\n\nTalk by Sidi Mahdy\, Salat Tasbeeh\, & Dua (11:30 p.m. to 1:30 a.m.)\n\n\n\nBreak (90 min)\n\n\n\nQiyam (3 a.m. to 4 a.m.)\n\n\n\nSuhoor\n\n\n\n\nSaturday\, April 15: \n\n\n\n\nTaraweeh (9:30 p.m. to 11:15 p.m.)\n\n\n\nBreak (15 min)\n\n\n\nTalk by Ustadh Feraidoon\, Salat Tasbeeh\, & Dua (11:30 p.m. to 1:30 a.m.)\n\n\n\nBreak (90 min)\n\n\n\nQiyam (3 a.m. to 4 a.m.)\n\n\n\nSuhoor\n\n\n\n\nMonday\, April 17: \n\n\n\n\nTaraweeh (9:30 p.m. to 11:15 p.m.)\n\n\n\nBreak (15 min)\n\n\n\nTalk by Dr. Ali Ataie\, Salat Tasbeeh\, & Dua (11:30 p.m. to 1:30 a.m.)\n\n\n\nBreak (90 min)\n\n\n\nQiyam (3 a.m. to 4 a.m.)\n\n\n\nSuhoor\n\n\n\n\nWednesday\, April 19: \n\n\n\n\nTaraweeh (9:30 p.m. to 11:15 p.m.)\n\n\n\nBreak (15 min)\n\n\n\nTalk by Sidi Mahdy\, Mawlid/Nasheed\, Salat Tasbeeh\, & Dua (11:30 p.m. to 1:30 a.m.)\n\n\n\nBreak (90 min)\n\n\n\nQiyam (3 a.m. to 4 a.m.)\n\n\n\nSuhoor\n\n\n\n\n\n\n\n\n\n\nMore details: \n\n\n\n\n–  Ramadan ’23 Iqama & Events calendar: https://mcceastbay.org/timetable\n\n\n\n– Odd nights program schedule: https://mcceastbay.org/odd-night\n\n\n\n– Watch Ramadan reflections: https://mcceastbay.org/reflections\n\n\n\n– Watch Ramadan reminders: https://mcceastbay.org/ramadan-reminders\n\n\n\n– More Qari Amar: https://mcceastbay.org/amar\n\n\n\n– More Sidi Mahdy: https://mcceastbay.org/mahdy\n\n\n\n– More Sidi Feraidoon: https://mcceastbay.org/feraidoon\n\n\n\n– More Dr. Ataie: https://mcceastbay.org/ali\n\n\n\n\nQuestions? events@mcceastbay.org
URL:https://mcceastbay.org/event/odd-night-program-suhoor/2023-04-11/
LOCATION:MCC East Bay\, 5724 W Las Positas Blvd #300\, Pleasanton\, CA\, 94588\, United States
CATEGORIES:Family Events
ATTACH;FMTTYPE=image/png:https://mcceastbay.org/wp-content/uploads/2024/06/Odd-Nights-Program-2023-2.png
END:VEVENT
BEGIN:VEVENT
DTSTART;TZID=America/Los_Angeles:20230413T234500
DTEND;TZID=America/Los_Angeles:20230414T060000
DTSTAMP:20260419T054449
CREATED:20230405T142741Z
LAST-MODIFIED:20230405T142741Z
UID:10019729-1681429500-1681452000@mcceastbay.org
SUMMARY:Odd-Night Program & Suhoor
DESCRIPTION:On every odd night in the blessed last ten nights of Ramadan\, join us after Taraweeh ends at about 11:15 p.m. in the MCC Prayer Hall for special Qur’an recitation\, zikr (devotional acts)\, Salat Tasbeeh\, time for individual worship\, advice\, nasheed\, and a free community Suhoor meal before Fajr prayer in congregation. \n\n\n\nThe blessed Laylat al-Qadr 27th night is on Monday\, April 17. The Qur’an Khatam completion in Taraweeh begins at 9:30 p.m. on Wednesday\, April 19. \n\n\n\nQari Amar Bellaha and a special guest speaker facilitate the nightly odd-night program. No RSVP is needed to attend Qiyam. RSVP is required for Suhoor (please see below). \n\n\n\n\n– 11:30 p.m. to 6 a.m. | Tuesday\, April 11 (21st night) | Special Guest Speaker: Ustadh Mahdy Amine\n\n\n\n– 11:30 p.m. to 6 a.m. | Thursday\, April 13 (23rd night) | Special Guest Speaker: Ustadh Mahdy Amine\n\n\n\n– 11:30 p.m. to 6 a.m. | Saturday\, April 15 (25th night) | Special Guest Speaker: Ustadh Feraidoon Mojadedi\n\n\n\n– 11:30 p.m. to 5:35 a.m. | Monday\, April 17 (27th night)* | Special Guest Speaker: Ustadh Dr. Ali Ataie\n\n\n\n– 11:30 p.m. to 5:35 a.m. | Wednesday\, April 19 (29th night)** | Special Guest Speaker: Ustadh Mahdy Amine*Laylatul Qadr (Night of Power)**Qur’an Khatam Night During Taraweeh prayer at 9:30 p.m.\n\n\n\n\nSuhoor Meals: \n\n\n\n\nThe community Suhoors are being hosted by groups in the MCC congregation:\n\n\n\n– Tuesday\, April 11 (21st night): Senior Afghan sisters who pray at Taraweeh\n\n\n\n– Thursday\, April 13 (23rd night): Sisters and brothers of Hyderabadi descent\n\n\n\n– Saturday\, April 15 (25th night): Sisters and brothers of South Indian descent\n\n\n\n– Monday\, April 17 (27th night): Sisters and brothers of Pakistani descent\n\n\n\n– Wednesday\, April 19 (29th night): Sisters and brothers of Arab descent\n\n\n\n\nPlease join us for a Suhoor meal (RSVP required) in the early mornings of: \n\n\n\n\nWednesday\, April 12 (RSVP at mcceastbay.org/suhoor-1)\n\n\n\nFriday\, April 14 (RSVP at mcceastbay.org/suhoor-2)\n\n\n\nSunday\, April 16 (RSVP at mcceastbay.org/suhoor-3)\n\n\n\nTuesday\, April 18 (RSVP at mcceastbay.org/suhoor-4)\n\n\n\nThursday\, April 20 (RSVP at mcceastbay.org/suhoor-5)\n\n\n\n\nTo help sponsor the cost of a Suhoor or Iftar meal at the MCC this Ramadan\, please visit https://mcceastbay.org/ramadan-meals \n\n\n\nTo join the limited space for Itikaf at MCC in the last ten days\, please register at HTTP://mcceastbay.org/itikaf \n\n\n\n\n\n\n\nOdd Nights Program Schedule: \n\n\n\nTuesday\, April 11: \n\n\n\n\nTaraweeh (9:30 p.m. to 11:15 p.m.)\n\n\n\nBreak (15 min)\n\n\n\nTalk by Sidi Mahdy\, Salat Tasbeeh\, & Dua (11:30 p.m. to 1:30 a.m.)\n\n\n\nBreak (90 min)\n\n\n\nQiyam (3 a.m. to 4 a.m.)\n\n\n\nSuhoor\n\n\n\n\nThursday\, April 13: \n\n\n\n\nTaraweeh (9:30 p.m. to 11:15 p.m.)\n\n\n\nBreak (15 min)\n\n\n\nTalk by Sidi Mahdy\, Salat Tasbeeh\, & Dua (11:30 p.m. to 1:30 a.m.)\n\n\n\nBreak (90 min)\n\n\n\nQiyam (3 a.m. to 4 a.m.)\n\n\n\nSuhoor\n\n\n\n\nSaturday\, April 15: \n\n\n\n\nTaraweeh (9:30 p.m. to 11:15 p.m.)\n\n\n\nBreak (15 min)\n\n\n\nTalk by Ustadh Feraidoon\, Salat Tasbeeh\, & Dua (11:30 p.m. to 1:30 a.m.)\n\n\n\nBreak (90 min)\n\n\n\nQiyam (3 a.m. to 4 a.m.)\n\n\n\nSuhoor\n\n\n\n\nMonday\, April 17: \n\n\n\n\nTaraweeh (9:30 p.m. to 11:15 p.m.)\n\n\n\nBreak (15 min)\n\n\n\nTalk by Dr. Ali Ataie\, Salat Tasbeeh\, & Dua (11:30 p.m. to 1:30 a.m.)\n\n\n\nBreak (90 min)\n\n\n\nQiyam (3 a.m. to 4 a.m.)\n\n\n\nSuhoor\n\n\n\n\nWednesday\, April 19: \n\n\n\n\nTaraweeh (9:30 p.m. to 11:15 p.m.)\n\n\n\nBreak (15 min)\n\n\n\nTalk by Sidi Mahdy\, Mawlid/Nasheed\, Salat Tasbeeh\, & Dua (11:30 p.m. to 1:30 a.m.)\n\n\n\nBreak (90 min)\n\n\n\nQiyam (3 a.m. to 4 a.m.)\n\n\n\nSuhoor\n\n\n\n\n\n\n\n\n\n\nMore details: \n\n\n\n\n–  Ramadan ’23 Iqama & Events calendar: https://mcceastbay.org/timetable\n\n\n\n– Odd nights program schedule: https://mcceastbay.org/odd-night\n\n\n\n– Watch Ramadan reflections: https://mcceastbay.org/reflections\n\n\n\n– Watch Ramadan reminders: https://mcceastbay.org/ramadan-reminders\n\n\n\n– More Qari Amar: https://mcceastbay.org/amar\n\n\n\n– More Sidi Mahdy: https://mcceastbay.org/mahdy\n\n\n\n– More Sidi Feraidoon: https://mcceastbay.org/feraidoon\n\n\n\n– More Dr. Ataie: https://mcceastbay.org/ali\n\n\n\n\nQuestions? events@mcceastbay.org
URL:https://mcceastbay.org/event/odd-night-program-suhoor/2023-04-13/
LOCATION:MCC East Bay\, 5724 W Las Positas Blvd #300\, Pleasanton\, CA\, 94588\, United States
CATEGORIES:Family Events
ATTACH;FMTTYPE=image/png:https://mcceastbay.org/wp-content/uploads/2024/06/Odd-Nights-Program-2023-2.png
END:VEVENT
BEGIN:VEVENT
DTSTART;TZID=America/Los_Angeles:20230415T110000
DTEND;TZID=America/Los_Angeles:20230415T170000
DTSTAMP:20260419T054449
CREATED:20230326T031809Z
LAST-MODIFIED:20230326T031809Z
UID:10019709-1681556400-1681578000@mcceastbay.org
SUMMARY:Eid Bazar
DESCRIPTION:Before the Eid day festivities\, come to MCC to do some shopping from community vendors at our Seventh-Annual Eid Bazar. \n\n\n\n11 a.m. to 5 p.m. | Saturday\, April 15 | MCC Foyer (free to enter) \n\n\n\nAdmission is free. Bring the entire family. \n\n\n\nCome get henna art and shop for jewelry\, clothes\, soaps\, hijabs\, Islamic books\, Islamic dolls\, abayas\, and more! \n\n\n\nDon’t miss this opportunity to support our local vendors and do a little shopping before Eid. \n\n\n\n \n\n\n\nSome of the vendors for this bazaar are: \n\n\n\n\nAsiyah’s Collection\n\n\n\n@iznadesicollection\n\n\n\norchard.soap\n\n\n\nIg @paketnusantara (Indonesian dresses)\n\n\n\nTurkuazShawls\n\n\n\nmehndi_by_marriam\n\n\n\nAmitat appeal\n\n\n\nYalla Kafala\n\n\n\n\n \n\n\n\nFOR VENDORS: \n\n\n\nLimited vendor spots are available on a first-come\, first-serve basis in the MCC Foyer. Complete the interest form at mcceastbay.org/bazar-eid \n\n\n\nFor questions about this Bazar\, please email bazar@mcceastbay.org or call Sister Shazia Ashraf at (925) 640-2967.
URL:https://mcceastbay.org/event/pre-eid-bazar/
LOCATION:MCC East Bay\, 5724 W Las Positas Blvd #300\, Pleasanton\, CA\, 94588\, United States
CATEGORIES:Family Events
ATTACH;FMTTYPE=image/png:https://mcceastbay.org/wp-content/uploads/2024/06/Eid-Bazar-2023.png
END:VEVENT
BEGIN:VEVENT
DTSTART;TZID=America/Los_Angeles:20230415T234500
DTEND;TZID=America/Los_Angeles:20230416T060000
DTSTAMP:20260419T054449
CREATED:20230405T142741Z
LAST-MODIFIED:20230405T142741Z
UID:10019730-1681602300-1681624800@mcceastbay.org
SUMMARY:Odd-Night Program & Suhoor
DESCRIPTION:On every odd night in the blessed last ten nights of Ramadan\, join us after Taraweeh ends at about 11:15 p.m. in the MCC Prayer Hall for special Qur’an recitation\, zikr (devotional acts)\, Salat Tasbeeh\, time for individual worship\, advice\, nasheed\, and a free community Suhoor meal before Fajr prayer in congregation. \n\n\n\nThe blessed Laylat al-Qadr 27th night is on Monday\, April 17. The Qur’an Khatam completion in Taraweeh begins at 9:30 p.m. on Wednesday\, April 19. \n\n\n\nQari Amar Bellaha and a special guest speaker facilitate the nightly odd-night program. No RSVP is needed to attend Qiyam. RSVP is required for Suhoor (please see below). \n\n\n\n\n– 11:30 p.m. to 6 a.m. | Tuesday\, April 11 (21st night) | Special Guest Speaker: Ustadh Mahdy Amine\n\n\n\n– 11:30 p.m. to 6 a.m. | Thursday\, April 13 (23rd night) | Special Guest Speaker: Ustadh Mahdy Amine\n\n\n\n– 11:30 p.m. to 6 a.m. | Saturday\, April 15 (25th night) | Special Guest Speaker: Ustadh Feraidoon Mojadedi\n\n\n\n– 11:30 p.m. to 5:35 a.m. | Monday\, April 17 (27th night)* | Special Guest Speaker: Ustadh Dr. Ali Ataie\n\n\n\n– 11:30 p.m. to 5:35 a.m. | Wednesday\, April 19 (29th night)** | Special Guest Speaker: Ustadh Mahdy Amine*Laylatul Qadr (Night of Power)**Qur’an Khatam Night During Taraweeh prayer at 9:30 p.m.\n\n\n\n\nSuhoor Meals: \n\n\n\n\nThe community Suhoors are being hosted by groups in the MCC congregation:\n\n\n\n– Tuesday\, April 11 (21st night): Senior Afghan sisters who pray at Taraweeh\n\n\n\n– Thursday\, April 13 (23rd night): Sisters and brothers of Hyderabadi descent\n\n\n\n– Saturday\, April 15 (25th night): Sisters and brothers of South Indian descent\n\n\n\n– Monday\, April 17 (27th night): Sisters and brothers of Pakistani descent\n\n\n\n– Wednesday\, April 19 (29th night): Sisters and brothers of Arab descent\n\n\n\n\nPlease join us for a Suhoor meal (RSVP required) in the early mornings of: \n\n\n\n\nWednesday\, April 12 (RSVP at mcceastbay.org/suhoor-1)\n\n\n\nFriday\, April 14 (RSVP at mcceastbay.org/suhoor-2)\n\n\n\nSunday\, April 16 (RSVP at mcceastbay.org/suhoor-3)\n\n\n\nTuesday\, April 18 (RSVP at mcceastbay.org/suhoor-4)\n\n\n\nThursday\, April 20 (RSVP at mcceastbay.org/suhoor-5)\n\n\n\n\nTo help sponsor the cost of a Suhoor or Iftar meal at the MCC this Ramadan\, please visit https://mcceastbay.org/ramadan-meals \n\n\n\nTo join the limited space for Itikaf at MCC in the last ten days\, please register at HTTP://mcceastbay.org/itikaf \n\n\n\n\n\n\n\nOdd Nights Program Schedule: \n\n\n\nTuesday\, April 11: \n\n\n\n\nTaraweeh (9:30 p.m. to 11:15 p.m.)\n\n\n\nBreak (15 min)\n\n\n\nTalk by Sidi Mahdy\, Salat Tasbeeh\, & Dua (11:30 p.m. to 1:30 a.m.)\n\n\n\nBreak (90 min)\n\n\n\nQiyam (3 a.m. to 4 a.m.)\n\n\n\nSuhoor\n\n\n\n\nThursday\, April 13: \n\n\n\n\nTaraweeh (9:30 p.m. to 11:15 p.m.)\n\n\n\nBreak (15 min)\n\n\n\nTalk by Sidi Mahdy\, Salat Tasbeeh\, & Dua (11:30 p.m. to 1:30 a.m.)\n\n\n\nBreak (90 min)\n\n\n\nQiyam (3 a.m. to 4 a.m.)\n\n\n\nSuhoor\n\n\n\n\nSaturday\, April 15: \n\n\n\n\nTaraweeh (9:30 p.m. to 11:15 p.m.)\n\n\n\nBreak (15 min)\n\n\n\nTalk by Ustadh Feraidoon\, Salat Tasbeeh\, & Dua (11:30 p.m. to 1:30 a.m.)\n\n\n\nBreak (90 min)\n\n\n\nQiyam (3 a.m. to 4 a.m.)\n\n\n\nSuhoor\n\n\n\n\nMonday\, April 17: \n\n\n\n\nTaraweeh (9:30 p.m. to 11:15 p.m.)\n\n\n\nBreak (15 min)\n\n\n\nTalk by Dr. Ali Ataie\, Salat Tasbeeh\, & Dua (11:30 p.m. to 1:30 a.m.)\n\n\n\nBreak (90 min)\n\n\n\nQiyam (3 a.m. to 4 a.m.)\n\n\n\nSuhoor\n\n\n\n\nWednesday\, April 19: \n\n\n\n\nTaraweeh (9:30 p.m. to 11:15 p.m.)\n\n\n\nBreak (15 min)\n\n\n\nTalk by Sidi Mahdy\, Mawlid/Nasheed\, Salat Tasbeeh\, & Dua (11:30 p.m. to 1:30 a.m.)\n\n\n\nBreak (90 min)\n\n\n\nQiyam (3 a.m. to 4 a.m.)\n\n\n\nSuhoor\n\n\n\n\n\n\n\n\n\n\nMore details: \n\n\n\n\n–  Ramadan ’23 Iqama & Events calendar: https://mcceastbay.org/timetable\n\n\n\n– Odd nights program schedule: https://mcceastbay.org/odd-night\n\n\n\n– Watch Ramadan reflections: https://mcceastbay.org/reflections\n\n\n\n– Watch Ramadan reminders: https://mcceastbay.org/ramadan-reminders\n\n\n\n– More Qari Amar: https://mcceastbay.org/amar\n\n\n\n– More Sidi Mahdy: https://mcceastbay.org/mahdy\n\n\n\n– More Sidi Feraidoon: https://mcceastbay.org/feraidoon\n\n\n\n– More Dr. Ataie: https://mcceastbay.org/ali\n\n\n\n\nQuestions? events@mcceastbay.org
URL:https://mcceastbay.org/event/odd-night-program-suhoor/2023-04-15/
LOCATION:MCC East Bay\, 5724 W Las Positas Blvd #300\, Pleasanton\, CA\, 94588\, United States
CATEGORIES:Family Events
ATTACH;FMTTYPE=image/png:https://mcceastbay.org/wp-content/uploads/2024/06/Odd-Nights-Program-2023-2.png
END:VEVENT
END:VCALENDAR