BEGIN:VCALENDAR
VERSION:2.0
PRODID:-//MCC East Bay - ECPv6.15.20//NONSGML v1.0//EN
CALSCALE:GREGORIAN
METHOD:PUBLISH
X-WR-CALNAME:MCC East Bay
X-ORIGINAL-URL:https://mcceastbay.org
X-WR-CALDESC:Events for MCC East Bay
REFRESH-INTERVAL;VALUE=DURATION:PT1H
X-Robots-Tag:noindex
X-PUBLISHED-TTL:PT1H
BEGIN:VTIMEZONE
TZID:America/Los_Angeles
BEGIN:DAYLIGHT
TZOFFSETFROM:-0800
TZOFFSETTO:-0700
TZNAME:PDT
DTSTART:20220313T100000
END:DAYLIGHT
BEGIN:STANDARD
TZOFFSETFROM:-0700
TZOFFSETTO:-0800
TZNAME:PST
DTSTART:20221106T090000
END:STANDARD
BEGIN:DAYLIGHT
TZOFFSETFROM:-0800
TZOFFSETTO:-0700
TZNAME:PDT
DTSTART:20230312T100000
END:DAYLIGHT
BEGIN:STANDARD
TZOFFSETFROM:-0700
TZOFFSETTO:-0800
TZNAME:PST
DTSTART:20231105T090000
END:STANDARD
BEGIN:DAYLIGHT
TZOFFSETFROM:-0800
TZOFFSETTO:-0700
TZNAME:PDT
DTSTART:20240310T100000
END:DAYLIGHT
BEGIN:STANDARD
TZOFFSETFROM:-0700
TZOFFSETTO:-0800
TZNAME:PST
DTSTART:20241103T090000
END:STANDARD
END:VTIMEZONE
BEGIN:VEVENT
DTSTART;TZID=America/Los_Angeles:20230513T103000
DTEND;TZID=America/Los_Angeles:20230513T133000
DTSTAMP:20260419T060944
CREATED:20230504T220516Z
LAST-MODIFIED:20230504T220516Z
UID:10020087-1683973800-1683984600@mcceastbay.org
SUMMARY:Convert Community Brunch
DESCRIPTION:The Convert Care Committee at MCC would like to invite you all to a Post-Ramadan Brunch! This event is open to everyone in the community. The goal is to keep any and all connections within our community alive and going! It’s easy to fall off once the blessed month of Ramadan has passed so let’s do what we have to do to stay connected with people who bring beauty and Deen into our lives!We will have a Waffle Station\, Pastries Parfait\, Bean Pies\, and Barista from Fez Cafe!Saturday\, May 13 | 10:30 a.m. to 1:30 p.m. | Banquet Hall | Join in person | RSVP at mcceastbay.org/convert-brunch \n\n\n\n\n– How MCC supports new Muslims: https://mcceastbay.org/convert-care\n\n\n\n– Recordings of educational talks for reverts playlist: https://mcceastbay.org/after-shahada\n\n\n\n– Shahadah moments at the MCC: https://mcceastbay.org/shahada\n\n\n\n\nQuestions? mentorship@mcceastbay.org
URL:https://mcceastbay.org/event/convert-eid-brunch/
LOCATION:MCC East Bay\, 5724 W Las Positas Blvd #300\, Pleasanton\, CA\, 94588\, United States
CATEGORIES:Family Events
ATTACH;FMTTYPE=image/png:https://mcceastbay.org/wp-content/uploads/2024/06/RSVP-at-mcceastbay.orgconvert-brunch.png
END:VEVENT
END:VCALENDAR