BEGIN:VCALENDAR
VERSION:2.0
PRODID:-//MCC East Bay - ECPv6.15.20//NONSGML v1.0//EN
CALSCALE:GREGORIAN
METHOD:PUBLISH
X-WR-CALNAME:MCC East Bay
X-ORIGINAL-URL:https://mcceastbay.org
X-WR-CALDESC:Events for MCC East Bay
REFRESH-INTERVAL;VALUE=DURATION:PT1H
X-Robots-Tag:noindex
X-PUBLISHED-TTL:PT1H
BEGIN:VTIMEZONE
TZID:America/Los_Angeles
BEGIN:DAYLIGHT
TZOFFSETFROM:-0800
TZOFFSETTO:-0700
TZNAME:PDT
DTSTART:20220313T100000
END:DAYLIGHT
BEGIN:STANDARD
TZOFFSETFROM:-0700
TZOFFSETTO:-0800
TZNAME:PST
DTSTART:20221106T090000
END:STANDARD
BEGIN:DAYLIGHT
TZOFFSETFROM:-0800
TZOFFSETTO:-0700
TZNAME:PDT
DTSTART:20230312T100000
END:DAYLIGHT
BEGIN:STANDARD
TZOFFSETFROM:-0700
TZOFFSETTO:-0800
TZNAME:PST
DTSTART:20231105T090000
END:STANDARD
BEGIN:DAYLIGHT
TZOFFSETFROM:-0800
TZOFFSETTO:-0700
TZNAME:PDT
DTSTART:20240310T100000
END:DAYLIGHT
BEGIN:STANDARD
TZOFFSETFROM:-0700
TZOFFSETTO:-0800
TZNAME:PST
DTSTART:20241103T090000
END:STANDARD
END:VTIMEZONE
BEGIN:VEVENT
DTSTART;TZID=America/Los_Angeles:20230519T161500
DTEND;TZID=America/Los_Angeles:20230519T171500
DTSTAMP:20260419T074148
CREATED:20230511T104236Z
LAST-MODIFIED:20240630T215359Z
UID:10020122-1684512900-1684516500@mcceastbay.org
SUMMARY:Book Reading “The Quran My Best Friend” | Hafidha Suzane Derani
DESCRIPTION:Join this author’s event with Hafidha Suzane Derani about her rhyming children’s picture book that enhances the reader’s understanding of the Quran and instills the light of the Quran in the hearts of children worldwide. For ages 6+. \n\n\n\n4:15 p.m. to 5:15 p.m. (right after the weekly third youth Jumu’ah) | Friday\, May 19 | MCC Conference Room | Free; no RSVP needed \n\n\n\nLimited signed books for sale after the book reading. To receive a guaranteed signed book after the author’s event\, please pre-purchase the book for $12.75/each at mcceastbay.org/friend \n\n\n\n\n– More Ustadha Suzane: mcceastbay.org/suzane-derani\n\n\n\n\nThis event will not be live-streamed. Please join us in person. \n\n\n\nSponsored by The Rahmah Foundation & MCC East Bay. \n\n\n\nWatch Hafidha Suzane Derani receive her Quran Ijaza in the ten recitations in Ramadan 2023: https://youtu.be/DBMcvJzOKdk  \n\n\n\nQuestions? events@mcceastbay.org \n\n\n\nAbout the Author: \n\n\n\nHafidha Suzane Derani received her Ijaza in Tajwid at age 15\, and she completed the memorization of the Qur’an shortly after. She subsequently received her Ijaza in the ten canonical readings (qira’at) of the Qur’an in 2023. She graduated with a B.A. in European and Middle Eastern history\, focusing on secondary education. She is an educator with extensive experience teaching the Qur’an to students of all ages and backgrounds for over twenty years. She also taught history and Islamic studies to middle and high school students. With her traditional training and classical teaching experience\, Hafidha Suzane has taught multi-level individualized and group classes for children\, teens\, and adults. She has also held motivational workshops for teens and women on how to excel in their Qur’an studies.  \n\n\n\nHafidha Suzane released her first Islamic children’s book\, “The Quran My Best Friend\,” in Ramadan 202. She lives in Michigan with her family\, where she continues to teach Qur’an. She serves as a board member for The Rahmah Foundation. Hafidha Suzane continues to further her studies in the different sciences of the Qur’an with scholars worldwide and write books for children and mentor youth.  \n\n\n\nHafidha Suzane offers Qur’an memorization and Tajwid classes. Learn more at https://mcceastbay.org/suzane 
URL:https://mcceastbay.org/event/quran-my-best-friend/
LOCATION:MCC East Bay\, 5724 W Las Positas Blvd #300\, Pleasanton\, CA\, 94588\, United States
CATEGORIES:Family Events
ATTACH;FMTTYPE=image/png:https://mcceastbay.org/wp-content/uploads/2024/06/Book-Reading-Hafidha-Suzane.png
END:VEVENT
END:VCALENDAR