BEGIN:VCALENDAR
VERSION:2.0
PRODID:-//MCC East Bay - ECPv6.15.20//NONSGML v1.0//EN
CALSCALE:GREGORIAN
METHOD:PUBLISH
X-WR-CALNAME:MCC East Bay
X-ORIGINAL-URL:https://mcceastbay.org
X-WR-CALDESC:Events for MCC East Bay
REFRESH-INTERVAL;VALUE=DURATION:PT1H
X-Robots-Tag:noindex
X-PUBLISHED-TTL:PT1H
BEGIN:VTIMEZONE
TZID:America/Los_Angeles
BEGIN:DAYLIGHT
TZOFFSETFROM:-0800
TZOFFSETTO:-0700
TZNAME:PDT
DTSTART:20220313T100000
END:DAYLIGHT
BEGIN:STANDARD
TZOFFSETFROM:-0700
TZOFFSETTO:-0800
TZNAME:PST
DTSTART:20221106T090000
END:STANDARD
BEGIN:DAYLIGHT
TZOFFSETFROM:-0800
TZOFFSETTO:-0700
TZNAME:PDT
DTSTART:20230312T100000
END:DAYLIGHT
BEGIN:STANDARD
TZOFFSETFROM:-0700
TZOFFSETTO:-0800
TZNAME:PST
DTSTART:20231105T090000
END:STANDARD
BEGIN:DAYLIGHT
TZOFFSETFROM:-0800
TZOFFSETTO:-0700
TZNAME:PDT
DTSTART:20240310T100000
END:DAYLIGHT
BEGIN:STANDARD
TZOFFSETFROM:-0700
TZOFFSETTO:-0800
TZNAME:PST
DTSTART:20241103T090000
END:STANDARD
END:VTIMEZONE
BEGIN:VEVENT
DTSTART;TZID=America/Los_Angeles:20231116T200000
DTEND;TZID=America/Los_Angeles:20231116T220000
DTSTAMP:20260419T153615
CREATED:20231107T070922Z
LAST-MODIFIED:20231107T070922Z
UID:10020459-1700164800-1700172000@mcceastbay.org
SUMMARY:Trials & Tribulations – How to Connect with Allah (swt) During Challenging Times
DESCRIPTION:Join us on a Thursday evening with Imam Zaid Shakir to gain practical and spiritual insights on how we can connect with our Creator when faced with the trials and tribulations of this life. \n\n\n\nThursday\, Nov. 16 | 8 p.m. to 10 p.m. | MCC Prayer Hall | Join in-person or watch live at mcceastbay.org/live | No RSVP needed to join the main program; register only for dinner (non-refundable) at mcceastbay.org/connecting \n\n\n\nSchedule: \n\n\n\n\n7 p.m. to 8 p.m.: Dinner in the Banquet Hall\n\n\n\n8 p.m.: Isha Prayer\n\n\n\n8:15 p.m. to 10 p.m.: Qur’an\, Dhikr\, and Talk by Imam Zaid Shakir\n\n\n\n\nMCC has a standing policy that financial need should never hold a person back from attaining knowledge offered within the four walls of MCC the facility. To request a financial waiver or discount\, please complete: https://mcceastbay.org/scholarship \n\n\n\nQuestions? events@mcceastbay.org \n\n\n\nImam Zaid Shakir is a co-founder\, serves on its Board of Trustees\, and senior Faculty Member of Zaytuna College located in Berkeley\, CA. He is amongst the most respected and influential Islamic scholars in the West. As an American Muslim who came of age during the civil rights struggles\, he has brought both sensitivity about race and poverty issues and scholarly discipline to his faith-based work.Born in Berkeley\, California\, he accepted Islam in 1977 while serving in the United States Air Force. He obtained a BA with honors in International Relations at American University in Washington D.C. and later earned his MA in Political Science at Rutgers University. While at Rutgers\, he led a successful campaign for divestment from South Africa\, and co-founded New Brunswick Islamic Center formerly Masjid al-Huda.After a year of studying Arabic in Cairo\, Egypt\, he settled in New Haven\, Connecticut and continued his community activism\, co-founding Masjid Al-Islam\, the Tri-State Muslim Education Initiative\, and the Connecticut Muslim Coordinating Committee. As Imam of Masjid Al-Islam from 1988 to 1994 he spear-headed a community renewal and grassroots anti-drug effort\, and also taught political science and Arabic at Southern Connecticut State University. He served as an interfaith council Chaplain at Yale University and developed the Chaplaincy Sensitivity Training for physicians at Yale New Haven Hospital. He then left for Syria to pursue his studies in the traditional Islamic sciences.For seven years in Syria\, and briefly in Morocco\, he immersed himself in an intense study of Arabic\, Islamic law\, Quranic studies\, and spirituality with some of the top Muslim scholars of our age. In 2001\, he graduated from Syria’s prestigious Abu Noor University with a BA in Islamic Sciences and returned to Connecticut\, serving again as the Imam of Masjid al-Islam\, and writing and speaking frequently on a host of issues. That same year\, his translation from Arabic into English of The Heirs of the Prophets was published by Starlatch Press.In 2003\, he moved to Hayward\, California to serve as a scholar-in-residence and lecturer at Zaytuna Institute\, where he taught courses on Arabic\, Islamic law\, history\, and Islamic spirituality. In 2004\, he initiated a pilot seminary program at Zaytuna Institute\, which was useful in Zaytuna College’s refinement of its Islamic Studies curriculum and its educational philosophy. For four years\, students in the pilot program were engaged in the study of contemporary and classical texts. In 2005\, Zaytuna Institute published Scattered Pictures: Reflections of An American Muslim„ an anthology of diverse essays penned by Zaid Shakir. He co-founded the Lighthouse Mosque\, Oakland\, CA. in 2007. He authored an award-winning text\, Treatise for the Seekers of Guidance\, a translation and commentary on Imam Harith al-Muhasibi’s work\, Risala al-Mustarshideen in 2008. He is co-founder and chairman of United For Change since 2009. The mission of United For Change is\, through modern discourse\, to create awareness of the broadest and most consuming topics within the Muslim community. The aim is to leverage the diversity through cooperation and goodwill and address the obstacles that have proven to be divisive. His most recent work is Where I’m Coming From: The Year In Review\, a new collection of his essays from 2010. Imam Zaid has also authored numerous articles and research papers on a wide range of topics.He is a frequent speaker at local and national Muslim events and has emerged as one of the nation’s top Islamic scholars and a voice of conscience for American Muslims and non-Muslims alike. Imam Zaid has served as an advisor to many organizations and influential leaders. He is ranked as “one of America’s most influential Scholars” in the West; by The 500 Most Influential Muslims\, edited by John Esposito and Ibrahim Kalin\, (2009). Recently\, Imam Zaid is a signatory along with religious and spiritual Leaders from around the world who presented the UN Secretary-General with a declaration in support of the Paris Climate Agreement under the United Nations Framework Convention on Climate Change\, marking the largest number of nations ever signing an international agreement.More Imam Zaid: https://mcceastbay.org/zaid-shakir
URL:https://mcceastbay.org/event/connection/
LOCATION:CA
CATEGORIES:Family Events
ATTACH;FMTTYPE=image/jpeg:https://mcceastbay.org/wp-content/uploads/2024/06/Talks-by-Shayks-with-minimum-description-1.jpg
END:VEVENT
BEGIN:VEVENT
DTSTART;TZID=America/Los_Angeles:20231117T120000
DTEND;TZID=America/Los_Angeles:20231117T160000
DTSTAMP:20260419T153615
CREATED:20231107T011826Z
LAST-MODIFIED:20240630T220117Z
UID:10020458-1700222400-1700236800@mcceastbay.org
SUMMARY:Cat Adoption at Jumu'ah Prayers
DESCRIPTION:Valley Humane Society of Pleasanton will be on site with immediately adoptable furry felines who are ready to be part of your forever family.  \n\n\n\n12 p.m. to 4 p.m. | Friday\, Nov. 17 | MCC Banquet Hall | Free; no RSVP required to attend | See adoption fee below \n\n\n\n“Verily\, there is a Heavenly reward for every act of kindness done to a living animal.” Prophet Muhammad (PBUH) \n\n\n\nEach adopter must be at least 21 years of age. The adoption fee for a kitten is $125 or $200 for a pair and $100 for a cat. It includes: \n\n\n\n\n -medical summary report\n\n\n\n– spay or neuter surgery;\n\n\n\n– microchip and transfer of ownership\n\n\n\n– age-appropriate vaccinations;\n\n\n\n– up to date on flea control;\n\n\n\n– parasite control treatments;\n\n\n\n– free sample bag of food and\n\n\n\n– free vet check certificate\n\n\n\n– coupons for local pet stores\n\n\n\n\nQuestions? events@mcceastbay.org \n\n\n\nProphet Mohammad (peace be upon him) was fond of cats\, particularly his cat Muezza. Prophet Muhammad (PBUH) was so attached to him he’d let the cat sit on his lap while he gave his sermons. He’d even drink water that Muezza had previously been lapping up. \n\n\n\nThere are several well-known tales about Muezza. One says that the cat saved Prophet Muhammad from the deadly bite of a venomous snake. Another relates a time when Muezza was asleep on Prophet Muhammad’s robe when the call to prayers sounded. Although most people would have shooed away the cat\, Prophet Muhammad instead cut off the sleeve of his robe so Muezza could rest in peace. \n\n\n\nIslam instructs Muslims to revere cats. In fact\, mistreating a cat is considered a significant transgression.
URL:https://mcceastbay.org/event/cat-adoption-2/
LOCATION:CA
CATEGORIES:Family Events
ATTACH;FMTTYPE=image/jpeg:https://mcceastbay.org/wp-content/uploads/2024/06/Adopt-a-cat-2.jpg
END:VEVENT
BEGIN:VEVENT
DTSTART;TZID=America/Los_Angeles:20231117T200000
DTEND;TZID=America/Los_Angeles:20231117T203000
DTSTAMP:20260419T153615
CREATED:20231109T030820Z
LAST-MODIFIED:20231109T030820Z
UID:10020461-1700251200-1700253000@mcceastbay.org
SUMMARY:Dua for our Brothers & Sisters | Qari Amar Bellaha
DESCRIPTION:“The parable of the believers in their affection\, mercy\, and compassion for each other is that of a body. When any limb aches\, the whole body reacts with sleeplessness and fever.” Prophet Muhammad (PBUH) \n\n\n\nJoin us to supplicate for our brothers and sisters in Palestine on Thursday and Friday evenings. We will have a guest speaker who will lead with a short talk after the Isha Prayers (8 p.m.) followed by Salawaat & Dua Al-Nasri (Prayers of the Oppressed) by Qari Amar Bellaha. \n\n\n\n8 p.m. to 8:30 p.m.  | Thursdays and Fridays | Prayer Hall | Join in person or watch live at https://mcceastbay.org/liveIn the enormity of this moment\, MCC is responding to our sisters and brothers in Palestine by: \n\n\n\n\n– Our Jumu’ahs are dedicated to our sisters and brothers. Our Khateebs will make dua and encourage worshipers to give generously for humanitarian relief efforts in Gaza. MCC will absorb the credit card processing fees and send collected funds to Islamic Relief & UNRWA. Donate at https://mcceastbay.org/palestine\n\n\n\n– Our MCC youth are baking goods and selling in the MCC lobby during the Jumu’ahs for humanitarian relief efforts during Jumu’ah.\n\n\n\n\nMCC will cover the credit card processing fees so that 100 percent of our community’s donations go to two reputable organizations providing on-the-ground relief efforts in Gaza. Donate: mcceastbay.org/palestine \n\n\n\nThe Nasiri Dua is from the pen of the renowned Sufi Shaykh ibn Nasir ad Dari Rahimahullah of the Shadhiliyya Tariqa. Faced with the military power of France\, who were bombing villages in Morocco\, the Shaykh Rahimahullah wrote this Dua\, which was recited in every Masjid in the Maghrib in various different styles. This Dua had such an effect that the French President issued a law banning its recitation. Due to the barakah of this beautiful Dua\, Morocco gained independence from France. \n\n\n\nThe power of this Dua of Imam Muhammad ibn Nasir al-Dar’i lies in its simplicity\, its purity\, and its sincere supplication. It is essentially a plea to Allah that our transgressions be overlooked\, that divine mercy be bestowed upon us\, that social justice be restored in spite of us\, that wrongs be righted\, and that righteousness reigns once again in our lands so that the destitute may no longer be in need\, the young may be educated\, the animals’ purpose fulfilled\, rain restored\, and bounties poured forth. It is a plea to be freed from the aggression of foreigners in lands over which they have no right – a plea much needed in our modern world\, rampant as it is with invasions and territorial occupations. Ultimately\, it asks not to destroy our enemies but simply to halt their plots and the harm they cause. Its essence is mercy\, which in turn is the essence of the Messenger of Allah\, Muhammad\, peace and blessings be upon him: “And We have only sent you as a mercy to all the worlds.” \n\n\n\nPDF copy of the Nasiri Dua \n\n\n\n\n\n\n\n\n\n\n\n\n\n\nhttps://youtu.be/rLvq6nyi_w8?si=v6s6IXqHsMZtqOKr
URL:https://mcceastbay.org/event/dua-for-our-brothers-sisters-qari-amar-bellaha/
LOCATION:CA
CATEGORIES:Family Events
ATTACH;FMTTYPE=image/jpeg:https://mcceastbay.org/wp-content/uploads/2024/06/Supplications-1-2.jpg
END:VEVENT
BEGIN:VEVENT
DTSTART;TZID=America/Los_Angeles:20231117T200000
DTEND;TZID=America/Los_Angeles:20231117T203000
DTSTAMP:20260419T153615
CREATED:20231116T013700Z
LAST-MODIFIED:20231116T013700Z
UID:10020466-1700251200-1700253000@mcceastbay.org
SUMMARY:Dua for our Brothers & Sisters | Qari Amar Bellaha
DESCRIPTION:“The parable of the believers in their affection\, mercy\, and compassion for each other is that of a body. When any limb aches\, the whole body reacts with sleeplessness and fever.” Prophet Muhammad (PBUH) \n\n\n\nJoin us to supplicate for our brothers and sisters in Palestine on Thursday and Friday evenings. Sr. Amani\, a twelve-year student of Qari Amar Bellaha\, will lead with a short talk after the Isha Prayers (8 p.m.)\, followed by Salawaat & Dua Al-Nasri (Prayers of the Oppressed) by Qari Amar Bellaha. \n\n\n\n8 p.m. to 8:30 p.m.  | Friday | Prayer Hall | Join in person or watch live at https://mcceastbay.org/liveIn the enormity of this moment\, MCC is responding to our sisters and brothers in Palestine by: \n\n\n\n\n– Our Jumu’ahs are dedicated to our sisters and brothers. Our Khateebs will make dua and encourage worshipers to give generously for humanitarian relief efforts in Gaza. MCC will absorb the credit card processing fees and send collected funds to Islamic Relief & UNRWA. Donate at https://mcceastbay.org/palestine\n\n\n\n– Our MCC youth are baking goods and selling in the MCC lobby during the Jumu’ahs for humanitarian relief efforts during Jumu’ah.\n\n\n\n\nMCC will cover the credit card processing fees so that 100 percent of our community’s donations go to two reputable organizations providing on-the-ground relief efforts in Gaza. Donate: mcceastbay.org/palestine \n\n\n\nThe Nasiri Dua is from the pen of the renowned Sufi Shaykh ibn Nasir ad Dari Rahimahullah of the Shadhiliyya Tariqa. Faced with the military power of France\, who were bombing villages in Morocco\, the Shaykh Rahimahullah wrote this Dua\, which was recited in every Masjid in the Maghrib in various different styles. This Dua had such an effect that the French President issued a law banning its recitation. Due to the barakah of this beautiful Dua\, Morocco gained independence from France. \n\n\n\nThe power of this Dua of Imam Muhammad ibn Nasir al-Dar’i lies in its simplicity\, its purity\, and its sincere supplication. It is essentially a plea to Allah that our transgressions be overlooked\, that divine mercy be bestowed upon us\, that social justice be restored in spite of us\, that wrongs be righted\, and that righteousness reigns once again in our lands so that the destitute may no longer be in need\, the young may be educated\, the animals’ purpose fulfilled\, rain restored\, and bounties poured forth. It is a plea to be freed from the aggression of foreigners in lands over which they have no right – a plea much needed in our modern world\, rampant as it is with invasions and territorial occupations. Ultimately\, it asks not to destroy our enemies but simply to halt their plots and the harm they cause. Its essence is mercy\, which in turn is the essence of the Messenger of Allah\, Muhammad\, peace and blessings be upon him: “And We have only sent you as a mercy to all the worlds.” \n\n\n\nPDF copy of the Nasiri Dua \n\n\n\n\n\n\n\n\n\n\n\n\n\n\nhttps://youtu.be/rLvq6nyi_w8?si=v6s6IXqHsMZtqOKr
URL:https://mcceastbay.org/event/dua-for-our-brothers-sisters-qari-amar-bellaha-3/
LOCATION:CA
CATEGORIES:Family Events
ATTACH;FMTTYPE=image/jpeg:https://mcceastbay.org/wp-content/uploads/2024/06/Supplications-6.jpg
END:VEVENT
BEGIN:VEVENT
DTSTART;TZID=America/Los_Angeles:20231117T200000
DTEND;TZID=America/Los_Angeles:20231117T203000
DTSTAMP:20260419T153615
CREATED:20231124T010446Z
LAST-MODIFIED:20231124T010446Z
UID:10020476-1700251200-1700253000@mcceastbay.org
SUMMARY:Dua for our Brothers & Sisters | Qari Amar Bellaha
DESCRIPTION:“The parable of the believers in their affection\, mercy\, and compassion for each other is that of a body. When any limb aches\, the whole body reacts with sleeplessness and fever.” Prophet Muhammad (PBUH) \n\n\n\nJoin us to supplicate for our brothers and sisters in Palestine on Thursday and Friday evenings. Qari Amar Bellaha will lead with Salawaat & Dua Al-Nasri (Prayers of the Oppressed). \n\n\n\n8 p.m. to 8:30 p.m.  | Friday | Prayer Hall | Join in person or watch live at https://mcceastbay.org/liveIn the enormity of this moment\, MCC is responding to our sisters and brothers in Palestine by: \n\n\n\n\n– Our Jumu’ahs are dedicated to our sisters and brothers. Our Khateebs will make dua and encourage worshipers to give generously for humanitarian relief efforts in Gaza. MCC will absorb the credit card processing fees and send collected funds to Islamic Relief & UNRWA. Donate at https://mcceastbay.org/palestine\n\n\n\n– Our MCC youth are baking goods and selling in the MCC lobby during the Jumu’ahs for humanitarian relief efforts during Jumu’ah.\n\n\n\n\nMCC will cover the credit card processing fees so that 100 percent of our community’s donations go to two reputable organizations providing on-the-ground relief efforts in Gaza. Donate: mcceastbay.org/palestine \n\n\n\nThe Nasiri Dua is from the pen of the renowned Sufi Shaykh ibn Nasir ad Dari Rahimahullah of the Shadhiliyya Tariqa. Faced with the military power of France\, who were bombing villages in Morocco\, the Shaykh Rahimahullah wrote this Dua\, which was recited in every Masjid in the Maghrib in various different styles. This Dua had such an effect that the French President issued a law banning its recitation. Due to the barakah of this beautiful Dua\, Morocco gained independence from France. \n\n\n\nThe power of this Dua of Imam Muhammad ibn Nasir al-Dar’i lies in its simplicity\, its purity\, and its sincere supplication. It is essentially a plea to Allah that our transgressions be overlooked\, that divine mercy be bestowed upon us\, that social justice be restored in spite of us\, that wrongs be righted\, and that righteousness reigns once again in our lands so that the destitute may no longer be in need\, the young may be educated\, the animals’ purpose fulfilled\, rain restored\, and bounties poured forth. It is a plea to be freed from the aggression of foreigners in lands over which they have no right – a plea much needed in our modern world\, rampant as it is with invasions and territorial occupations. Ultimately\, it asks not to destroy our enemies but simply to halt their plots and the harm they cause. Its essence is mercy\, which in turn is the essence of the Messenger of Allah\, Muhammad\, peace and blessings be upon him: “And We have only sent you as a mercy to all the worlds.” \n\n\n\nPDF copy of the Nasiri Dua \n\n\n\n\n\n\n\n\n\n\n\n\n\n\nhttps://youtu.be/rLvq6nyi_w8?si=v6s6IXqHsMZtqOKr
URL:https://mcceastbay.org/event/dua-for-oppressed-2/
LOCATION:CA
CATEGORIES:Family Events
ATTACH;FMTTYPE=image/jpeg:https://mcceastbay.org/wp-content/uploads/2024/06/Supplications-6.jpg
END:VEVENT
END:VCALENDAR