BEGIN:VCALENDAR
VERSION:2.0
PRODID:-//MCC East Bay - ECPv6.15.20//NONSGML v1.0//EN
CALSCALE:GREGORIAN
METHOD:PUBLISH
X-WR-CALNAME:MCC East Bay
X-ORIGINAL-URL:https://mcceastbay.org
X-WR-CALDESC:Events for MCC East Bay
REFRESH-INTERVAL;VALUE=DURATION:PT1H
X-Robots-Tag:noindex
X-PUBLISHED-TTL:PT1H
BEGIN:VTIMEZONE
TZID:America/Los_Angeles
BEGIN:DAYLIGHT
TZOFFSETFROM:-0800
TZOFFSETTO:-0700
TZNAME:PDT
DTSTART:20220313T100000
END:DAYLIGHT
BEGIN:STANDARD
TZOFFSETFROM:-0700
TZOFFSETTO:-0800
TZNAME:PST
DTSTART:20221106T090000
END:STANDARD
BEGIN:DAYLIGHT
TZOFFSETFROM:-0800
TZOFFSETTO:-0700
TZNAME:PDT
DTSTART:20230312T100000
END:DAYLIGHT
BEGIN:STANDARD
TZOFFSETFROM:-0700
TZOFFSETTO:-0800
TZNAME:PST
DTSTART:20231105T090000
END:STANDARD
BEGIN:DAYLIGHT
TZOFFSETFROM:-0800
TZOFFSETTO:-0700
TZNAME:PDT
DTSTART:20240310T100000
END:DAYLIGHT
BEGIN:STANDARD
TZOFFSETFROM:-0700
TZOFFSETTO:-0800
TZNAME:PST
DTSTART:20241103T090000
END:STANDARD
END:VTIMEZONE
BEGIN:VEVENT
DTSTART;TZID=America/Los_Angeles:20231226T093000
DTEND;TZID=America/Los_Angeles:20231226T160000
DTSTAMP:20260419T172427
CREATED:20230909T062120Z
LAST-MODIFIED:20240630T215819Z
UID:10020301-1703583000-1703606400@mcceastbay.org
SUMMARY:Afghan Family Winter Camp
DESCRIPTION:Tuesday – Friday\, Dec. 26 – 29 | 9:30 a.m. to 4 p.m. (Dec. 26-28) & 9:30 a.m. to 7 p.m. (Dec. 29th) | Conference Room\, Banquet Hall\, Kindergarten & Pre-K Classrooms | Register at mcceastbay.org/winter-retreatFor recently arrived Afghan refugees and children\, the program includes: \n\n\n\n\nMommy and Me for children ages six and under.\n\n\n\nWomen’s Health and Wellness.\n\n\n\nLego Robotics and Sports Camp for grades 1-5.\n\n\n\nDigital Art and Design or Coding and Sports Clinics for Middle and High Schoolers.\n\n\n\n\nLunch and snacks will be provided on all days to those registered. \n\n\n\nDinner on the 29th will be accompanied by a closing ceremony as well as an awards presentation. *Attendance is mandatory for all days of camp to receive awards at the closing ceremony.* \n\n\n\n*Transportation can be arranged for families to get to and from MCC East Bay for all days*  \n\n\n\nCAIR and Maristan will provide wellness clinics and “Know Your Rights” workshops.Questions? refugee@mcceastbay.org \n\n\n\n\n\n\n\n\n\nCAIR-SFBA\, Maristan\, MCC East Bay\, and San Ramon Valley Islamic Center are sponsoring an Afghan Family Winter Camp designed for Afghan families who arrived in the US on/after August 2021. \n\n\n\nProgram \n\n\n\n\nLearn-by-play program for children aged 3-7\n\n\n\nLego robotics and sports camp for grades 1-5\n\n\n\nDigital art and design or coding and sports clinics for middle school and high school youth\n\n\n\nWomen’s Health and Wellness clinic\n\n\n\nKnow Your Rights workshop\n\n\n\n\nDetails \n\n\n\n\nDates: December 26-29\n\n\n\nTimes: 9:30am to 4:00pm from the Dec 26-28 and 93:0am – 7pm on Dec 29\n\n\n\nLocation: MCC East Bay
URL:https://mcceastbay.org/event/winter-camp/2023-12-26/
LOCATION:CA
CATEGORIES:Family Events
ATTACH;FMTTYPE=image/jpeg:https://mcceastbay.org/wp-content/uploads/2024/06/Afghan-Family-Winter-Camp.jpg
END:VEVENT
BEGIN:VEVENT
DTSTART;TZID=America/Los_Angeles:20231227T093000
DTEND;TZID=America/Los_Angeles:20231227T160000
DTSTAMP:20260419T172427
CREATED:20230909T062120Z
LAST-MODIFIED:20240630T215819Z
UID:10020302-1703669400-1703692800@mcceastbay.org
SUMMARY:Afghan Family Winter Camp
DESCRIPTION:Tuesday – Friday\, Dec. 26 – 29 | 9:30 a.m. to 4 p.m. (Dec. 26-28) & 9:30 a.m. to 7 p.m. (Dec. 29th) | Conference Room\, Banquet Hall\, Kindergarten & Pre-K Classrooms | Register at mcceastbay.org/winter-retreatFor recently arrived Afghan refugees and children\, the program includes: \n\n\n\n\nMommy and Me for children ages six and under.\n\n\n\nWomen’s Health and Wellness.\n\n\n\nLego Robotics and Sports Camp for grades 1-5.\n\n\n\nDigital Art and Design or Coding and Sports Clinics for Middle and High Schoolers.\n\n\n\n\nLunch and snacks will be provided on all days to those registered. \n\n\n\nDinner on the 29th will be accompanied by a closing ceremony as well as an awards presentation. *Attendance is mandatory for all days of camp to receive awards at the closing ceremony.* \n\n\n\n*Transportation can be arranged for families to get to and from MCC East Bay for all days*  \n\n\n\nCAIR and Maristan will provide wellness clinics and “Know Your Rights” workshops.Questions? refugee@mcceastbay.org \n\n\n\n\n\n\n\n\n\nCAIR-SFBA\, Maristan\, MCC East Bay\, and San Ramon Valley Islamic Center are sponsoring an Afghan Family Winter Camp designed for Afghan families who arrived in the US on/after August 2021. \n\n\n\nProgram \n\n\n\n\nLearn-by-play program for children aged 3-7\n\n\n\nLego robotics and sports camp for grades 1-5\n\n\n\nDigital art and design or coding and sports clinics for middle school and high school youth\n\n\n\nWomen’s Health and Wellness clinic\n\n\n\nKnow Your Rights workshop\n\n\n\n\nDetails \n\n\n\n\nDates: December 26-29\n\n\n\nTimes: 9:30am to 4:00pm from the Dec 26-28 and 93:0am – 7pm on Dec 29\n\n\n\nLocation: MCC East Bay
URL:https://mcceastbay.org/event/winter-camp/2023-12-27/
LOCATION:CA
CATEGORIES:Family Events
ATTACH;FMTTYPE=image/jpeg:https://mcceastbay.org/wp-content/uploads/2024/06/Afghan-Family-Winter-Camp.jpg
END:VEVENT
BEGIN:VEVENT
DTSTART;TZID=America/Los_Angeles:20231228T093000
DTEND;TZID=America/Los_Angeles:20231228T160000
DTSTAMP:20260419T172427
CREATED:20230909T062120Z
LAST-MODIFIED:20240630T215819Z
UID:10020303-1703755800-1703779200@mcceastbay.org
SUMMARY:Afghan Family Winter Camp
DESCRIPTION:Tuesday – Friday\, Dec. 26 – 29 | 9:30 a.m. to 4 p.m. (Dec. 26-28) & 9:30 a.m. to 7 p.m. (Dec. 29th) | Conference Room\, Banquet Hall\, Kindergarten & Pre-K Classrooms | Register at mcceastbay.org/winter-retreatFor recently arrived Afghan refugees and children\, the program includes: \n\n\n\n\nMommy and Me for children ages six and under.\n\n\n\nWomen’s Health and Wellness.\n\n\n\nLego Robotics and Sports Camp for grades 1-5.\n\n\n\nDigital Art and Design or Coding and Sports Clinics for Middle and High Schoolers.\n\n\n\n\nLunch and snacks will be provided on all days to those registered. \n\n\n\nDinner on the 29th will be accompanied by a closing ceremony as well as an awards presentation. *Attendance is mandatory for all days of camp to receive awards at the closing ceremony.* \n\n\n\n*Transportation can be arranged for families to get to and from MCC East Bay for all days*  \n\n\n\nCAIR and Maristan will provide wellness clinics and “Know Your Rights” workshops.Questions? refugee@mcceastbay.org \n\n\n\n\n\n\n\n\n\nCAIR-SFBA\, Maristan\, MCC East Bay\, and San Ramon Valley Islamic Center are sponsoring an Afghan Family Winter Camp designed for Afghan families who arrived in the US on/after August 2021. \n\n\n\nProgram \n\n\n\n\nLearn-by-play program for children aged 3-7\n\n\n\nLego robotics and sports camp for grades 1-5\n\n\n\nDigital art and design or coding and sports clinics for middle school and high school youth\n\n\n\nWomen’s Health and Wellness clinic\n\n\n\nKnow Your Rights workshop\n\n\n\n\nDetails \n\n\n\n\nDates: December 26-29\n\n\n\nTimes: 9:30am to 4:00pm from the Dec 26-28 and 93:0am – 7pm on Dec 29\n\n\n\nLocation: MCC East Bay
URL:https://mcceastbay.org/event/winter-camp/2023-12-28/
LOCATION:CA
CATEGORIES:Family Events
ATTACH;FMTTYPE=image/jpeg:https://mcceastbay.org/wp-content/uploads/2024/06/Afghan-Family-Winter-Camp.jpg
END:VEVENT
BEGIN:VEVENT
DTSTART;TZID=America/Los_Angeles:20231229T093000
DTEND;TZID=America/Los_Angeles:20231229T190000
DTSTAMP:20260419T172427
CREATED:20231206T002114Z
LAST-MODIFIED:20240630T220211Z
UID:10020495-1703842200-1703876400@mcceastbay.org
SUMMARY:Afghan Family Winter Camp
DESCRIPTION:Tuesday – Friday\, Dec. 26 – 29 | 9:30 a.m. to 4 p.m. (Dec. 26-28) & 9:30 a.m. to 7 p.m. (Dec. 29th) | Conference Room\, Banquet Hall\, Kindergarten & Pre-K Classrooms | Register at mcceastbay.org/winter-retreatFor recently arrived Afghan refugees and children\, the program includes: \n\n\n\n\nMommy and Me for children ages six and under.\n\n\n\nWomen’s Health and Wellness.\n\n\n\nLego Robotics and Sports camp for grades 1-5.\n\n\n\nDigital Art and Design or Coding and Sports Clinics for Middle and High Schoolers.\n\n\n\n\nLunch and snacks will be provided on all days to those registered. \n\n\n\nDinner on the 29th will be accompanied by a closing ceremony as well as an awards presentation. *Attendance is mandatory for all days of camp to receive awards at the closing ceremony.* \n\n\n\n*Transportation can be arranged for families to get to and from MCC East Bay for all days*  \n\n\n\nCAIR and Maristan will provide wellness clinics and “Know Your Rights” workshops.Questions? refugee@mcceastbay.org
URL:https://mcceastbay.org/event/afghan-family-winter-camp/
LOCATION:CA
CATEGORIES:Family Events
ATTACH;FMTTYPE=image/jpeg:https://mcceastbay.org/wp-content/uploads/2024/06/Afghan-Family-Winter-Camp.jpg
END:VEVENT
END:VCALENDAR