BEGIN:VCALENDAR
VERSION:2.0
PRODID:-//MCC East Bay - ECPv6.15.20//NONSGML v1.0//EN
CALSCALE:GREGORIAN
METHOD:PUBLISH
X-WR-CALNAME:MCC East Bay
X-ORIGINAL-URL:https://mcceastbay.org
X-WR-CALDESC:Events for MCC East Bay
REFRESH-INTERVAL;VALUE=DURATION:PT1H
X-Robots-Tag:noindex
X-PUBLISHED-TTL:PT1H
BEGIN:VTIMEZONE
TZID:America/Los_Angeles
BEGIN:DAYLIGHT
TZOFFSETFROM:-0800
TZOFFSETTO:-0700
TZNAME:PDT
DTSTART:20230312T100000
END:DAYLIGHT
BEGIN:STANDARD
TZOFFSETFROM:-0700
TZOFFSETTO:-0800
TZNAME:PST
DTSTART:20231105T090000
END:STANDARD
BEGIN:DAYLIGHT
TZOFFSETFROM:-0800
TZOFFSETTO:-0700
TZNAME:PDT
DTSTART:20240310T100000
END:DAYLIGHT
BEGIN:STANDARD
TZOFFSETFROM:-0700
TZOFFSETTO:-0800
TZNAME:PST
DTSTART:20241103T090000
END:STANDARD
BEGIN:DAYLIGHT
TZOFFSETFROM:-0800
TZOFFSETTO:-0700
TZNAME:PDT
DTSTART:20250309T100000
END:DAYLIGHT
BEGIN:STANDARD
TZOFFSETFROM:-0700
TZOFFSETTO:-0800
TZNAME:PST
DTSTART:20251102T090000
END:STANDARD
END:VTIMEZONE
BEGIN:VEVENT
DTSTART;TZID=America/Los_Angeles:20240223T190000
DTEND;TZID=America/Los_Angeles:20240223T210000
DTSTAMP:20260419T135307
CREATED:20240223T090700Z
LAST-MODIFIED:20240223T090700Z
UID:10020612-1708714800-1708722000@mcceastbay.org
SUMMARY:Friday Family Night: The Boastful Gardener | Sidi Quran Hodge
DESCRIPTION:Using the story in the Qur’an\, let’s analyze the story of the boastful gardener and how we can see ourselves within this character to manage how we respond when certain situations and challenges arise.  \n\n\n\n7 p.m. to 9 p.m. | Friday\, Feb. 23 | MCC Prayer Hall | Free | Join us in person or watch online or on replay at mcceastbay.org/live \n\n\n\nThis program is open to all\, particularly our youth and young professionals.  \n\n\n\n\nMore talks for teenagers: https://mcceastbay.org/teens\n\n\n\nMore sermons & talks with Quran Hodge: https://mcceastbay.org/quran-hodge\n\n\n\n\nAbout the SpeakerQur’an Hodge is a Bay Area native. He began his Islamic education in 2019\, studying Arabic at the Al Maqasid Seminary in Pennsylvania. Sidi Quran continued to Dar Al Mustafa\, a Yemeni Islamic university in Tarim\, Hadhramaut. At this Islamic seminary founded by Habib Umar bin Hafiz\, Sidi Qur’an studied Ibtidaiyya\, Hadith\, Aqida\, Seerah\, Nahw\, Quran Hifzdh\, Kitaba\, and Tafseer in classical Arabic. \n\n\n\nSidi Quran Hodge has completed certificates in Taleef Collective’s Refing the Core and Zaytuna College’s Permaculture Program. He is passionate about creatively working on community issues\, particularly the challenges Muslim youth face. He lives with his wife and child in Castro Valley. \n\n\n\nQuestions? events@mcceastbay.org
URL:https://mcceastbay.org/event/gardener/
LOCATION:CA
CATEGORIES:Family Events
ATTACH;FMTTYPE=image/jpeg:https://mcceastbay.org/wp-content/uploads/2024/06/The-Teacher-The-Student-1.jpg
END:VEVENT
BEGIN:VEVENT
DTSTART;TZID=America/Los_Angeles:20240224T044500
DTEND;TZID=America/Los_Angeles:20240224T060000
DTSTAMP:20260419T135307
CREATED:20240216T014812Z
LAST-MODIFIED:20240216T014812Z
UID:10020602-1708749900-1708754400@mcceastbay.org
SUMMARY:East Bay Tahajjud Tigers: Tahajjud\, Witr & Fajr in Congregation
DESCRIPTION:The Messenger of Allah (may Allah bless him and give him peace) said\, “Our Lord\, Blessed\, and Exalted is He\, descends (i.e.\, His mercy and concern descends) to the lowest heaven when the final third of the night remains and says\, “Who is there to call on Me so I may answer them? Who is there to ask of Me so I may give them? Who is there to seek My forgiveness so I may forgive them?” [Bukhari] \n\n\n\nJoin us bi-weekly on Saturday mornings before Fajr to pray 4 units of Tahajjud (Night Prayer) & Witr Prayers in the congregation\, followed by Fajr prayer and then light\, yummy snacks. \n\n\n\nThere is no better way to start a day than to pray Tahajjud and Fajr in the congregation along with your loved ones! \n\n\n\nThese bi-weekly Tahajjud prayers are organized by the youth in our community. \n\n\n\nEvery other Saturday | 4:45 a.m. to 6:00 a.m. | MCC Prayer Hall | All ages welcome | RSVP at mcceastbay.org/tahajjud-tigers \n\n\n\nLight snacks will be provided after the Fajr Adhan in the Banquet Hall. \n\n\n\nTentative Schedule:4:35 a.m. – doors open4:45 a.m. – Tahajjud starts (Huffaz will recite Juz #3 – Second Half (3:15 – 3:92))5:34 a.m. – Fajr Adhan5:40 a.m. – Snacks are served6:00 a.m. – Fajr iqamah6:15 a.m. – cleanup
URL:https://mcceastbay.org/event/tahajjud-prayers-3/
LOCATION:CA
CATEGORIES:Family Events
ATTACH;FMTTYPE=image/jpeg:https://mcceastbay.org/wp-content/uploads/2024/06/fajr-in-the-masjid.jpg
END:VEVENT
BEGIN:VEVENT
DTSTART;TZID=America/Los_Angeles:20240224T180000
DTEND;TZID=America/Los_Angeles:20240224T190000
DTSTAMP:20260419T135307
CREATED:20240125T054452Z
LAST-MODIFIED:20240125T054452Z
UID:10020574-1708797600-1708801200@mcceastbay.org
SUMMARY:Nisf-e-Shabaan Program
DESCRIPTION:Join Qari Amar Bellaha and a special guest speaker for a faith-affirming evening to learn lessons from one of the five blessed nights when duas are accepted\, according to Imam Nawawi. After this program\, we highly encourage you to fast this Sunday and join us for a community Iftar in the evening. Join us in this annual commemoration of laylatul-bara’ah (the Night of Innocence). 6 p.m. to 7 p.m. | Saturday\, February 24 | MCC Prayer Hall | Join in-person or watch live at mcceastbay.org/live | RSVP for Iftar @ mcceastbay.org/shaban-iftar \n\n\n\nPlease note that Iftar tickets are non-refundable. Registration for Iftar will close at 6 p.m. on Saturday\, Feb. 23. \n\n\n\n– Past talks commemorating Nisf Sha’ban: https://mcceastbay.org/shaban \n\n\n\nAbout Nisf Sha’banThe month of Shaban is the eighth month of the Islamic lunar calendar. The fifteenth night of this month is known as laylatul-bara’ah (the Night of Innocence) or Laylat un-Nisf min Shaban (the Middle Night of Shaban or shab-e-barat). \n\n\n\nIt has been narrated that the Messenger of Allah\, blessings and peace be upon him\, said: “There are five nights on which dua is not rejected: the first night of Rajab\, the fifteenth night of Sha‘ban\, Thursday night\, the night before Eid al Fitr and the night before Eid al Nahr (al Adha).” (al Suyuti) \n\n\n\nLocally\, for those who follow moonsighting\, the 15th night of Shaban is Sunday night (March 28). This is a special night for making dua and other acts of worship. It is also recommended to fast on the 15th day of Shaban (Monday\, March 29). \n\n\n\nFor more information\, see the following links: \n\n\n\n\nMerits of Sha’ban\n\n\n\n\nThe Prophet (PBUH) said: “Allah looks at His creation in the night of mid-Sha’ban\, and He forgives all His creation except for a mushrik (idolater) or a mushahin (one bent on hatred).” \n\n\n\nIt is the night our provision for the coming year is determined and a night of forgiveness.  Therefore\, doing special dhikr prayers at night and asking for forgiveness is recommended. It is also recommended to fast on the 15th of Shaban (Tuesday\, March 7). \n\n\n\nQuestions? events@mcceastbay.org
URL:https://mcceastbay.org/event/nisf-e-shabaan-iftar-program/
LOCATION:CA
CATEGORIES:Family Events
ATTACH;FMTTYPE=image/jpeg:https://mcceastbay.org/wp-content/uploads/2024/06/Nifs-e-Shaban-3.jpg
END:VEVENT
END:VCALENDAR