BEGIN:VCALENDAR
VERSION:2.0
PRODID:-//MCC East Bay - ECPv6.15.20//NONSGML v1.0//EN
CALSCALE:GREGORIAN
METHOD:PUBLISH
X-WR-CALNAME:MCC East Bay
X-ORIGINAL-URL:https://mcceastbay.org
X-WR-CALDESC:Events for MCC East Bay
REFRESH-INTERVAL;VALUE=DURATION:PT1H
X-Robots-Tag:noindex
X-PUBLISHED-TTL:PT1H
BEGIN:VTIMEZONE
TZID:America/Los_Angeles
BEGIN:DAYLIGHT
TZOFFSETFROM:-0800
TZOFFSETTO:-0700
TZNAME:PDT
DTSTART:20230312T100000
END:DAYLIGHT
BEGIN:STANDARD
TZOFFSETFROM:-0700
TZOFFSETTO:-0800
TZNAME:PST
DTSTART:20231105T090000
END:STANDARD
BEGIN:DAYLIGHT
TZOFFSETFROM:-0800
TZOFFSETTO:-0700
TZNAME:PDT
DTSTART:20240310T100000
END:DAYLIGHT
BEGIN:STANDARD
TZOFFSETFROM:-0700
TZOFFSETTO:-0800
TZNAME:PST
DTSTART:20241103T090000
END:STANDARD
BEGIN:DAYLIGHT
TZOFFSETFROM:-0800
TZOFFSETTO:-0700
TZNAME:PDT
DTSTART:20250309T100000
END:DAYLIGHT
BEGIN:STANDARD
TZOFFSETFROM:-0700
TZOFFSETTO:-0800
TZNAME:PST
DTSTART:20251102T090000
END:STANDARD
END:VTIMEZONE
BEGIN:VEVENT
DTSTART;TZID=America/Los_Angeles:20240515T190000
DTEND;TZID=America/Los_Angeles:20240515T200000
DTSTAMP:20260419T072322
CREATED:20240510T073900Z
LAST-MODIFIED:20240510T073900Z
UID:10021047-1715799600-1715803200@mcceastbay.org
SUMMARY:Purification of the Heart: A Call for Inner Healing | Sidi Shahryar Abbasi
DESCRIPTION:Wednesdays\, Starts May 1 | 7 p.m. to 8 p.m. | Walnut Creek Islamic Center | Join in-person or watch live at mcceastbay.org/live \n\n\n\nJoin Sidi Shahryar Abbasi every Wednesday at 7 p.m. virtually to dive into the popular text Purification of the Heart by Shaykh Hamza Yusuf\, where we will have an opportunity to go over the following: \n\n\n\n\nDelve into the heart’s role in personal governance\n\n\n\nExplore traditional Tazkiya practices for spiritual purification\n\n\n\nIdentify common spiritual diseases and learn specific remedies\n\n\n\nCultivate tranquility\, wisdom\, and patience\, mirroring Prophetic (saw) qualities\n\n\n\nDevelop emotional resilience\, enhance relationships\, and navigate challenges with wisdom aligning with the Sunnah\n\n\n\n\nWe will also cover Imam Al-Ghazali’s Ihya Ulum Al-Din (The Revival of the Religious Sciences)\, books 20-22. \n\n\n\nHosted at Walnut Creek Islamic Center. Streamed on MCC media channels. Watch past sessions at https://mcceastbay.org/healing \n\n\n\n– More Sidi Shahryar: https://mcceastbay.org/shahryar– Sidi Shahryar’s “The Soul’s Journey” Series: https://mcceastbay.org/journey– Sidi Shahryar’s “Real Talk Series”: https://mcceastbay.org/real-talk– Sidi Shahryar’s “Traits of the Righteous” Series: https://mcceastbay.org/hallmark– Sidi Shahryar’s “Controlling Your Desires” Series: https://mcceastbay.org/desires– Sidi Shahryar’s “Soul’s Journey Series: https://mcceastbay.org/journey \n\n\n\nShahryar graduated from the UC Berkeley Haas School of Business and was the External Affairs Vice President of UC Berkeley’s student government. He is an experienced speaker\, mentor\, and coach. Send him questions at: ask.abu.taha@gmail.com and learn more about him at https://www.tiktok.com/@islamic_spirituality. Learn more about him at The Success Company: https://www.successcompany.co/about-us \n\n\n\n\nhttps://www.youtube.com/watch?v=_miz9RAhI8c&list=PL9uyRQTMUugnOmH0oww_n0yUo6hEjEMUL&index=1
URL:https://mcceastbay.org/event/purification-of-the-heart-a-call-for-inner-healing-sidi-shahryar-abbasi/2024-05-15/
LOCATION:CA
CATEGORIES:Family Events
ATTACH;FMTTYPE=image/jpeg:https://mcceastbay.org/wp-content/uploads/2024/06/Purification-of-the-Heart.jpeg
END:VEVENT
BEGIN:VEVENT
DTSTART;TZID=America/Los_Angeles:20240515T190000
DTEND;TZID=America/Los_Angeles:20240515T200000
DTSTAMP:20260419T072322
CREATED:20240627T010748Z
LAST-MODIFIED:20240627T010748Z
UID:10021130-1715799600-1715803200@mcceastbay.org
SUMMARY:Purification of the Heart: A Call for Inner Healing | Sidi Shahryar Abbasi
DESCRIPTION:Wednesdays\, Starts May 1 | 7 p.m. to 8 p.m. | Walnut Creek Islamic Center | Join in-person or watch live at mcceastbay.org/live \n\n\n\nJoin Sidi Shahryar Abbasi every Wednesday at 7 p.m. virtually to dive into the popular text Purification of the Heart by Shaykh Hamza Yusuf\, where we will have an opportunity to go over the following: \n\n\n\n\nDelve into the heart’s role in personal governance\n\n\n\nExplore traditional Tazkiya practices for spiritual purification\n\n\n\nIdentify common spiritual diseases and learn specific remedies\n\n\n\nCultivate tranquility\, wisdom\, and patience\, mirroring Prophetic (saw) qualities\n\n\n\nDevelop emotional resilience\, enhance relationships\, and navigate challenges with wisdom aligning with the Sunnah\n\n\n\n\nWe will also cover Imam Al-Ghazali’s Ihya Ulum Al-Din (The Revival of the Religious Sciences)\, books 20-22. \n\n\n\nHosted at Walnut Creek Islamic Center. Streamed on MCC media channels. Watch past sessions at https://mcceastbay.org/healing \n\n\n\n– More Sidi Shahryar: https://mcceastbay.org/shahryar– Sidi Shahryar’s “The Soul’s Journey” Series: https://mcceastbay.org/journey– Sidi Shahryar’s “Real Talk Series”: https://mcceastbay.org/real-talk– Sidi Shahryar’s “Traits of the Righteous” Series: https://mcceastbay.org/hallmark– Sidi Shahryar’s “Controlling Your Desires” Series: https://mcceastbay.org/desires– Sidi Shahryar’s “Soul’s Journey Series: https://mcceastbay.org/journey \n\n\n\nShahryar graduated from the UC Berkeley Haas School of Business and was the External Affairs Vice President of UC Berkeley’s student government. He is an experienced speaker\, mentor\, and coach. Send him questions at ask.abu.taha@gmail.com and learn more about him at https://www.tiktok.com/@islamic_spirituality. Learn more about him at The Success Company: https://www.successcompany.co/about-us \n\n\n\n\nhttps://www.youtube.com/watch?v=_miz9RAhI8c&list=PL9uyRQTMUugnOmH0oww_n0yUo6hEjEMUL&index=1
URL:https://mcceastbay.org/event/purification-of-the-heart-a-call-for-inner-healing-sidi-shahryar-abbasi-2/2024-05-15/
LOCATION:CA
CATEGORIES:Family Events
ATTACH;FMTTYPE=image/jpeg:https://mcceastbay.org/wp-content/uploads/2024/06/Purification-of-the-Heart.jpeg
END:VEVENT
BEGIN:VEVENT
DTSTART;TZID=America/Los_Angeles:20240518T110000
DTEND;TZID=America/Los_Angeles:20240518T133000
DTSTAMP:20260419T072323
CREATED:20240419T014555Z
LAST-MODIFIED:20240419T014555Z
UID:10021015-1716030000-1716039000@mcceastbay.org
SUMMARY:Maqamaat: Art of Qur’an Recitation | Qari Ibrahim Bakeer
DESCRIPTION:Strive to beautify your voice whilst reciting the Qur’ān\, as the Messenger of Allah ﷺ said\, “Beautify the Qur’ān with your voices” (Abū Dāwūd). \n\n\n\nJoin Qari Ibrahim Bakeer\, a renowned Qur’an reciter\, to get introduced to Qura’nic recitation techniques and transform your Qur’an recitation.  \n\n\n\nThe theory of maqamat teaches us how to produce beautiful sounds without discord so that they are pleasing to the ear and can evoke certain moods and emotions that aid in delivering the message of the Quran directly to the hearts of both the reciter and the listener. Join us on this beautiful journey to discover the beautiful art of Quran recitation. \n\n\n\nSaturday\, May 16 | 11 a.m. to 1:30 p.m. | MCC Prayer Hall | Free; RSVP at mcceastbay.org/art-of-recitation |  Join in-person or watch live at mcceastbay.org/live \n\n\n\nAbout Qari Ibrahim Bakeer \n\n\n\nImam Ibrahim Bakeer is an Al-Azhar University graduate. With a Master’s degree in Quranic Sciences\, he has given many Islamic lectures about Islamic affairs like atheism and monotheism. \n\n\n\nImam Bakeer also has a YouTube channel dedicated to helping people all around the world improve their voice and style in the recitation of the Holy Quran. \n\n\n\n\n\n\n\n\n\nQuestions? events@mcceastbay.org
URL:https://mcceastbay.org/event/maqamaat/
LOCATION:CA
CATEGORIES:Family Events
ATTACH;FMTTYPE=image/jpeg:https://mcceastbay.org/wp-content/uploads/2024/06/Qari-Ibrahim-Bakeer-corrected-date.jpg
END:VEVENT
END:VCALENDAR