BEGIN:VCALENDAR
VERSION:2.0
PRODID:-//MCC East Bay - ECPv6.15.20//NONSGML v1.0//EN
CALSCALE:GREGORIAN
METHOD:PUBLISH
X-WR-CALNAME:MCC East Bay
X-ORIGINAL-URL:https://mcceastbay.org
X-WR-CALDESC:Events for MCC East Bay
REFRESH-INTERVAL;VALUE=DURATION:PT1H
X-Robots-Tag:noindex
X-PUBLISHED-TTL:PT1H
BEGIN:VTIMEZONE
TZID:America/Los_Angeles
BEGIN:DAYLIGHT
TZOFFSETFROM:-0800
TZOFFSETTO:-0700
TZNAME:PDT
DTSTART:20230312T100000
END:DAYLIGHT
BEGIN:STANDARD
TZOFFSETFROM:-0700
TZOFFSETTO:-0800
TZNAME:PST
DTSTART:20231105T090000
END:STANDARD
BEGIN:DAYLIGHT
TZOFFSETFROM:-0800
TZOFFSETTO:-0700
TZNAME:PDT
DTSTART:20240310T100000
END:DAYLIGHT
BEGIN:STANDARD
TZOFFSETFROM:-0700
TZOFFSETTO:-0800
TZNAME:PST
DTSTART:20241103T090000
END:STANDARD
BEGIN:DAYLIGHT
TZOFFSETFROM:-0800
TZOFFSETTO:-0700
TZNAME:PDT
DTSTART:20250309T100000
END:DAYLIGHT
BEGIN:STANDARD
TZOFFSETFROM:-0700
TZOFFSETTO:-0800
TZNAME:PST
DTSTART:20251102T090000
END:STANDARD
END:VTIMEZONE
BEGIN:VEVENT
DTSTART;TZID=America/Los_Angeles:20240911T190000
DTEND;TZID=America/Los_Angeles:20240911T200000
DTSTAMP:20260419T162259
CREATED:20240627T010748Z
LAST-MODIFIED:20240627T010748Z
UID:10021147-1726081200-1726084800@mcceastbay.org
SUMMARY:Purification of the Heart: A Call for Inner Healing | Sidi Shahryar Abbasi
DESCRIPTION:Wednesdays\, Starts May 1 | 7 p.m. to 8 p.m. | Walnut Creek Islamic Center | Join in-person or watch live at mcceastbay.org/live \n\n\n\nJoin Sidi Shahryar Abbasi every Wednesday at 7 p.m. virtually to dive into the popular text Purification of the Heart by Shaykh Hamza Yusuf\, where we will have an opportunity to go over the following: \n\n\n\n\nDelve into the heart’s role in personal governance\n\n\n\nExplore traditional Tazkiya practices for spiritual purification\n\n\n\nIdentify common spiritual diseases and learn specific remedies\n\n\n\nCultivate tranquility\, wisdom\, and patience\, mirroring Prophetic (saw) qualities\n\n\n\nDevelop emotional resilience\, enhance relationships\, and navigate challenges with wisdom aligning with the Sunnah\n\n\n\n\nWe will also cover Imam Al-Ghazali’s Ihya Ulum Al-Din (The Revival of the Religious Sciences)\, books 20-22. \n\n\n\nHosted at Walnut Creek Islamic Center. Streamed on MCC media channels. Watch past sessions at https://mcceastbay.org/healing \n\n\n\n– More Sidi Shahryar: https://mcceastbay.org/shahryar– Sidi Shahryar’s “The Soul’s Journey” Series: https://mcceastbay.org/journey– Sidi Shahryar’s “Real Talk Series”: https://mcceastbay.org/real-talk– Sidi Shahryar’s “Traits of the Righteous” Series: https://mcceastbay.org/hallmark– Sidi Shahryar’s “Controlling Your Desires” Series: https://mcceastbay.org/desires– Sidi Shahryar’s “Soul’s Journey Series: https://mcceastbay.org/journey \n\n\n\nShahryar graduated from the UC Berkeley Haas School of Business and was the External Affairs Vice President of UC Berkeley’s student government. He is an experienced speaker\, mentor\, and coach. Send him questions at ask.abu.taha@gmail.com and learn more about him at https://www.tiktok.com/@islamic_spirituality. Learn more about him at The Success Company: https://www.successcompany.co/about-us \n\n\n\n\nhttps://www.youtube.com/watch?v=_miz9RAhI8c&list=PL9uyRQTMUugnOmH0oww_n0yUo6hEjEMUL&index=1
URL:https://mcceastbay.org/event/purification-of-the-heart-a-call-for-inner-healing-sidi-shahryar-abbasi-2/2024-09-11/
LOCATION:CA
CATEGORIES:Family Events
ATTACH;FMTTYPE=image/jpeg:https://mcceastbay.org/wp-content/uploads/2024/06/Purification-of-the-Heart.jpeg
END:VEVENT
BEGIN:VEVENT
DTSTART;TZID=America/Los_Angeles:20240913T180000
DTEND;TZID=America/Los_Angeles:20240913T224500
DTSTAMP:20260419T162259
CREATED:20240723T222145Z
LAST-MODIFIED:20240914T030807Z
UID:10021211-1726250400-1726267500@mcceastbay.org
SUMMARY:Rabi’ Al-Awwal Mawlid: Nabi-ur-Rahma: The Prophet of Mercy (ﷺ)
DESCRIPTION:The East Bay Annual Mawlid features talks and recitations (Nasheeds) with the theme “Nabi-ur-Rahma: The Prophet of Mercy (ﷺ).” Our special guests this year are Dr. Ali Ataie and Shaykh Faraz Khan. \nWe will have talks\, counsels\, and recitations (Nasheeds) about “The Guiding Light: Muhammad ﷺ” with Qari Amar Bellaha\, Ustadh Tarif Arabi\, and Bay Area Munshids. Sidi Syed Mubeen Saifullah will be the MCC for the evening. \n6 p.m. to 10:45 p.m. | Friday\, September 13 | MCC Prayer Hall | No RSVP needed to join post-Maghrib Mawlid program (only for pre-Mawlid dinner (capped at 600 guests & babysitting) | Join in person or watch virtually at mcceastbay.org/live \nSan Ramon Valley Islamic Center\, Islamic Center of Livermore\, Ta’leef Collective & MCC East Bay proudly present this Rabbi’al Awwal Annual Mawlid. \nProgram Schedule \n\n5:45 p.m. – Asr congregational prayer\n6 p.m. – Burda Shareef with Ustadh Tarif Arabi (Prayer Hall)\n6:30 p.m. – Dinner service begins (men in Sunday School parking lot and women in Conference Room/Kindergarten area)\n7:22 p.m. – Maghrib prayer congregational prayer\n8 p.m. – Qur’an Recitation (Qari Amar Bellaha)\, Talk (Ammu Tarif)\, Nasheeds (Sidi Mahdy Amine and team) (no RSVP needed to join this pre-Mawlid program)\n9 p.m. – Isha congregational prayer\n9:20 p.m. – Talk/presentation (Dr. Ali Ataie) (no RSVP required to join this main Mawlid program)\n10 p.m. – Talk (Shaykh Faraz Khan)\n10:45 p.m. – Qur’an recitation and closing dua by Qari Amar Bellaha\n\nThis is a family-friendly event. Bring the entire family. Complimentary babysitting during the Mawlid program begins at 8 p.m.\, and goodie bags will be given to all kids at the end of the event. RSVP for the main program complimentary babysitting at mcceastbay.org/mawlid-babysitting \nThe Tri-Valley Annual Mawlid ’24 coincides with the weekend of 12th Rabi ul Awwal 1444. \n\n– Watch YouTube Livestream: https://mcceastbay.org/live\n– Watch Facebook Livestream: https://mcceastbay.org/facebook\n– Watch past Mawlid celebrations hosted at MCC: https://mcceastbay.org/mawlid\n– More Dr. Ali: HTTP://mcceastbay.org/ali\n– More Shaykh Faraz: HTTP://mcceastbay.org/faraz\n– More Sidi Mubeen: https://mcceastbay.org/syed\n– More Sidi Mahdy: HTTP://mcceastbay.org/mahdy\n– More Qari Amar: HTTP://mcceastbay.org/amar\n– More Sidi Tareef: HTTP://mcceastbay.org/tarif\n\nQuestions? events@mcceastbay.org \nThe Mawlid is a joyous expression of the greatest blessing from Allah. \nMawlid (or Mawlid al-Nabi al-Sharif) is the observance of the birth of the Islamic Prophet Muhammad ﷺ\, which is commemorated in Rabi’ al-awwal\, the third month in the Islamic calendar. \n\n– Past Tri-Valley and East Bay AlMawlid alNabawi Celebrations: https://mcceastbay.org/mawlid\n– More about celebrating the Prophet (peace be upon him)’s day of birth: https://seekersguidance.org/answers/general-counsel/innovation-bida-and-celebrating-the-prophets-birthday-mawlid\n– In Defense of the Mawlid – Shaykh Abu Nahla Al Wazani: https://mcceastbay.org/wp-content/uploads/2022/10/In-Defense-of-the-Mawlid-Shaykh-Abu-Nahla-Al-Wazani.pdf\n\nQuestions? events@mcceastbay.org \nShaykh Faraz Khan is a scholar of Ashʿarī and Maturidi philosophical theology with field specialties in Hanafi Jurisprudence\, Prophetic Biography\, Hadith\, and Logic. At Zaytuna College\, he has taught Kalam Theology\, Creedal Theology\, Prophetic Biography\, Readings in Muslim Spirituality\, and Logic in the Islamic Tradition. Shaykh Faraz also serves as the coordinator of the Honors Program\, in which he has taught Kalam\, Prophetic Biography\, Logic\, Tafsir\, and Hadith. After completing undergraduate studies at the University of Texas at Austin\, he moved to Amman\, Jordan\, in 2004 and read classical texts with distinguished scholars in Ashʿarī and Māturīdī scholastic theology\, Hanafi jurisprudence\, prophetic narration\, logic\, and other religious sciences\, receiving scholarly authorization (ijāza) after seven years of full-time study. \nUstadh Ali Ataie is a perennial student and researcher who has been involved in interfaith activities for over two decades. He holds a Master’s in biblical studies focusing on New Testament and biblical languages. He also holds a PhD in cultural and historical religious studies from the Graduate Theological Union. His doctoral work focused on Muslim hermeneutics of biblical texts\, especially the Gospel of John. He lives in San Ramon\, CA\, with his wife Roya and three daughters. Learn more about him at https://zaytuna.edu/academics/faculty/ali-ataie \nRaised in Morocco\, Qari Amar Bellaha memorized the Qur’an at 17 from Madrasat Imam Nafia. He has ijaza for the Hafs and Warsh forms of Qur’anic recitation. In 1994 and 1995\, he was awarded top prizes in the National Moroccan Tajweed competition. He is recognized internationally for his recitation’s beauty\, clarity\, and excellence and is one of the Bay area’s foremost Qur’an teachers. Hafiz Amar leads MCC’s Taraweeh prayers each Ramadan. \nAmu Tareef is an international scholar who studied traditional Islamic Sciences at Al-Fath Institute\, al-Azhar branch in Syria. Affectionately known to the community as ‘Ammu (or Uncle)\, he was born and reared in Damascus\, Syria. His teachers include Shaykh Abdul Rahman al-Shaghuri\, Shaykh Hamza Yusuf\, Shaykh Dr. Mustafa al-Khin\, and Shaykh Dr. Samer al-Nass. \nPlease also attend the SBIA Mawlid on Saturday\, Sept. 14: \nSBIA’s Annual Mawlid: In the Prophetic Footsteps\nSBIA Presents the 2024 Annual Mawlid on Saturday\, September 14th. \nSpeakers: \n\nShaykh Faraz Khan\nShaykh Abdullah Misra\nNasheeds by Ahbab al-Habib – Listen on YouTube\nQur’an Recitation by Qari Zakariae El-Mekkaoui\n\nThe event begins with Asr at 6 pm\, followed by dinner. Nasheed & talks after Maghrib.
URL:https://mcceastbay.org/event/annual-mawlid-program/
LOCATION:MCC East Bay\, 5724 W Las Positas Blvd #300\, Pleasanton\, CA\, 94588\, United States
CATEGORIES:Family Events
ATTACH;FMTTYPE=image/jpeg:https://mcceastbay.org/wp-content/uploads/2024/07/Mawlid-2024-2.jpg
ORGANIZER;CN="Muslim Community Center - East Bay":MAILTO:events@mcceastbay.org
END:VEVENT
END:VCALENDAR