BEGIN:VCALENDAR
VERSION:2.0
PRODID:-//MCC East Bay - ECPv6.15.20//NONSGML v1.0//EN
CALSCALE:GREGORIAN
METHOD:PUBLISH
X-WR-CALNAME:MCC East Bay
X-ORIGINAL-URL:https://mcceastbay.org
X-WR-CALDESC:Events for MCC East Bay
REFRESH-INTERVAL;VALUE=DURATION:PT1H
X-Robots-Tag:noindex
X-PUBLISHED-TTL:PT1H
BEGIN:VTIMEZONE
TZID:America/Los_Angeles
BEGIN:DAYLIGHT
TZOFFSETFROM:-0800
TZOFFSETTO:-0700
TZNAME:PDT
DTSTART:20240310T100000
END:DAYLIGHT
BEGIN:STANDARD
TZOFFSETFROM:-0700
TZOFFSETTO:-0800
TZNAME:PST
DTSTART:20241103T090000
END:STANDARD
BEGIN:DAYLIGHT
TZOFFSETFROM:-0800
TZOFFSETTO:-0700
TZNAME:PDT
DTSTART:20250309T100000
END:DAYLIGHT
BEGIN:STANDARD
TZOFFSETFROM:-0700
TZOFFSETTO:-0800
TZNAME:PST
DTSTART:20251102T090000
END:STANDARD
BEGIN:DAYLIGHT
TZOFFSETFROM:-0800
TZOFFSETTO:-0700
TZNAME:PDT
DTSTART:20260308T100000
END:DAYLIGHT
BEGIN:STANDARD
TZOFFSETFROM:-0700
TZOFFSETTO:-0800
TZNAME:PST
DTSTART:20261101T090000
END:STANDARD
END:VTIMEZONE
BEGIN:VEVENT
DTSTART;TZID=America/Los_Angeles:20250103T190000
DTEND;TZID=America/Los_Angeles:20250103T210000
DTSTAMP:20260419T070418
CREATED:20241226T050445Z
LAST-MODIFIED:20250104T031738Z
UID:10022387-1735930800-1735938000@mcceastbay.org
SUMMARY:Community is Messy: Attaining Faith Through Service | Imam Mohammad Yasir Khan
DESCRIPTION:Join Imam Mohammad Yasir Khan (a local community leader & founder of Al-Misbaah in Sacramento) to hear the struggles that our community is currently going through\, ranging from the ongoing refugee crisis to at-risk youths\, addictions\, suicide\, and more\, and how our masajid can overcome the “charity apathy” affect to address these issues. \nImam Yasir will highlight the importance of supporting local causes such as refugee resettlement\, charitable aid\, Islamic education\, youth mentorship\, and support for underserved groups. He will share personal stories of individuals whose lives have been transformed through these initiatives\, creating a powerful connection to the real-world impact of community service.  \nFriday\, Jan. 3 | 7 p.m. to 9 p.m. | MCC Prayer Hall | Join us in person or watch live at mcceastbay.org/live \nImam Yasir will give the 12:30 p.m. to 12:50 p.m. and 1:30 p.m. to 1:50 p.m. Jumu’ah Khutbah this Friday\, January 3\, 2025. \nAl-Misbaah will also do a collection drive this Friday from 12:30 p.m. to 9 p.m. They will have a truck outside the Sisters’ Entrance collecting the following items: \n\nBlankets\nPillows\nShampoo/conditioners\nSoaps\nChildren toys\n\nAbout Imam Yasir: \nImam Yasir Khan was born and raised in Sacramento\, CA\, where he began memorizing the Quran in 2004 and completed his Hifdh in 2008. He pursued advanced Islamic Studies at the Islamic University of Darul Uloom Zakariyya in South Africa\, where he earned certifications (Ijazah) in various Islamic sciences\, including Tafsir (Quranic Exegesis)\, Hadith (Prophetic Traditions)\, Fiqh (Islamic Jurisprudence)\, Usul al-Fiqh (Principles of Jurisprudence)\, Aqeedah (Islamic Theology)\, and Qira’at (Science of Quranic Recitation). \nDuring his studies\, Imam Yasir also gained certification as an Arabic Braille instructor\, empowering visually impaired individuals to read the Quran. His time at Darul Uloom Zakariyya provided him with a solid foundation in Islamic knowledge and extensive experience in nonprofit work\, which he has used to serve communities effectively. \nIn 2015\, Imam Yasir founded Al-Misbaah\, which has grown from a small office to a multi-location organization providing critical services to thousands of individuals. He is also recognized as the first Muslim chaplain appointed to the California State Legislature. \nImam Yasir’s leadership roles reflect his commitment to serving diverse communities while fostering unity and faith-based values. His work bridges religious guidance and practical solutions to modern challenges\, significantly impacting locally and regionally. \nQuestions? events@mcceastbay.org \n \nIn 2020\, Imam Mohammad Yasir Khan became California’s first-ever Muslim chaplain to the state legislature. \nFrom the august State Assembly floor into the unassuming apartments of Afghan refugees in Sacramento to consoling Muslims in prisons & hospitals and consoling at-risk Muslim youth about addiction and suicidal thoughts\, he knows one thing for sure: community is messy. \nJoin him to hear about his journey of finding faith through community; even when he’d instead climb his spiritual mountain in personal worship\, he stays amongst the Muslim Ummah and navigates their temperaments and needs. \nAbout Imam Yasir:\nImam Yasir Khan was born and raised in Sacramento\, CA\, where he began memorizing the Quran in 2004 and completed his Hifdh in 2008. He pursued advanced Islamic Studies at the Islamic University of Darul Uloom Zakariyya in South Africa\, where he earned certifications (Ijazah) in various Islamic sciences\, including Tafsir (Quranic Exegesis)\, Hadith (Prophetic Traditions)\, Fiqh (Islamic Jurisprudence)\, Usul al-Fiqh (Principles of Jurisprudence)\, Aqeedah (Islamic Theology)\, and Qira’at (Science of Quranic Recitation). \nDuring his studies\, Imam Yasir also gained certification as an Arabic Braille instructor\, empowering visually impaired individuals to read the Quran. His time at Darul Uloom Zakariyya provided him with a solid foundation in Islamic knowledge and extensive experience in nonprofit work\, which he has used to serve communities effectively. \nIn 2015\, Imam Yasir founded Al-Misbaah\, which has grown from a small office to a multi-location organization providing critical services to thousands of individuals. He is also recognized as the first Muslim chaplain appointed to the California State Legislature. \nImam Yasir’s leadership roles reflect his commitment to serving diverse communities while fostering unity and faith-based values. His work bridges religious guidance and practical solutions to modern challenges\, significantly impacting locally and regionally. \nThis talk was delivered at the Muslim Community Center – East Bay (MCC East Bay) in Pleasanton\, California on Friday\, January 3\, 2025. \nMore MCC East Bay:\nCalendar of Events: http://www.mcceastbay.org/calendar\nWeekly Updates: http://www.mcceastbay.org/newsletter\nSupport MCC: https://www.mcceastbay.org/sadaqa\nMCC Podcast: http://mcceastbay.org/podcast\nFacebook: http://www.facebook.com/MCCPleasanton Instagram: https://www.instagram.com/mcceastbay\nYouTube: https://www.youtube.com/@MCCEastBay/videos
URL:https://mcceastbay.org/event/community-is-messy/
LOCATION:MCC East Bay\, 5724 W Las Positas Blvd #300\, Pleasanton\, CA\, 94588\, United States
CATEGORIES:Family Events
ATTACH;FMTTYPE=image/jpeg:https://mcceastbay.org/wp-content/uploads/2024/12/Community-is-Messy.jpg
ORGANIZER;CN="Muslim Community Center - East Bay":MAILTO:events@mcceastbay.org
END:VEVENT
BEGIN:VEVENT
DTSTART;TZID=America/Los_Angeles:20250105T063000
DTEND;TZID=America/Los_Angeles:20250105T073000
DTSTAMP:20260419T070418
CREATED:20241225T180406Z
LAST-MODIFIED:20250106T070557Z
UID:10022371-1736058600-1736062200@mcceastbay.org
SUMMARY:#TeamFajr Monthly Sunday Breakfast & Qur'an Khatam
DESCRIPTION:“If people knew the reward in praying Fajr & Isha in a congregation\, they would go to the Masjid even if they had to crawl” [Bukhari & Muslim] \nJoin Qari Amar Bellaha on the first Sunday of each month. Pray the pre-dawn prayer in congregation (6:30 a.m.)\, followed by recitations of Surah Yaseen and Al-Wird Al-Latif (booklets provided) in unison\, community dua\, and following sunup\, Salat al-Ishraq prayer in congregation. Qari Amar will also lead the Khatam (completion) of the Qur’an. Each month\, congregation members complete one Juz of the Holy Qur’an. Please finish your Juz by the first Sunday of each month. Sign up for Juz at mcceastbay.org/juz This program is also streamed virtually at https://mcceastbay.org/live. 2025 Sunday Monthly Khatam with Qari Amar Bellaha: \n\n– January 5\, 2025\n– February 2\, 2025\n– No TeamFajr in Ramadan\n– April 6\, 2025\n– May 4\, 2025\n– June 1\, 2025\n– July 6\, 2025\n– August 3\, 2025\n– September 7\, 2025\n– October 5\, 2025\n– November 2\, 2025\n– December 7\, 2025\n\nThere are numerous benefits and virtues of reciting the Holy Qur’an and sending Salawat upon Rasulullah (S). Along with bringing great barakah into our lives\, these two acts of ‘ibadah are a means by which Allah elevates our rank in Jannah. Though it may be challenging to make a habit of tilawah (recitation) and Salawat individually\, there is strength in our numbers. Join your MCC community in our goal of collectively completing a Qur’an khatam. Questions? events@mcceastbay.org \n\nMore Qari Amar: https://mcceastbay.org/amar\nImam al-Haddad’s litanies (al-Wird al-Latif): https://mcceastbay.org/wird\nThe Prophet (Peace be upon him) said\, “He who performs the Fajr will be under the protection of Allah.” [Muslim]\nThe Messenger of Allah (ﷺ) said: “The best prayer before Allah is the Fajr prayer on Friday in the congregation.”\n\n\n			\n				\n			\n			\n				\n			\n			\n				\n			\n			\n				\n			\n			\n				\n			\n			\n				\n			\n			\n				\n			\n			\n				\n			\n			\n				\n			\n			\n				\n			\n			\n				\n			\n			\n				\n			\n			\n				\n			\n			\n				\n			\n		\n\n 
URL:https://mcceastbay.org/event/monthly-teamfajr-2025/
LOCATION:MCC East Bay\, 5724 W Las Positas Blvd #300\, Pleasanton\, CA\, 94588\, United States
CATEGORIES:Family Events
ATTACH;FMTTYPE=image/png:https://mcceastbay.org/wp-content/uploads/2024/06/Monthly-TeamFajr-Quran-Khatam.png
ORGANIZER;CN="Muslim Community Center - East Bay":MAILTO:events@mcceastbay.org
END:VEVENT
END:VCALENDAR