BEGIN:VCALENDAR
VERSION:2.0
PRODID:-//MCC East Bay - ECPv6.15.20//NONSGML v1.0//EN
CALSCALE:GREGORIAN
METHOD:PUBLISH
X-WR-CALNAME:MCC East Bay
X-ORIGINAL-URL:https://mcceastbay.org
X-WR-CALDESC:Events for MCC East Bay
REFRESH-INTERVAL;VALUE=DURATION:PT1H
X-Robots-Tag:noindex
X-PUBLISHED-TTL:PT1H
BEGIN:VTIMEZONE
TZID:America/Los_Angeles
BEGIN:DAYLIGHT
TZOFFSETFROM:-0800
TZOFFSETTO:-0700
TZNAME:PDT
DTSTART:20240310T100000
END:DAYLIGHT
BEGIN:STANDARD
TZOFFSETFROM:-0700
TZOFFSETTO:-0800
TZNAME:PST
DTSTART:20241103T090000
END:STANDARD
BEGIN:DAYLIGHT
TZOFFSETFROM:-0800
TZOFFSETTO:-0700
TZNAME:PDT
DTSTART:20250309T100000
END:DAYLIGHT
BEGIN:STANDARD
TZOFFSETFROM:-0700
TZOFFSETTO:-0800
TZNAME:PST
DTSTART:20251102T090000
END:STANDARD
BEGIN:DAYLIGHT
TZOFFSETFROM:-0800
TZOFFSETTO:-0700
TZNAME:PDT
DTSTART:20260308T100000
END:DAYLIGHT
BEGIN:STANDARD
TZOFFSETFROM:-0700
TZOFFSETTO:-0800
TZNAME:PST
DTSTART:20261101T090000
END:STANDARD
END:VTIMEZONE
BEGIN:VEVENT
DTSTART;TZID=America/Los_Angeles:20250530T203000
DTEND;TZID=America/Los_Angeles:20250530T214500
DTSTAMP:20260419T083644
CREATED:20250514T213041Z
LAST-MODIFIED:20250531T045416Z
UID:10023599-1748637000-1748641500@mcceastbay.org
SUMMARY:Merits of the First Ten Days of Dhul Hijjah | Shaykh Talal Ahdab
DESCRIPTION:The month of Dhul Hijjah is upon us! See here for details about the Eid al-Adha prayers. \nAccording to the Prophet Muhammad ﷺ\, the first 10 days of this month are a special time for devotion. This applies to all Muslims\, not just those partaking in the pilgrimage. \nTo help you get in the spirit of this blessed time\, join Shaykh Talal Ahdab to learn the significance of Dhul Hijjah – an overlooked gem in the Islamic calendar. He will share beautiful stories from the Prophet’s ﷺ life and practical advice to prepare us for Dhul Hijjah. \n8:30 p.m. – 9:45 p.m. | Friday\, May 30 | In-person in MCC Prayer Hall or watch virtually at https://mcceastbay.org/live \n\n\n\n\n– 1st Dhul-Hijjah:  Wednesday\, May 28\n“Righteous deeds done in the first ten days of the month of Dhul Hijjah are more beloved to Allah than any other days.” (BUKHARI)\n\n\n\n\n–  Thursday\, June 5  The Day of Arafah\n“Fasting on the Day of Arafah expiates for sins of the previous year and the coming year (MUSLIM) *Break your fast at MCC*\n\n\n\n\n– Friday\, June 6 Eid Al-Adha\nCelebrate Eid in the community at one of four prayer services held in partnership with the San Ramon Valley Islamic Center.\n\n\n\nMake the Most of the Blessed Days of Dhul Hijjah \n\n\n\n– Talks & Sermons on Dhul Hijjah: https://mcceastbay.org/dhul-hijjah\n– Guide for Dhul Hijjah’s First Ten Days: https://mcceastbay.org/hijjah-guide\n– What is Special About the Ten Days of Dhul Hijjah? | Shaykh Faid Mohammed Said\n– Dhul Hijjah: 10-Day Game Plan & Checklist (Yaqeen Institute): https://mcceastbay.org/hijjah-plan\n– Ten Days of Dhul Hijjah: A Planner for Your Good Deeds (A Continous Charity): https://mcceastbay.org/hijjah-planner\n– The Eid Takbeers (pdf version): https://mcceastbay.org/takbeer\n– The Eid Takbeers (one-hour audio loop): https://mcceastbay.org/takbir\n\n\n\nPlease know that your Community Center and your charity dollars are working hard to continue to serve our community and keep pace with the steady food and monetary demand during these difficult times for some of your East Bay neighbors. \n\n\n\nPlease remember MCC in your giving and donate now to replenish the Sadaqa & Zakat funds. Donate at https://mcceastbay.org/donate\n\n\n \n\n\nThe Messenger (PBUH) of Allah said\, “There are no days during which righteous action is so pleasing to Allah than these days (the first 10 days of Dhul HIjjah).” [Bukhari]\n\n\n\n– Read Qur’an\n– Make Dua\n– Increase Nawaafil (voluntary) prayers\n– Fasting\n– Dhikr\n– Charity\n\n\n\nQuestions? events@mcceastbay.org \nIbn ‘Abbas (May Allah be pleased with them) reported: The Messenger of Allah (PBUH) said\, “There are no days during which the righteous action is so pleasing to Allah than these days (i.e.\, the first ten days of Dhul-Hijjah).” He was asked: “O Messenger of Allah\, not even Jihad in the Cause of Allah?” He (PBUH) replied\, “Not even Jihad in the Cause of Allah\, except in case one goes forth with his life and his property and does not return with either of it.” [Al- Bukhari] \n \n \n‘By the dawn; by the ten nights’ \nThe Noble Qur’an (89:1-2)\n\nAssalamu ‘Alaykum\, \nThe first ten days of Dhul-Hijjah are so virtuous that Allah (swt) swears by them in the Qur’an: “By the dawn; by the ten nights”. The Qur’an also reminds us: “Remember Allah during the appointed days.” \nIn the hadith\, we find The Prophet ﷺ mention: “There are no days greater and more beloved to Allah than these ten days of Dhul Hijjah\, so increase in them your declaration of the oneness of Allah (tahleel)\, your exaltation of him (takbeer)\, and your praise of Him (tahmeed).” \nThe scholars remind us to spend these sacred days by increasing in worship\, specifically: \n\nFast for the first 9 days\, or at least on Day of ‘Arafah (9th of Dhul-Hijjah) — which is on Friday\, July 8.\nIncrease in your recitation of the Qur’an – at least Surah Yaseen after Fajr\, Surah Waqi’ah & Mulk anytime after Maghrib.\nIncrease in Sadaqah — aim to give a small amount every day.\nIncrease in supererogatory (nawafil) prayers — maintain all your sunnah prayers & aim to wake for tahajjud.\nIncrease in Istighfar (seeking forgiveness) — aim for 100X a day.\nReach out to your relatives\, forgive & forget the past.\nSignificantly increase your Salawaat upon the Prophet (ﷺ) — aim for 100X a day.\n\nMake Du’a and talk to Allah as much as you can. \nJazakAllah Khayr\nImam Tahir Anwar
URL:https://mcceastbay.org/event/the-ten-honored-days/
LOCATION:MCC East Bay\, 5724 W Las Positas Blvd #300\, Pleasanton\, CA\, 94588\, United States
CATEGORIES:Family Events
ATTACH;FMTTYPE=image/jpeg:https://mcceastbay.org/wp-content/uploads/2025/05/Dhul-Hijjah.jpg
ORGANIZER;CN="Muslim Community Center - East Bay":MAILTO:events@mcceastbay.org
END:VEVENT
BEGIN:VEVENT
DTSTART;TZID=America/Los_Angeles:20250601T052000
DTEND;TZID=America/Los_Angeles:20250601T063000
DTSTAMP:20260419T083644
CREATED:20250522T163842Z
LAST-MODIFIED:20250522T164150Z
UID:10023620-1748755200-1748759400@mcceastbay.org
SUMMARY:#TeamFajr Monthly Sunday Breakfast & Qur'an Khatam
DESCRIPTION:  \n“If people knew the reward in praying Fajr & Isha in a congregation\, they would go to the Masjid even if they had to crawl” [Bukhari & Muslim] \nJoin Qari Amar Bellaha on the first Sunday of each month. Pray the pre-dawn prayer in congregation (5:15 a.m.)\, followed by recitations of Surah Yaseen and Al-Wird Al-Latif (booklets provided) in unison\, community dua\, and following sunup\, Salat al-Ishraq prayer in congregation. Qari Amar will also lead the Khatam (completion) of the Qur’an. Each month\, congregation members complete one Juz of the Holy Qur’an. Please finish your Juz by the first Sunday of each month. Sign up for Juz at mcceastbay.org/juz This program is also streamed virtually at https://mcceastbay.org/live. 2025 Sunday Monthly Khatam with Qari Amar Bellaha: \n\n– January 5\, 2025\n– February 2\, 2025\n– No TeamFajr in Ramadan\n– April 6\, 2025\n– May 4\, 2025\n– June 1\, 2025\n– July 6\, 2025\n– August 3\, 2025\n– September 7\, 2025\n– October 5\, 2025\n– November 2\, 2025\n– December 7\, 2025\n\nThere are numerous benefits and virtues of reciting the Holy Qur’an and sending Salawat upon Rasulullah (S). Along with bringing great barakah into our lives\, these two acts of ‘ibadah are a means by which Allah elevates our rank in Jannah. Though it may be challenging to make a habit of tilawah (recitation) and Salawat individually\, there is strength in our numbers. Join your MCC community in our goal of collectively completing a Qur’an khatam. Questions? events@mcceastbay.org \n\nMore Qari Amar: https://mcceastbay.org/amar\nImam al-Haddad’s litanies (al-Wird al-Latif): https://mcceastbay.org/wird\nThe Prophet (Peace be upon him) said\, “He who performs the Fajr will be under the protection of Allah.” [Muslim]\nThe Messenger of Allah (ﷺ) said: “The best prayer before Allah is the Fajr prayer on Friday in the congregation.”\n\n\n			\n				\n			\n			\n				\n			\n			\n				\n			\n			\n				\n			\n			\n				\n			\n			\n				\n			\n			\n				\n			\n			\n				\n			\n			\n				\n			\n			\n				\n			\n			\n				\n			\n			\n				\n			\n			\n				\n			\n			\n				\n			\n		\n\n  \n  \n  \n \n  \n 
URL:https://mcceastbay.org/event/monthly-teamfajr-6-2/
LOCATION:MCC East Bay\, 5724 W Las Positas Blvd #300\, Pleasanton\, CA\, 94588\, United States
CATEGORIES:Family Events
ATTACH;FMTTYPE=image/png:https://mcceastbay.org/wp-content/uploads/2024/06/Monthly-TeamFajr-Quran-Khatam.png
ORGANIZER;CN="Muslim Community Center - East Bay":MAILTO:events@mcceastbay.org
END:VEVENT
BEGIN:VEVENT
DTSTART;TZID=America/Los_Angeles:20250601T110000
DTEND;TZID=America/Los_Angeles:20250601T170000
DTSTAMP:20260419T083644
CREATED:20250422T214324Z
LAST-MODIFIED:20250601T183222Z
UID:10023258-1748775600-1748797200@mcceastbay.org
SUMMARY:Pre Eid al-Adha Bazar '25
DESCRIPTION:  \n\n  \n\nBefore the Eid al-Adha festivities this Friday\, come to MCC to shop from community vendors at our annual pre-Eid al-Adha bazaar! \n11 a.m. to 5 p.m. | Sunday\, June 1\, 2025 | MCC Parking Lot or MCC Lobby (depending on the weather) \nAdmission is free. Bring the entire family! \nGet henna art and shop for jewelry\, clothes\, soaps\, hijabs\, Islamic books\, dolls\, abayas\, and more! \nDon’t miss this opportunity to support our local vendors and shop before Eid.List of Vendors: \n\nElegant Designs\nAsiyah’s Collection\nLavadel beauty and boutique\nEgyptian Store\nIndonesian Muslim Community\nAl Haya collection\nZeinatpalestine\nSunnah healing remedies\nRuby Gifts Boutique\nArabian Gifts شرقيات\nArabian thread\nModestly\nHi-5 Trends \n\n\n  \n\n  \n\n  \n\n  \n\n  \n\nFOR VENDORS: \n*Positively full* Limited vendor spots are available on a first-come\, first-served basis in the MCC Foyer. Complete the interest form at mcceastbay.org/bazar-eid \nIf you have questions about this bazaar\, please email bazar@mcceastbay.org or call Sister Shazia Ashraf at (925) 640-2967. \n\n  \n\n  \n\n  \n\n  \n\n 
URL:https://mcceastbay.org/event/pre-eid-al-adha-bazar/
LOCATION:MCC East Bay\, 5724 W Las Positas Blvd #300\, Pleasanton\, CA\, 94588\, United States
CATEGORIES:Family Events
ATTACH;FMTTYPE=image/jpeg:https://mcceastbay.org/wp-content/uploads/2025/04/Pre-Eid-Adha-Bazar.jpg
ORGANIZER;CN="Muslim Community Center - East Bay":MAILTO:events@mcceastbay.org
END:VEVENT
END:VCALENDAR