BEGIN:VCALENDAR
VERSION:2.0
PRODID:-//MCC East Bay - ECPv6.15.20//NONSGML v1.0//EN
CALSCALE:GREGORIAN
METHOD:PUBLISH
X-WR-CALNAME:MCC East Bay
X-ORIGINAL-URL:https://mcceastbay.org
X-WR-CALDESC:Events for MCC East Bay
REFRESH-INTERVAL;VALUE=DURATION:PT1H
X-Robots-Tag:noindex
X-PUBLISHED-TTL:PT1H
BEGIN:VTIMEZONE
TZID:America/Los_Angeles
BEGIN:DAYLIGHT
TZOFFSETFROM:-0800
TZOFFSETTO:-0700
TZNAME:PDT
DTSTART:20240310T100000
END:DAYLIGHT
BEGIN:STANDARD
TZOFFSETFROM:-0700
TZOFFSETTO:-0800
TZNAME:PST
DTSTART:20241103T090000
END:STANDARD
BEGIN:DAYLIGHT
TZOFFSETFROM:-0800
TZOFFSETTO:-0700
TZNAME:PDT
DTSTART:20250309T100000
END:DAYLIGHT
BEGIN:STANDARD
TZOFFSETFROM:-0700
TZOFFSETTO:-0800
TZNAME:PST
DTSTART:20251102T090000
END:STANDARD
BEGIN:DAYLIGHT
TZOFFSETFROM:-0800
TZOFFSETTO:-0700
TZNAME:PDT
DTSTART:20260308T100000
END:DAYLIGHT
BEGIN:STANDARD
TZOFFSETFROM:-0700
TZOFFSETTO:-0800
TZNAME:PST
DTSTART:20261101T090000
END:STANDARD
END:VTIMEZONE
BEGIN:VEVENT
DTSTART;TZID=America/Los_Angeles:20250606T070000
DTEND;TZID=America/Los_Angeles:20250606T123000
DTSTAMP:20260419T185420
CREATED:20250127T181307Z
LAST-MODIFIED:20250609T023517Z
UID:10022560-1749193200-1749213000@mcceastbay.org
SUMMARY:Eid-al Adha 2025 @ SRVIC/MCC & Rancho San Ramon Park
DESCRIPTION:Based on the moon sighting\, Eid al-Adha ’25 will be on Friday\, June 6\, 2025. Please plan to fast on Thursday\, June 5\, and join your community at MCC on the blessed Day of Arafat\, the day before Eid. \n\n\n\n\n \nPlease join us at one of four prayer services on Eid morning: \n\n\n\nFirst Eid Prayer Service\n\n\n\n\nLocation: SRVIC Prayer Hall\n7 a.m.: Eid prayer *Please arrive at the SRVIC Prayer Hall by 6:45 a.m*\nKhateeb: Hafiz Yusuf Bello\n\nSecond Eid Prayer Service\n\n\n \n\nLocation: MCC East Bay Prayer Hall *Special needs family friendly (see below)*\n7 a.m.: Eid prayer *Please arrive at the MCC Prayer Hall by 6:45 a.m*\nKhateeb: Sidi Afraz Khan\n\n\n\n\nThird Eid Prayer Service\n\n\n\n\nLocation: Rancho San Ramon Community Park\, 1998 Rancho Park Loop\, San Ramon\, CA 94582\n9 a.m.: Eid prayer *Please arrive at the prayer site by 8:45 a.m*\nKhateeb: Shaykh Talal Ahdab\n\n\n\n\nFourth Eid Prayer Service\n\n\n\n\nLocation: Rancho San Ramon Community Park\, 1998 Rancho Park Loop\, San Ramon\, CA 94582\n10:30 a.m.: Eid prayer *Please arrive at the prayer site by 10:15 a.m*\nKhateeb: Sheikh Hamza Abdul-Malik\n\n\n\n\nPlease bring your prayer mat\, an umbrella\, and a water bottle for the grass field. We will have a limited number of prayer mats available at the park location. \n\n\n\n\n\nParking\n\n\n\n\n– Serve your community by volunteering as a parking attendant: https://mcceastbay.org/eid-volunteer\n\n\n\n\n\n\n\n\n\n\n\n\n\n\n \n*🌙✨ Special Need Families! Join us for Eid Salah at MCC East Bay!📅 Friday\, June 6\, 2025 | 🕖 7 AM PST🏠 MCC East Bay\, 5724 W Las Positas Blvd\, Pleasanton\, CAWe’re providing a Quiet Room in Room 16 for families with special needs — because everyone deserves a peaceful and inclusive Eid experience 💙 \nThe takbeerat begins 15 minutes before each Eid prayer\, which starts promptly. The sermon follows the Eid prayer. Please remember that the Khutbah (sermon) follows each prayer\, so please pay attention to it. Please also fast with the community on the blessed day of Arafat\, which falls on Thursday\, June 5. RSVP here for dinner. \n\n\n\nFor Qurbani donation and Bay Area slaughter options: https://mcceastbay.org/qurbani \n\n\n\nPlease also play the Eid Takbeers in your car on the way to the Eid prayer. \n\n\n\nEid Al Adha Mubarak to you all! Thank you for being the best part of San Ramon Valley Islamic Center (SRVIC) & Muslim Community Center – East Bay (MCC East Bay). \n\n\n\nWishing you all a blessed Eid celebration. May Allah accept all of our duas and ibadah\, Ameen!  \n\n\n\n◾ Watch the Eid Services Live on YouTube: http://mcceastbay.org/live  \n\n\n\n◾ Watch the Eid Services Live on Facebook: http://mcceastbay.org/facebook  \n\n\n\n\nhttps://www.youtube.com/watch?v=oRxgWgxsu3Q&list=PL9uyRQTMUugm9mvdn77Yv5nC6bfFJDYp7\n\n\n\n\n\nhttps://youtu.be/ohpzeUf9w9c?si=G7-QdVJKPlAceCdo\n\n\n\n\nQuestions? events@mcceastbay.org \n \n\n\n\n\n\n\n\nWhat is Special About the Ten Days of Dhul Hijjah?  – Shaykh Faid Mohammed Said: https://seekersguidance.org/articles/prophetic-guidance/blessing-ten-days-dhul-hijjah \n\n\n\nThe Messenger (PBUH) of Allah said\, “There are no days during which righteous action is so pleasing to Allah than these days (the first 10 days of Dhul Hijjah).” [Bukhari] \n\n\n\n\n– Read Qur’an\n\n\n\n– Make Dua\n\n\n\n– Increase Nawaafil (voluntary) prayers\n\n\n\n– Increase fasting\n\n\n\n– Increase Dhikr (supplications)\n\n\n\n– Increase charity\n\n\n\n\nQuestions? events@mcceastbay.org \n\n\n\nIbn ‘Abbas (May Allah be pleased with them) reported: The Messenger of Allah (PBUH) said\, “There are no days during which the righteous action is so pleasing to Allah than these days (i.e.\, the first ten days of Dhul-Hijjah).” He was asked: “O Messenger of Allah\, not even Jihad in the Cause of Allah?” He (PBUH) replied\, “Not even Jihad in the Cause of Allah\, except in case one goes forth with his life and property and does not return with either of it.” [Al-Bukhari] \n\n\n\nIt is an excellent sunnah to do Qurbani/Udhiyah to feed the poor in these times. Some scholars may have viewed it as obligatory. However\, most see it as a voluntary (sunnah/mustahab) act. For those who wish to do Qurbani\, it is mustahab (or voluntary sunnah) to avoid cutting hair and nails until the Qurbani is slaughtered. However\, if you cut any hair or nails\, your Qurbani is accepted and does not affect the validity. \n\n\n\nDeeds of the Day of Arafah \n\n\n\nThe Prophet Muhammad ﷺ said: “Fasting the day of Arafah expiates the sins of two years: the past one and the coming one.” (Muslim). So\, don’t miss the reward of fasting it\, and join the community iftars at Masjid Annoor and the Qur’an Center on that day. \n\n\n\nAlso\, increase your dhikr\, recitation of the Qur’an\, good deeds\, and duas before the morning of Eid. Don’t forget to include your family\, friends\, relatives\, neighbors\, MCC community\, and the wider Ummah in your duas\, and make a special dua for our brothers in Gaza/Palestine on this special day. \n\n\n\n\n\n\n\n*The Islamic calendar is based on the lunar cycle\, so significant days shift forward 11 days each year. The sighting of the moon determines the start and end of Ramadan and Eid. \nAccording to the regional moonsighting\, Eid Al Adha ’24 will be celebrated on Friday\, June 6. MCC follows the traditional moon-sighting method\, which relies on regional\, verifiable naked-eye sightings of the new crescent moon to determine the start of all Hijri months. Please see this video to understand this practice. MCC honors the variation at the beginning of each Islamic month based on the new moon being sighted on different days in different places\, and some communities do moon calculations. All are valid. Please observe with your community. \n\n\n\n\n\n\n\n\n\n\n\n\n\n\n\nMCC follows the traditional moon-sighting method\, which relies on regional\, verifiable naked-eye sightings of the new crescent moon to determine the start of all Hijri months. Please see this video to understand this practice. MCC honors the variation at the beginning of each Islamic month based on the new moon being sighted on different days in different places\, and some communities do moon calculations. All are valid. Please observe with your community.\n\n\nThe first 10 days of Dhul Hijjah are here—days our Prophet (peace be upon him) described as the best days of the year. \nYour support to MCC East Bay during these blessed days helps Tri-Valley Muslims find faith in community with: \n\n\nIslamic education and spiritual growth  \n\n\nLife Skills programs that restore faith and hope to our youth \n\n\nOne-on-one support for hundreds of Zakat-eligible families who are trying to keep the wolf from the door.  \n\n\nThis is sadaqah jariyah—an ongoing charity that continues to benefit long after these ten days end. \nGive now and amplify your reward during the days Allah loves most. \nMay Allah reward you abundantly.
URL:https://mcceastbay.org/event/eid-al-adha-25/
LOCATION:CA
CATEGORIES:Family Events
ATTACH;FMTTYPE=image/png:https://mcceastbay.org/wp-content/uploads/2025/01/Eid-Prayer.png
ORGANIZER;CN="Muslim Community Center - East Bay":MAILTO:events@mcceastbay.org
END:VEVENT
END:VCALENDAR