BEGIN:VCALENDAR
VERSION:2.0
PRODID:-//MCC East Bay - ECPv6.15.20//NONSGML v1.0//EN
CALSCALE:GREGORIAN
METHOD:PUBLISH
X-WR-CALNAME:MCC East Bay
X-ORIGINAL-URL:https://mcceastbay.org
X-WR-CALDESC:Events for MCC East Bay
REFRESH-INTERVAL;VALUE=DURATION:PT1H
X-Robots-Tag:noindex
X-PUBLISHED-TTL:PT1H
BEGIN:VTIMEZONE
TZID:America/Los_Angeles
BEGIN:DAYLIGHT
TZOFFSETFROM:-0800
TZOFFSETTO:-0700
TZNAME:PDT
DTSTART:20240310T100000
END:DAYLIGHT
BEGIN:STANDARD
TZOFFSETFROM:-0700
TZOFFSETTO:-0800
TZNAME:PST
DTSTART:20241103T090000
END:STANDARD
BEGIN:DAYLIGHT
TZOFFSETFROM:-0800
TZOFFSETTO:-0700
TZNAME:PDT
DTSTART:20250309T100000
END:DAYLIGHT
BEGIN:STANDARD
TZOFFSETFROM:-0700
TZOFFSETTO:-0800
TZNAME:PST
DTSTART:20251102T090000
END:STANDARD
BEGIN:DAYLIGHT
TZOFFSETFROM:-0800
TZOFFSETTO:-0700
TZNAME:PDT
DTSTART:20260308T100000
END:DAYLIGHT
BEGIN:STANDARD
TZOFFSETFROM:-0700
TZOFFSETTO:-0800
TZNAME:PST
DTSTART:20261101T090000
END:STANDARD
END:VTIMEZONE
BEGIN:VEVENT
DTSTART;TZID=America/Los_Angeles:20251017T190000
DTEND;TZID=America/Los_Angeles:20251017T210000
DTSTAMP:20260419T160633
CREATED:20250918T164313Z
LAST-MODIFIED:20251018T021700Z
UID:10024036-1760727600-1760734800@mcceastbay.org
SUMMARY:Faith\, Freedom & Second Chances | Shaykh Rami Nsour\, Dr. Rania Awaad & Ustadh Amin
DESCRIPTION:Ninety percent of incarcerated Muslims in the U.S. are converts to the faith\, and while seeking to turn a new page in their lives\, find the most basic task of getting an Qur’an challenging.  \nImprisoned Muslims may embrace sectarian or extremist views; others leave religion altogether. Still others return to crime after release\, having found no support from their local Muslim community.  \nFind out how to support the “Forgotten Ummah” and let’s change this reality together! \nFriday\, October 17 | 7 p.m. to 9 p.m. | MCC Prayer Hall | Join in person or watch virtually at mcceastbay.org/live \nSponsored by MCC East Bay & Tayba Foundation. \nQuestions? events@mcceastbay.org \n– More talks about prison support: http://mcceastbay.org/incarcerated\n– More topics addressing community & social justice issues: http://mcceastbay.org/community \n– How MCC supports prisoners in California: http://mcceastbay.org/prison \nSchedule \n\nBoth  programs (Tayba program in Prayer Hall and Dr. Rania in Conference Room) will start at 7 p.m.\nDr. Rania’s halaqa will do Qur’an recitation and dhikr until 7:30 p.m. while we watch and discuss the CBS piece on Tayba Foundation.\nBoth programs will join in the Prayer Hall from 7:30 p.m. to 8:30 p.m.\n\nAmin Ibn Anderson transformed his life during incarceration by connecting with Shaykh Rami Nsour via Tayba Foundation and dedicating himself to Islamic sciences. He earned authorization to teach classical texts in fiqh\, hadith\, Arabic grammar\, and spirituality while also completing diplomas in marketing management and paralegal studies. A certified Alternative Violence Program facilitator\, Amin recently produced the first complete English translation and commentary on Matharat al-Qulub and is writing on Isharatul Qaraar. Now released\, Sidi Ameen is eager to share his knowledge with others. Sidi Ameen was featured in 2025 in a CBS piece about why thousands convert to Islam in prison each year: https://www.youtube.com/watch?v=ufwtRa6l36w  \nShaykah Dr. Rania Awaad M.D.\, is a Clinical Professor of Psychiatry at the Stanford University School of Medicine where she is the Director of the Stanford Muslim Mental Health & Islamic Psychology Lab as well as Stanford University’s Affiliate Chaplain and Affiliate Professor of Islamic Studies. In the community\, she serves as the President and Co-Founder of Maristan\, a holistic mental health nonprofit serving Muslim communities\, and the Director of The Rahmah Foundation\, a non-profit organization dedicated to educating Muslim women and girls. Prior to studying medicine\, she pursued classical Islamic studies in Damascus\, Syria\, and holds certifications (ijaza) in the Qur’an\, Islamic Law\, and other branches of the Islamic Sciences. Follow her @Dr.RaniaAwaad \nShaykh Rami Nsour spent several years in Mauritania\, where he studied at some of the foremost Islamic Colleges (mahdaras). He is the Co-Founder of the Tayba Foundation\, one of the few Muslim organizations in the US serving incarcerated Muslims\, providing them much-needed Islamic education\, along with essential life skills training and assistance upon re-entry.Learn more about Sheikh Rami at https://www.taybafoundation.org/our-team  \nRami Nsour was born in Amman\, Jordan\, and moved to the United States at 9. During his college years\, he attended classes taught by Shuyukh in the San Francisco Bay Area\, notably Shaykh Khatri bin Bayba\, Shaykh Abdullah bin Ahmedna\, and Shaykh Hamza Yusuf. With their encouragement\, Rami embarked on a journey to Mauritania in 1998. In Mauritania\, he studied with some of the greatest scholars of our times\, such as his foremost\, Shaykh Murabit al Hajj bin Fahfu. He was also blessed to study with Murabit Muhammad al-Amin bin al-Shaykh\, Murabit Ahmed Fal bin Ahmedna\, Shaykh Abdullah bin Ahmedna\, Shaykh Tahir ibn Murabit al Hajj and Shaykh Sa’d Bu among others. Rami completed studies in the subjects of Qu’ran\, ‘Aqeedah (Belief)\, Fiqh (Law)\, Nahu (grammar)\, Ihsan (spiritual purification)\, and adab (manners).He has memorized the final text of Maliki fiqh\, Mukhtasar Khalil\, and has been granted permission by his Shuyukh to teach. In addition to his extensive study of fiqh\, he was afforded the unique opportunity to attend one-on-one sessions with his teachers\, where he would engage them in countless hours of discussion on the application of fiqh in general and specifically for those living in the West.Rami has translated traditional Islamic texts from Arabic\, including various works on Maliki fiqh and several works of the great Mauritanian scholar Shaykh Muhammad Mawlud\, including Birr al-Walidayan (The Rights of Parents)\, Ishraq al-Qarar (The Spiritual Aspects of Prayer)\, and the Adab of Sadaqa. He has also translated a versified version of Adab of the Student entitled Iya’ant al Mutafahim (The Assistance of the Student) by Shaykh Muhammad al Hasan as well as the original Taleem al Muta’llim by Shaykh Zarnuji.In addition\, Rami has dedicated much of his time to teaching\, conducting seminars\, and counseling. He has spent much of his time teaching and aiding Muslims in prison and has seen how knowledge unlocks human potential. His students in the prisons have\, in turn\, taught countless people and invited many people to Islam.  He was instrumental in co-founding Dar as-Salaam\, a project dedicated to building and supporting a school in Mauritania. Shaykh Rami serves as a Senior Instructor at SeekersHub Global. Rami co-founded the Tayba Foundation\, which has a correspondence program for incarcerated Muslim (http://www.taybafoundation.org/). In addition to traditional teaching licenses (ijazah)\, Rami holds a B.A. in Human Development focusing on Early Childhood.  Rami resides in the San Francisco Bay Area\, is married\, and has two children. \n“The Messenger of Allah (sal Allahu alayhi wa sallam) said\, “People are ores like the ores of gold and silver. The best in jahiliyya are the best in Islam if they gain fiqh (understanding).”  \nWe should not see in ourselves and others what is immediately apparent but rather look for the potential that can be attained. This potential is unlocked through knowledge of Islam. \nAbout Tayba Foundation\nSince 2004\, Tayba Foundation has touched the lives of more than 11\,000 incarcerated Muslims across the U.S by providing critically needed Islamic education\, essential Life Skills training\, and Reentry support. Many Tayba students have become leaders and change-makers within their communities\, both inside and outside of prison. With every passing year\, we strive to reach more men and women behind bars and to improve the quality of our work to create real change in the lives of those we serve.  \nFaith Identity is More Important Than Ever\nDuring this COVID-19 pandemic\, faith has become a critical component for the incarcerated and these Islamic materials are essential items\, providing them an identity with their Islamic faith community. \nDuring shelter-in place\, the fleeting commodity we have a bit more of is time and this precious resource will be fast fleeting once we go back to a semblance of normalcy. For incarcerated Muslims\, time will remain the commodity they can leverage. Help them do that by donating new and used items. \nThrough this project\, we will be supporting the Muslim Chaplains at California Medical Facility in Vacaville\, Pelican Bay State Prison in Crescent City\, and Avenal State Prison. \nAn oft-neglected segment of our community\, Muslims prisoners face a host of daily challenges when it comes to practicing their faith. These challenges include the availability of halal food\, being able to wear religious head coverings\, having access to religious materials\, and even praying together. \n\n\n\nStudies* have revealed that: \n\nMuslims only comprise about 1% of the U.S. population\, but they represent 9% of the prison population.\n90% of incarcerated Muslims are converts.\nSeveral prisons ban or severely restrict group religious activities.\nMuslim prisoners often have their religious property (such as prayer rugs\, beads\, and Qur’ans) mishandled or confiscated.
URL:https://mcceastbay.org/event/second-chances/
LOCATION:CA
CATEGORIES:Family Events
ATTACH;FMTTYPE=image/jpeg:https://mcceastbay.org/wp-content/uploads/2025/09/Faith-Freedom-Second-Chances.jpg
END:VEVENT
BEGIN:VEVENT
DTSTART;TZID=America/Los_Angeles:20251018T183000
DTEND;TZID=America/Los_Angeles:20251018T201500
DTSTAMP:20260419T160633
CREATED:20251010T192145Z
LAST-MODIFIED:20251014T211653Z
UID:10023609-1760812200-1760818500@mcceastbay.org
SUMMARY:Monthly Mawlid Al Habib | Celebratory Gathering of Salutations on Our Beloved Prophet ﷺ
DESCRIPTION:Connect more with Muhammad (peace be upon him) as we gather on the third Saturday of each month in remembrance and dhikr with Bay Area Munshideens and guest speakers. \nDuring each gathering\, Ustadh Tariq Samady will cover a chapter from the text The Kingdom of the Heart by Habib Umar b. Hafiz. \n6:30 p.m. to 8:15 p.m. (Maghrib to Isha) | Saturdays | MCC Conference Room | Join us in person or watch live at mcceastbay.org/live \nDates for Monthly Family Mawlid at MCC East Bay in 2025\n \n\nSaturday\, January 18\, 2025\nSaturday\, February 15\, 2025\nNo session during Ramadan in March ’25\nSaturday\, April 19\, 2025\nSaturday\, May 17\, 2025\nSaturday\, June 21\, 2025\nSaturday\, July 19\, 2025\nSaturday\, August 16\, 2025\nSaturday\, September 20\, 2025\nSaturday\, October 18\, 2025\nSaturday\, November 22\, 2025\nSaturday\, December 20\, 2025\n\n \n\n– Watch past mawlid celebrations at MCC: http://mcceastbay.org/mawlid\n– More Sidi Tareq: https://mcceastbay.org/tariq\n– More sessions about the book using the monthly Mawlids\, “The Kingdom of the Heart”: http://mcceastbay.org/kingdom\n– Purchase “The Kingdom of the Heart” by Habib Umar bin Hafiz: https://www.amazon.com/Kingdom-Heart-Habib-Umar-Hafiz/dp/173537671X\n\nSponsored by Circles of Light & MCC East Bay. \nQuestions? events@mcceastbay.org  \nThe Mawlid is a joyous expression of the greatest blessing from Allah. \nWe take this blessed opportunity monthly to remind ourselves of the three sacred rights that the Messenger of Allah ﷺ requires from us\, instilling in us a deep sense of respect and reverence. \n\n– Marifah – Recognizing who the Messenger of Allah ﷺ is\n– Muhabbah – Loving the Messenger of Allah ﷺ\n– Ittiba’ – Obedience to the Messenger of Allah ﷺ\n\nThe second two (loving and obeying) are not entirely possible without truly recognizing the first\, who the Messenger of Allah ﷺ was. This recognition enlightens us and deepens our knowledge of his teachings. \n\n– Past mawlid celebrations at MCC: http://mcceastbay.org/mawlid\n\nAbout the Book\, “The Kingdom of the Heart”\n“Within every human being is a Kingdom. The heart is the ruler of this Kingdom\, and the rest of the body is its subjects. If the heart rules with justice and excellence\, the body will perform good actions\, and the Kingdom will flourish. If the heart neglects its duties\, the body will disobey Allah\, and the entire Kingdom will suffer the consequences. Allah ﷻ made this Kingdom so crucial that through it the eternal and everlasting dominion of the next life is either gained or lost.” The Kingdom of the Heart by Habib ‘Umar Bin Hafiz gives the reader a deeper understanding of the importance of cultivating the spiritual kingdom of the heart. Readers will gain a deeper appreciation of how outward actions have spiritual consequences. Some of the topics covered are: •⁠ ⁠The Tongue & Its Effects •⁠ ⁠Looking at Creation with Love & Mercy •⁠ ⁠The Impact of Shaking Hands •⁠ ⁠Attending to the Ending of Our Lives •⁠ ⁠The Impact of Intention This book uniquely shows the direct correlation between outward actions and the heart\, giving us insights into how various actions impact the state of our hearts. Ultimately\, it gives us a way to internalize the wisdom and purpose of acts of devotion\, resulting in the purification of the heart and nearness to Allah ﷻ. \nAbout the Author\nHabib Umar bin Hafiz (Arabic: حبيب عمر بن حفيظ\, romanized: Ḥabīb ʿUmar bin Ḥafīẓ; Arabic pronunciation: [ħabiːb ʕumar bin ħafiːðˤ]; born 27 May 1963) is a Yemeni Sunni and Sufi Islamic scholar\, teacher\, and founder and dean of Dar al-Mustafa Islamic seminary.[3] He is also a Supreme Advisory Council member for the Tabah Foundation in Abu Dhabi. \nUstadh Tariq Samady\nUstadh Tariq Samady is a native of the Bay Area with roots in the ancient city of Kabul. He has been a lifelong seeker of Islamic knowledge\, learning from a wide range of Muslim scholars\, both local and international. With the blessings of his teachers\, he has contributed to various educational programs and gatherings of dhikr. \nHis research and editing interests span Qur’an and Hadith commentaries\, Philology\, Spirituality\, and Persian Poetry. Tariq is the founder of Circles of Light (حلق النور)\, a fledgling educational initiative focused on sharing sacred learnings and wisdom for the community’s benefit. He studied Computer Science at California State University—East Bay and has over ten years of experience as a Developer and Analytics QA Engineer. \nAbout Circles of Light\nCircles of Light is a fledgling educational initiative focused on sharing sacred learnings and wisdom for the benefit of the community\, meant to assist in maximizing Dunya (this life) for our Deen (Faith). He gives wisdom to whomever He wills. Whoever is given wisdom has been given much good. But none pays heed except those with insight. (Quran). We are motivated by the words of the Messenger of Allah (peace and blessings be upon him); the most beloved people to Allah are those most beneficial to the people. (Hadith). We seek to achieve this aim through our in-person educational programs and publications. \nAlmighty Allah ﷻ directs us in Sūratul Aḥzāb\, “Verily\, Allah and His Angels send blessings on the Messenger of Allah. You who believe invoke blessings on him and salute him with a worthy salutation.” Our purpose of invoking blessings upon the Beloved ﷺ leads to proximity to Almighty Allah ﷻ by obeying this command while simultaneously fulfilling our rights upon the Messenger of Allah ﷺ. It is crystal clear how vital the invocation of Ṣalawāt is for the believer\, and it is a Mercy of Almighty Allah ﷻ for its rewards to be multitudinous. Abundant Ṣalawāt upon the Beloved ﷺ leads to loving him and knowing his beautiful qualities. By that virtue\, degrees of purity are realized. From the signs of the people of the Sunnah is sending Ṣalawāt upon him\, for the key to all goodness is Ṣalawāt upon the Messenger of Allah ﷺ. \n\n– More Sidi Tariq Samady: http://mcceastbay.org/tariq\n– More Tri-Valley and East Bay Mawlid celebrations: https://mcceastbay.org/mawlid\n– More about celebrating the Prophet (peace be upon him)’s day of birth: https://seekersguidance.org/answers/general-counsel/innovation-bida-and-celebrating-the-prophets-birthday-mawlid\n– More sessions about “The Kingdom of the Heart”: http://mcceastbay.org/kingdom
URL:https://mcceastbay.org/event/monthly-mawlid-2-2-3-2/
LOCATION:MCC East Bay\, 5724 W Las Positas Blvd #300\, Pleasanton\, CA\, 94588\, United States
CATEGORIES:Family Events
ATTACH;FMTTYPE=image/jpeg:https://mcceastbay.org/wp-content/uploads/2025/10/Monthly-Mawlid.jpg
ORGANIZER;CN="Muslim Community Center - East Bay":MAILTO:events@mcceastbay.org
END:VEVENT
END:VCALENDAR