BEGIN:VCALENDAR
VERSION:2.0
PRODID:-//MCC East Bay - ECPv6.15.20//NONSGML v1.0//EN
CALSCALE:GREGORIAN
METHOD:PUBLISH
X-WR-CALNAME:MCC East Bay
X-ORIGINAL-URL:https://mcceastbay.org
X-WR-CALDESC:Events for MCC East Bay
REFRESH-INTERVAL;VALUE=DURATION:PT1H
X-Robots-Tag:noindex
X-PUBLISHED-TTL:PT1H
BEGIN:VTIMEZONE
TZID:America/Los_Angeles
BEGIN:DAYLIGHT
TZOFFSETFROM:-0800
TZOFFSETTO:-0700
TZNAME:PDT
DTSTART:20200308T100000
END:DAYLIGHT
BEGIN:STANDARD
TZOFFSETFROM:-0700
TZOFFSETTO:-0800
TZNAME:PST
DTSTART:20201101T090000
END:STANDARD
BEGIN:DAYLIGHT
TZOFFSETFROM:-0800
TZOFFSETTO:-0700
TZNAME:PDT
DTSTART:20210314T100000
END:DAYLIGHT
BEGIN:STANDARD
TZOFFSETFROM:-0700
TZOFFSETTO:-0800
TZNAME:PST
DTSTART:20211107T090000
END:STANDARD
BEGIN:DAYLIGHT
TZOFFSETFROM:-0800
TZOFFSETTO:-0700
TZNAME:PDT
DTSTART:20220313T100000
END:DAYLIGHT
BEGIN:STANDARD
TZOFFSETFROM:-0700
TZOFFSETTO:-0800
TZNAME:PST
DTSTART:20221106T090000
END:STANDARD
END:VTIMEZONE
BEGIN:VEVENT
DTSTART;TZID=America/Los_Angeles:20211007T193000
DTEND;TZID=America/Los_Angeles:20211007T210000
DTSTAMP:20260419T155248
CREATED:20210930T110725Z
LAST-MODIFIED:20210930T110725Z
UID:10014898-1633635000-1633640400@mcceastbay.org
SUMMARY:Afghan Refugee Relief Effort Update
DESCRIPTION:Join us to get the latest updates about efforts to settle Afghan refugees in the San Francisco Bay Area. \nHear from refugee coordinators from MCC East Bay\, San Ramon Valley Islamic Center (SRVIC)\, International Refugee Committee (IRC)\, and Jewish Family & Community Services (JFCS). \n7:30 p.m. to 9 p.m. | Thursday\, October 7 | RSVP for online Zoom webinar at https://mcceastbay.org/refugee-update \nQuestions? events@mcceastbay.org \nRecent updates about refugees from Afghanistan: \n\nhttps://mcceastbay.org/afghanistan\nhttps://mcceastbay.org/afghan-foster-care\nhttps://mcceastbay.org/twelve-refugees\nhttps://mcceastbay.org/relief-efforts
URL:https://mcceastbay.org/event/afghan-refugee-update/
CATEGORIES:Interfaith & Community Outreach
ATTACH;FMTTYPE=image/png:https://mcceastbay.org/wp-content/uploads/2024/06/afghan-refugee-update-East-Bay.png
ORGANIZER;CN="Muslim Community Center - East Bay":MAILTO:events@mcceastbay.org
END:VEVENT
END:VCALENDAR