BEGIN:VCALENDAR
VERSION:2.0
PRODID:-//MCC East Bay - ECPv6.15.20//NONSGML v1.0//EN
CALSCALE:GREGORIAN
METHOD:PUBLISH
X-WR-CALNAME:MCC East Bay
X-ORIGINAL-URL:https://mcceastbay.org
X-WR-CALDESC:Events for MCC East Bay
REFRESH-INTERVAL;VALUE=DURATION:PT1H
X-Robots-Tag:noindex
X-PUBLISHED-TTL:PT1H
BEGIN:VTIMEZONE
TZID:America/Los_Angeles
BEGIN:DAYLIGHT
TZOFFSETFROM:-0800
TZOFFSETTO:-0700
TZNAME:PDT
DTSTART:20210314T100000
END:DAYLIGHT
BEGIN:STANDARD
TZOFFSETFROM:-0700
TZOFFSETTO:-0800
TZNAME:PST
DTSTART:20211107T090000
END:STANDARD
BEGIN:DAYLIGHT
TZOFFSETFROM:-0800
TZOFFSETTO:-0700
TZNAME:PDT
DTSTART:20220313T100000
END:DAYLIGHT
BEGIN:STANDARD
TZOFFSETFROM:-0700
TZOFFSETTO:-0800
TZNAME:PST
DTSTART:20221106T090000
END:STANDARD
BEGIN:DAYLIGHT
TZOFFSETFROM:-0800
TZOFFSETTO:-0700
TZNAME:PDT
DTSTART:20230312T100000
END:DAYLIGHT
BEGIN:STANDARD
TZOFFSETFROM:-0700
TZOFFSETTO:-0800
TZNAME:PST
DTSTART:20231105T090000
END:STANDARD
END:VTIMEZONE
BEGIN:VEVENT
DTSTART;TZID=America/Los_Angeles:20220107T113000
DTEND;TZID=America/Los_Angeles:20220107T170000
DTSTAMP:20260419T163213
CREATED:20211230T180629Z
LAST-MODIFIED:20240630T211311Z
UID:10015068-1641555000-1641574800@mcceastbay.org
SUMMARY:Covid Testing
DESCRIPTION:Get tested for COVID-19 for free. No appointment necessary and PCR nasal swab test results in 48-72 hours. \n\n10 a.m. – 3 p.m. on Sunday\, January 2\n11:30 a.m. to 5 p.m. on Friday\, January 7\n10 a.m. – 3 p.m. on Sunday\, January 9\n\nThis free outdoor testing in the MCC parking lot is for anyone ages 4 and up. Do your part. Protect yourself\, your loved ones and your community. \nThis no-cost COVID-19 testing site is sponsored by KindlyTest & MCC East Bay. No out-of-pocket cost for test. Results emailed to email provided during registration in 48-72 hours after test. Labs in the Bay Area are struggling to keep up with the testing demand and the results are taking longer than usual. \nQuestions? events@mcceastbay.org \nFrequently Asked Questions\n\nDo I have to schedule an appointment?\n\n\nNo appointments are necessary. Just walk up to outdoor testing location in MCC parking lot. \n\n\nHow do I get my results?​​​\n\n\n A copy of the test results will be sent to the email you provide during the online registration. \n\n\nWhen will I receive my results?\n\n\nA PCR Test takes up to 48 hours to receive your results. This test is completely free of charge. \n\nWhat tests is offered?\n\n\nKindlyTest uses RT-PCR (Reverse Transcript PCR) analyzers for COVID-19 testing. We chose this technology for its accuracy and reliability. RT-PCR tests are accepted as the ‘gold standard’ for schools\, businesses and pre-travel COVID testing. The PCR test are provided to you at no cost. \n\n\nWhat is the cost of the test?\n\n\nPCR Test is provided to you at no cost. \n\n\nWhat do I need to bring with me?\n\n\nPlease bring your ID and insurance card (if you have one). If you are uninsured\, the tests are provided a to you at no cost. If you hold a foreign passport the test is still provided to you at no cost. \n\n\nIs your test FDA approved?\n\n\nOur partner lab is CLIA certified and uses test following the FDA’s guidance. A CLIA certification is vital for a testing facility and is required for traveling to countries outside the US. \n\nHow is your test performed?\n\n\nIt is a nasal self swab. All instructions will be given to you within the kit along with a brochure. Instructions will also be provided at the testing sites. \n\nCan children be tested ?\n\n\nWe allow children over the age of 4 yrs to get tested.
URL:https://mcceastbay.org/event/covid-testing/2022-01-07/
LOCATION:MCC East Bay\, 5724 W Las Positas Blvd #300\, Pleasanton\, CA\, 94588\, United States
CATEGORIES:Interfaith & Community Outreach
ATTACH;FMTTYPE=image/png:https://mcceastbay.org/wp-content/uploads/2024/06/Covid-19-PCR-Testing-Muslim-Community-Center-East-Bay-mosque-Islamic-cneter-masjid.png
ORGANIZER;CN="Muslim Community Center - East Bay":MAILTO:events@mcceastbay.org
END:VEVENT
BEGIN:VEVENT
DTSTART;TZID=America/Los_Angeles:20220107T113000
DTEND;TZID=America/Los_Angeles:20220107T170000
DTSTAMP:20260419T163213
CREATED:20211230T180629Z
LAST-MODIFIED:20240630T211446Z
UID:10015229-1641555000-1641574800@mcceastbay.org
SUMMARY:Covid Testing
DESCRIPTION:Get tested for COVID-19 for free. No appointment necessary and PCR nasal swab test results in 48-72 hours. \n\n10 a.m. – 3 p.m. on Sunday\, January 2\n11:30 a.m. to 5 p.m. on Friday\, January 7\n10 a.m. – 3 p.m. on Sunday\, January 9\n\nThis free outdoor testing in the MCC parking lot is for anyone ages 4 and up. Do your part. Protect yourself\, your loved ones and your community. \nThis no-cost COVID-19 testing site is sponsored by KindlyTest & MCC East Bay. No out-of-pocket cost for test. Results emailed to email provided during registration in 48-72 hours after test. Labs in the Bay Area are struggling to keep up with the testing demand and the results are taking longer than usual. \nQuestions? events@mcceastbay.org \nFrequently Asked Questions\n\nDo I have to schedule an appointment?\n\n\nNo appointments are necessary. Just walk up to outdoor testing location in MCC parking lot. \n\n\nHow do I get my results?​​​\n\n\n A copy of the test results will be sent to the email you provide during the online registration. \n\n\nWhen will I receive my results?\n\n\nA PCR Test takes up to 48 hours to receive your results. This test is completely free of charge. \n\nWhat tests is offered?\n\n\nKindlyTest uses RT-PCR (Reverse Transcript PCR) analyzers for COVID-19 testing. We chose this technology for its accuracy and reliability. RT-PCR tests are accepted as the ‘gold standard’ for schools\, businesses and pre-travel COVID testing. The PCR test are provided to you at no cost. \n\n\nWhat is the cost of the test?\n\n\nPCR Test is provided to you at no cost. \n\n\nWhat do I need to bring with me?\n\n\nPlease bring your ID and insurance card (if you have one). If you are uninsured\, the tests are provided a to you at no cost. If you hold a foreign passport the test is still provided to you at no cost. \n\n\nIs your test FDA approved?\n\n\nOur partner lab is CLIA certified and uses test following the FDA’s guidance. A CLIA certification is vital for a testing facility and is required for traveling to countries outside the US. \n\nHow is your test performed?\n\n\nIt is a nasal self swab. All instructions will be given to you within the kit along with a brochure. Instructions will also be provided at the testing sites. \n\nCan children be tested ?\n\n\nWe allow children over the age of 4 yrs to get tested.
URL:https://mcceastbay.org/event/covid-testing/2022-01-07/
LOCATION:MCC East Bay\, 5724 W Las Positas Blvd #300\, Pleasanton\, CA\, 94588\, United States
CATEGORIES:Interfaith & Community Outreach
ATTACH;FMTTYPE=image/png:https://mcceastbay.org/wp-content/uploads/2024/06/Covid-19-PCR-Testing-Muslim-Community-Center-East-Bay-mosque-Islamic-cneter-masjid.png
ORGANIZER;CN="Muslim Community Center - East Bay":MAILTO:events@mcceastbay.org
END:VEVENT
BEGIN:VEVENT
DTSTART;TZID=America/Los_Angeles:20220109T100000
DTEND;TZID=America/Los_Angeles:20220109T150000
DTSTAMP:20260419T163213
CREATED:20211230T180629Z
LAST-MODIFIED:20240630T211311Z
UID:10015069-1641722400-1641740400@mcceastbay.org
SUMMARY:Covid Testing
DESCRIPTION:Get tested for COVID-19 for free. No appointment necessary and PCR nasal swab test results in 48-72 hours. \n\n10 a.m. – 3 p.m. on Sunday\, January 2\n11:30 a.m. to 5 p.m. on Friday\, January 7\n10 a.m. – 3 p.m. on Sunday\, January 9\n\nThis free outdoor testing in the MCC parking lot is for anyone ages 4 and up. Do your part. Protect yourself\, your loved ones and your community. \nThis no-cost COVID-19 testing site is sponsored by KindlyTest & MCC East Bay. No out-of-pocket cost for test. Results emailed to email provided during registration in 48-72 hours after test. Labs in the Bay Area are struggling to keep up with the testing demand and the results are taking longer than usual. \nQuestions? events@mcceastbay.org \nFrequently Asked Questions\n\nDo I have to schedule an appointment?\n\n\nNo appointments are necessary. Just walk up to outdoor testing location in MCC parking lot. \n\n\nHow do I get my results?​​​\n\n\n A copy of the test results will be sent to the email you provide during the online registration. \n\n\nWhen will I receive my results?\n\n\nA PCR Test takes up to 48 hours to receive your results. This test is completely free of charge. \n\nWhat tests is offered?\n\n\nKindlyTest uses RT-PCR (Reverse Transcript PCR) analyzers for COVID-19 testing. We chose this technology for its accuracy and reliability. RT-PCR tests are accepted as the ‘gold standard’ for schools\, businesses and pre-travel COVID testing. The PCR test are provided to you at no cost. \n\n\nWhat is the cost of the test?\n\n\nPCR Test is provided to you at no cost. \n\n\nWhat do I need to bring with me?\n\n\nPlease bring your ID and insurance card (if you have one). If you are uninsured\, the tests are provided a to you at no cost. If you hold a foreign passport the test is still provided to you at no cost. \n\n\nIs your test FDA approved?\n\n\nOur partner lab is CLIA certified and uses test following the FDA’s guidance. A CLIA certification is vital for a testing facility and is required for traveling to countries outside the US. \n\nHow is your test performed?\n\n\nIt is a nasal self swab. All instructions will be given to you within the kit along with a brochure. Instructions will also be provided at the testing sites. \n\nCan children be tested ?\n\n\nWe allow children over the age of 4 yrs to get tested.
URL:https://mcceastbay.org/event/covid-testing/2022-01-09/
LOCATION:MCC East Bay\, 5724 W Las Positas Blvd #300\, Pleasanton\, CA\, 94588\, United States
CATEGORIES:Interfaith & Community Outreach
ATTACH;FMTTYPE=image/png:https://mcceastbay.org/wp-content/uploads/2024/06/Covid-19-PCR-Testing-Muslim-Community-Center-East-Bay-mosque-Islamic-cneter-masjid.png
ORGANIZER;CN="Muslim Community Center - East Bay":MAILTO:events@mcceastbay.org
END:VEVENT
BEGIN:VEVENT
DTSTART;TZID=America/Los_Angeles:20220109T100000
DTEND;TZID=America/Los_Angeles:20220109T150000
DTSTAMP:20260419T163213
CREATED:20211230T180629Z
LAST-MODIFIED:20240630T211446Z
UID:10015230-1641722400-1641740400@mcceastbay.org
SUMMARY:Covid Testing
DESCRIPTION:Get tested for COVID-19 for free. No appointment necessary and PCR nasal swab test results in 48-72 hours. \n\n10 a.m. – 3 p.m. on Sunday\, January 2\n11:30 a.m. to 5 p.m. on Friday\, January 7\n10 a.m. – 3 p.m. on Sunday\, January 9\n\nThis free outdoor testing in the MCC parking lot is for anyone ages 4 and up. Do your part. Protect yourself\, your loved ones and your community. \nThis no-cost COVID-19 testing site is sponsored by KindlyTest & MCC East Bay. No out-of-pocket cost for test. Results emailed to email provided during registration in 48-72 hours after test. Labs in the Bay Area are struggling to keep up with the testing demand and the results are taking longer than usual. \nQuestions? events@mcceastbay.org \nFrequently Asked Questions\n\nDo I have to schedule an appointment?\n\n\nNo appointments are necessary. Just walk up to outdoor testing location in MCC parking lot. \n\n\nHow do I get my results?​​​\n\n\n A copy of the test results will be sent to the email you provide during the online registration. \n\n\nWhen will I receive my results?\n\n\nA PCR Test takes up to 48 hours to receive your results. This test is completely free of charge. \n\nWhat tests is offered?\n\n\nKindlyTest uses RT-PCR (Reverse Transcript PCR) analyzers for COVID-19 testing. We chose this technology for its accuracy and reliability. RT-PCR tests are accepted as the ‘gold standard’ for schools\, businesses and pre-travel COVID testing. The PCR test are provided to you at no cost. \n\n\nWhat is the cost of the test?\n\n\nPCR Test is provided to you at no cost. \n\n\nWhat do I need to bring with me?\n\n\nPlease bring your ID and insurance card (if you have one). If you are uninsured\, the tests are provided a to you at no cost. If you hold a foreign passport the test is still provided to you at no cost. \n\n\nIs your test FDA approved?\n\n\nOur partner lab is CLIA certified and uses test following the FDA’s guidance. A CLIA certification is vital for a testing facility and is required for traveling to countries outside the US. \n\nHow is your test performed?\n\n\nIt is a nasal self swab. All instructions will be given to you within the kit along with a brochure. Instructions will also be provided at the testing sites. \n\nCan children be tested ?\n\n\nWe allow children over the age of 4 yrs to get tested.
URL:https://mcceastbay.org/event/covid-testing/2022-01-09/
LOCATION:MCC East Bay\, 5724 W Las Positas Blvd #300\, Pleasanton\, CA\, 94588\, United States
CATEGORIES:Interfaith & Community Outreach
ATTACH;FMTTYPE=image/png:https://mcceastbay.org/wp-content/uploads/2024/06/Covid-19-PCR-Testing-Muslim-Community-Center-East-Bay-mosque-Islamic-cneter-masjid.png
ORGANIZER;CN="Muslim Community Center - East Bay":MAILTO:events@mcceastbay.org
END:VEVENT
END:VCALENDAR