BEGIN:VCALENDAR
VERSION:2.0
PRODID:-//MCC East Bay - ECPv6.15.20//NONSGML v1.0//EN
CALSCALE:GREGORIAN
METHOD:PUBLISH
X-WR-CALNAME:MCC East Bay
X-ORIGINAL-URL:https://mcceastbay.org
X-WR-CALDESC:Events for MCC East Bay
REFRESH-INTERVAL;VALUE=DURATION:PT1H
X-Robots-Tag:noindex
X-PUBLISHED-TTL:PT1H
BEGIN:VTIMEZONE
TZID:America/Los_Angeles
BEGIN:DAYLIGHT
TZOFFSETFROM:-0800
TZOFFSETTO:-0700
TZNAME:PDT
DTSTART:20210314T100000
END:DAYLIGHT
BEGIN:STANDARD
TZOFFSETFROM:-0700
TZOFFSETTO:-0800
TZNAME:PST
DTSTART:20211107T090000
END:STANDARD
BEGIN:DAYLIGHT
TZOFFSETFROM:-0800
TZOFFSETTO:-0700
TZNAME:PDT
DTSTART:20220313T100000
END:DAYLIGHT
BEGIN:STANDARD
TZOFFSETFROM:-0700
TZOFFSETTO:-0800
TZNAME:PST
DTSTART:20221106T090000
END:STANDARD
BEGIN:DAYLIGHT
TZOFFSETFROM:-0800
TZOFFSETTO:-0700
TZNAME:PDT
DTSTART:20230312T100000
END:DAYLIGHT
BEGIN:STANDARD
TZOFFSETFROM:-0700
TZOFFSETTO:-0800
TZNAME:PST
DTSTART:20231105T090000
END:STANDARD
END:VTIMEZONE
BEGIN:VEVENT
DTSTART;TZID=America/Los_Angeles:20220528T080000
DTEND;TZID=America/Los_Angeles:20220607T170000
DTSTAMP:20260419T133743
CREATED:20220105T170000Z
LAST-MODIFIED:20240630T211439Z
UID:10015221-1653724800-1654621200@mcceastbay.org
SUMMARY:Voting Site
DESCRIPTION:In 2022\, the MCC congregation is honored to open our community center to Tri-Valley voters for the June statewide direct primary and November special general elections. \nFor the June ’22 primary election\, the Alameda County Registrar of Voters will be using half of the tarped MCC Conference Room (side closer to classrooms). Voters will enter from Suite 100. Facility map: https://mcceastbay.org/facility-map \nMCC serves as #000086 accessible voting center polling site in Pleasanton over these 11-days: \n\n– 8 a.m. to 5 p.m. on Saturday\, May 28\n– 8 a.m. to 5 p.m. on Sunday\, May 29\n– 8 a.m. to 5 p.m. on Monday\, May 30\n– 8 a.m. to 5 p.m. on Tuesday\, May 31\n– 8 a.m. to 5 p.m. on Wednesday\, June 1\n– 8 a.m. to 5 p.m. on Thursday\, June 2\n– 8 a.m. to 5 p.m. on Friday\, June 3\n– 8 a.m. to 5 p.m. on Saturday\, June 4\n– 8 a.m. to 5 p.m. on Sunday\, June 5\n– 8 a.m. to 5 p.m. on Monday\, June 6\n– 7 a.m. to 8 p.m. on Tuesday\, June 7 (Election Day)\n\nMCC East Bay’s continued partnership with the Registrar of Voters has opened up new opportunities for Tri-Valley Muslims to get involved and build relationships with our local community and its officials. Learn more at: https://acgov.org/rov_app/vcalist \nQuestions? events@mcceastbay.org
URL:https://mcceastbay.org/event/voting-site/2022-05-28/
LOCATION:MCC East Bay\, 5724 W Las Positas Blvd #300\, Pleasanton\, CA\, 94588\, United States
CATEGORIES:Interfaith & Community Outreach
ATTACH;FMTTYPE=image/jpeg:https://mcceastbay.org/wp-content/uploads/2024/06/mosque-voting-site-scaled-1.jpg
ORGANIZER;CN="Muslim Community Center - East Bay":MAILTO:events@mcceastbay.org
END:VEVENT
BEGIN:VEVENT
DTSTART;TZID=America/Los_Angeles:20220607T080000
DTEND;TZID=America/Los_Angeles:20220607T200000
DTSTAMP:20260419T133743
CREATED:20220105T170000Z
LAST-MODIFIED:20240630T211439Z
UID:10015222-1654588800-1654632000@mcceastbay.org
SUMMARY:Voting Site
DESCRIPTION:In 2022\, the MCC congregation is honored to open our community center to Tri-Valley voters for the June statewide direct primary and November special general elections. \nFor the June ’22 primary election\, the Alameda County Registrar of Voters will be using half of the tarped MCC Conference Room (side closer to classrooms). Voters will enter from Suite 100. Facility map: https://mcceastbay.org/facility-map \nMCC serves as #000086 accessible voting center polling site in Pleasanton over these 11-days: \n\n– 8 a.m. to 5 p.m. on Saturday\, May 28\n– 8 a.m. to 5 p.m. on Sunday\, May 29\n– 8 a.m. to 5 p.m. on Monday\, May 30\n– 8 a.m. to 5 p.m. on Tuesday\, May 31\n– 8 a.m. to 5 p.m. on Wednesday\, June 1\n– 8 a.m. to 5 p.m. on Thursday\, June 2\n– 8 a.m. to 5 p.m. on Friday\, June 3\n– 8 a.m. to 5 p.m. on Saturday\, June 4\n– 8 a.m. to 5 p.m. on Sunday\, June 5\n– 8 a.m. to 5 p.m. on Monday\, June 6\n– 7 a.m. to 8 p.m. on Tuesday\, June 7 (Election Day)\n\nMCC East Bay’s continued partnership with the Registrar of Voters has opened up new opportunities for Tri-Valley Muslims to get involved and build relationships with our local community and its officials. Learn more at: https://acgov.org/rov_app/vcalist \nQuestions? events@mcceastbay.org
URL:https://mcceastbay.org/event/voting-site/2022-06-07/
LOCATION:MCC East Bay\, 5724 W Las Positas Blvd #300\, Pleasanton\, CA\, 94588\, United States
CATEGORIES:Interfaith & Community Outreach
ATTACH;FMTTYPE=image/jpeg:https://mcceastbay.org/wp-content/uploads/2024/06/mosque-voting-site-scaled-1.jpg
ORGANIZER;CN="Muslim Community Center - East Bay":MAILTO:events@mcceastbay.org
END:VEVENT
BEGIN:VEVENT
DTSTART;TZID=America/Los_Angeles:20220607T080000
DTEND;TZID=America/Los_Angeles:20220607T200000
DTSTAMP:20260419T133743
CREATED:20220105T170000Z
LAST-MODIFIED:20240630T212930Z
UID:10018027-1654588800-1654632000@mcceastbay.org
SUMMARY:Voting Site
DESCRIPTION:In 2022\, the MCC congregation is honored to open our community center to Tri-Valley voters for the June statewide direct primary and November special general elections. \nFor the June ’22 primary election\, the Alameda County Registrar of Voters will be using half of the tarped MCC Conference Room (side closer to classrooms). Voters will enter from Suite 100. Facility map: https://mcceastbay.org/facility-map \nMCC serves as #000086 accessible voting center polling site in Pleasanton over these 11-days: \n\n– 8 a.m. to 5 p.m. on Saturday\, May 28\n– 8 a.m. to 5 p.m. on Sunday\, May 29\n– 8 a.m. to 5 p.m. on Monday\, May 30\n– 8 a.m. to 5 p.m. on Tuesday\, May 31\n– 8 a.m. to 5 p.m. on Wednesday\, June 1\n– 8 a.m. to 5 p.m. on Thursday\, June 2\n– 8 a.m. to 5 p.m. on Friday\, June 3\n– 8 a.m. to 5 p.m. on Saturday\, June 4\n– 8 a.m. to 5 p.m. on Sunday\, June 5\n– 8 a.m. to 5 p.m. on Monday\, June 6\n– 7 a.m. to 8 p.m. on Tuesday\, June 7 (Election Day)\n\nMCC East Bay’s continued partnership with the Registrar of Voters has opened up new opportunities for Tri-Valley Muslims to get involved and build relationships with our local community and its officials. Learn more at: https://acgov.org/rov_app/vcalist \nQuestions? events@mcceastbay.org
URL:https://mcceastbay.org/event/voting-site/2022-06-07/
LOCATION:MCC East Bay\, 5724 W Las Positas Blvd #300\, Pleasanton\, CA\, 94588\, United States
CATEGORIES:Interfaith & Community Outreach
ATTACH;FMTTYPE=image/jpeg:https://mcceastbay.org/wp-content/uploads/2024/06/mosque-voting-site-scaled-1.jpg
ORGANIZER;CN="Muslim Community Center - East Bay":MAILTO:events@mcceastbay.org
END:VEVENT
BEGIN:VEVENT
DTSTART;TZID=America/Los_Angeles:20220608T170000
DTEND;TZID=America/Los_Angeles:20220608T180000
DTSTAMP:20260419T133743
CREATED:20220518T145121Z
LAST-MODIFIED:20240630T212531Z
UID:10017958-1654707600-1654711200@mcceastbay.org
SUMMARY:Interfaith Chat
DESCRIPTION:MCC proudly hosts the Interfaith Interconnect monthly religious chat with Trish Munro (Jewish) and Karan Saini (Sikh) on how each community welcomes children and youth into the faith and what rite of passage ceremonies are traditional in each culture. \n5 p.m. to 6 p.m. | Wednesday\, June 8 | MCC Conference Room | Suite 100 (Enter from “A” and park at “Outdoor Prayer Space” as listed on this map: https://mcceastbay.org/hp \nJoin in person or live on Zoom at https://us02web.zoom.us/j/82965087998 \nDoors/Zoom open at 4:40. \nJoin us to hear the history\, ages\, and traditions included in these events in this “coming of age/rites of passage” talk. \n\n– More MCC interfaith events: https://mcceastbay.org/interfaith\n– MCC’s interfaith advocacy efforts: https://mcceastbay.org/interfaith-ethos\n\nQuestions? events@mcceastbay.org \nPresentations 5 pm-6 pm and followed by an optional break-out group discussion to 6:30 pm.
URL:https://mcceastbay.org/event/interfaith-chat-mcc/
LOCATION:MCC East Bay\, 5724 W Las Positas Blvd #300\, Pleasanton\, CA\, 94588\, United States
CATEGORIES:Interfaith & Community Outreach
ATTACH;FMTTYPE=image/png:https://mcceastbay.org/wp-content/uploads/2024/06/mosque-Religion-Chat.png
ORGANIZER;CN="Muslim Community Center - East Bay":MAILTO:events@mcceastbay.org
END:VEVENT
BEGIN:VEVENT
DTSTART;TZID=America/Los_Angeles:20220612T100000
DTEND;TZID=America/Los_Angeles:20220612T120000
DTSTAMP:20260419T133743
CREATED:20220513T041344Z
LAST-MODIFIED:20250220T201018Z
UID:10017900-1655028000-1655035200@mcceastbay.org
SUMMARY:Muslim Teen Gamechangers Network
DESCRIPTION:For Bay Area Muslim high schoolers\, this 10-week interactive summer social justice training program hosted at MCC East Bay in Pleasanton equips teens with tools to critically understand their world\, effectively challenge injustice & build legacies of positive change in our communities. Hosted at MCC\, lunch is included weekly in this empowerment training grounded in an optimistic Islamic worldview. \n10 a.m. to noon | Sundays | June 5 to August 7 | $50/teen (financial waivers available) | MCC Conference Room | Register by emailing San Francisco Bay Area’s Usmaan Alloo at ualloo@cair.com \nWatch session recordings at mcceastbay.org/mgn \n\nSunday\, June 5\, 2022: Welcome\, The Politics of Personhood & Exploring Identity (Ayesha Hamid)\nSunday\, June 12\, 2022: Power: Stereotypes & Knowledge (Maimoona Afzal Berta)\nSunday\, June 19\, 2022: Know History\, Know Self (Fatima Mekkaoui)\nSunday\, June 26\, 2022: Know Family\, Know Self (Usman Aloo)\nSunday\, July 3\, 2022: Engaging Local Government (Aziz Akbari)\nSunday\, July 10\, 2022: No session (Eid al-Adha holiday break)\nSunday\, July 17\, 2022: Social Movements & Community Organizing\nSunday\, July 24\, 2022: Capitalism & Consumerism\nSunday\, July 31\, 2022: Community Organizing Plan Presentation\nSunday\, August 7\, 2022: Graduation\n\nSponsored by CAIR-SFBA & MCC East Bay. Please email ualloo@cair.com if you need the fee reduced or waived for financial reasons. \nMGN is a social justice training program for Muslim high school students that equips participants with the tools to critically understand their world\, effectively challenge injustice\, and build legacies of positive change in their communities. The program consists of weekly interactive sessions centered on themes of identity\, history\, social responsibility\, and organizing tools\, all grounded in an Islamic worldview. \nThe standard fee to become a member of the Muslim Gamechangers Network is $50\, and payment must be received by the first day of the program to complete your registration. The MGN Membership fee helps us sustain this comprehensive empowerment project for our youth\, including the cost of materials\, staff time\, and field trips. \nThe deadline to apply is on Sunday\, May 29\, 2022. \nQuestions? events@mcceastbay.org
URL:https://mcceastbay.org/event/muslim-gamechangers-network/2022-06-12/
LOCATION:MCC East Bay\, 5724 W Las Positas Blvd #300\, Pleasanton\, CA\, 94588\, United States
CATEGORIES:Interfaith & Community Outreach,Teen
ATTACH;FMTTYPE=image/png:https://mcceastbay.org/wp-content/uploads/2024/06/Muslim-Gamechangers-Network-CAIR-SFBA-MCC-EAST-BAY.png
ORGANIZER;CN="Muslim Community Center - East Bay":MAILTO:events@mcceastbay.org
END:VEVENT
BEGIN:VEVENT
DTSTART;TZID=America/Los_Angeles:20220612T100000
DTEND;TZID=America/Los_Angeles:20220612T120000
DTSTAMP:20260419T133743
CREATED:20220513T041344Z
LAST-MODIFIED:20240630T212504Z
UID:10017908-1655028000-1655035200@mcceastbay.org
SUMMARY:Muslim Teen Gamechangers Network
DESCRIPTION:For Bay Area Muslim high schoolers\, this 10-week interactive summer social justice training program hosted at MCC East Bay in Pleasanton equips teens with tools to critically understand their world\, effectively challenge injustice & build legacies of positive change in our communities. Hosted at MCC\, lunch is included weekly in this empowerment training grounded in a positive Islamic worldview. \n10 a.m. to noon | Sundays | June 5 to August 7 | $50/teen (financial waivers available) | MCC Conference Room | Register by emailing San Francisco Bay Area’s Usmaan Alloo at ualloo@cair.com \nWatch session recordings at mcceastbay.org/mgn \n\nSunday\, June 5\, 2022: Welcome\, The Politics of Personhood & Exploring Identity (Ayesha Hamid)\nSunday\, June 12\, 2022: Power: Stereotypes & Knowledge (Maimoona Afzal Berta)\nSunday\, June 19\, 2022: Know History\, Know Self (Fatima Mekkaoui)\nSunday\, June 26\, 2022: Know Family\, Know Self (Usman Aloo)\nSunday\, July 3\, 2022: Engaging Local Government (Aziz Akbari)\nSunday\, July 10\, 2022: No session (Eid al-Adha holiday break)\nSunday\, July 17\, 2022: Social Movements & Community Organizing\nSunday\, July 24\, 2022: Capitalism & Consumerism\nSunday\, July 31\, 2022: Community Organizing Plan Presentation\nSunday\, August 7\, 2022: Graduation\n\nSponsored by CAIR-SFBA & MCC East Bay. Please email ualloo@cair.com if you need the fee reduced or waived for financial reasons. \nMGN is a social justice training program for Muslim high school students that equips participants with the tools to critically understand their world\, effectively challenge injustice\, and build legacies of positive change in their communities. The program consists of weekly interactive sessions centered on themes of identity\, history\, social responsibility\, and organizing tools\, all grounded in an Islamic worldview. \nThe standard fee to become a member of the Muslim Gamechangers Network is $50\, and payment must be received by the first day of the program to complete your registration. The MGN Membership fee helps us sustain this comprehensive empowerment project for our youth\, including the cost of materials\, staff time\, and field trips. \nThe deadline to apply is on Sunday\, May 29\, 2022. \nQuestions? events@mcceastbay.org
URL:https://mcceastbay.org/event/muslim-gamechangers-network/2022-06-12/
LOCATION:MCC East Bay\, 5724 W Las Positas Blvd #300\, Pleasanton\, CA\, 94588\, United States
CATEGORIES:Interfaith & Community Outreach,Teen
ATTACH;FMTTYPE=image/png:https://mcceastbay.org/wp-content/uploads/2024/06/Muslim-Gamechangers-Network-CAIR-SFBA-MCC-EAST-BAY.png
ORGANIZER;CN="Muslim Community Center - East Bay":MAILTO:events@mcceastbay.org
END:VEVENT
END:VCALENDAR