BEGIN:VCALENDAR
VERSION:2.0
PRODID:-//MCC East Bay - ECPv6.15.20//NONSGML v1.0//EN
CALSCALE:GREGORIAN
METHOD:PUBLISH
X-WR-CALNAME:MCC East Bay
X-ORIGINAL-URL:https://mcceastbay.org
X-WR-CALDESC:Events for MCC East Bay
REFRESH-INTERVAL;VALUE=DURATION:PT1H
X-Robots-Tag:noindex
X-PUBLISHED-TTL:PT1H
BEGIN:VTIMEZONE
TZID:America/Los_Angeles
BEGIN:DAYLIGHT
TZOFFSETFROM:-0800
TZOFFSETTO:-0700
TZNAME:PDT
DTSTART:20220313T100000
END:DAYLIGHT
BEGIN:STANDARD
TZOFFSETFROM:-0700
TZOFFSETTO:-0800
TZNAME:PST
DTSTART:20221106T090000
END:STANDARD
BEGIN:DAYLIGHT
TZOFFSETFROM:-0800
TZOFFSETTO:-0700
TZNAME:PDT
DTSTART:20230312T100000
END:DAYLIGHT
BEGIN:STANDARD
TZOFFSETFROM:-0700
TZOFFSETTO:-0800
TZNAME:PST
DTSTART:20231105T090000
END:STANDARD
BEGIN:DAYLIGHT
TZOFFSETFROM:-0800
TZOFFSETTO:-0700
TZNAME:PDT
DTSTART:20240310T100000
END:DAYLIGHT
BEGIN:STANDARD
TZOFFSETFROM:-0700
TZOFFSETTO:-0800
TZNAME:PST
DTSTART:20241103T090000
END:STANDARD
END:VTIMEZONE
BEGIN:VEVENT
DTSTART;TZID=America/Los_Angeles:20230317T170000
DTEND;TZID=America/Los_Angeles:20230317T184500
DTSTAMP:20260419T110106
CREATED:20230317T010715Z
LAST-MODIFIED:20230317T010715Z
UID:10019669-1679072400-1679078700@mcceastbay.org
SUMMARY:Fireside Chat - Ramadan Prep for Reverts
DESCRIPTION:Feeling nervous about Ramadan? First time fasting and have questions? Come join new or seasoned Muslims for an evening discussion where we go over questions\, share tips\, and good advice in preparation for Ramadan. Sidi Uthman Ames will be one of our guest speakers. \n\n\n\nFriday\, March 17 | 5 p.m. to 6:45 p.m. | Banquet Hall | In-person only | RSVP at mcceastbay.org/ramadan-chat \n\n\n\n\n– How MCC supports new Muslims: https://mcceastbay.org/convert-care\n\n\n\n– Recordings of educational talks for reverts playlist: https://mcceastbay.org/after-shahada\n\n\n\n– Shahadah moments at the MCC: https://mcceastbay.org/shahada\n\n\n\n\nQuestions? mentorship@mcceastbay.org \n\n\n\n \n\n\n\nSidi Wendell Uthman Ames’ \n\n\n\nSidi Wendell Uthman Ames’ story to Islam begins at a hip-hop store in Southern California where he worked during high school. He watched his manager take breaks during the day to pray Salah in a back room. A group of Filipino converts soon began visiting the store. A Filipino-American himself\, this further triggered his interest in Islam. The Filipino converts befriended him\, and Sidi Wendell took his Shahada (Declaration of Faith) with them at age 17\, MashaAllah! Sidi Wendell then began driving with them to the Bay Area to take classes with Shaykh Hamza Yusuf. This is pre-Zaytuna College. Sidi Uthman would eventually move to the Bay Area and live with Sidi Usama Canon. Sidi Wendell is now a well-known munshid (reciter). He shares his beautiful voice at gatherings all over the world. He is frequently performing at MCC East Bay\, Al-Maqasid\, and Ta’leef Collective.
URL:https://mcceastbay.org/event/fireside-chat/
LOCATION:MCC East Bay\, 5724 W Las Positas Blvd #300\, Pleasanton\, CA\, 94588\, United States
CATEGORIES:Interfaith & Community Outreach
ATTACH;FMTTYPE=image/jpeg:https://mcceastbay.org/wp-content/uploads/2024/06/Fireside-Chat.jpg
END:VEVENT
END:VCALENDAR