BEGIN:VCALENDAR
VERSION:2.0
PRODID:-//MCC East Bay - ECPv6.15.20//NONSGML v1.0//EN
CALSCALE:GREGORIAN
METHOD:PUBLISH
X-WR-CALNAME:MCC East Bay
X-ORIGINAL-URL:https://mcceastbay.org
X-WR-CALDESC:Events for MCC East Bay
REFRESH-INTERVAL;VALUE=DURATION:PT1H
X-Robots-Tag:noindex
X-PUBLISHED-TTL:PT1H
BEGIN:VTIMEZONE
TZID:America/Los_Angeles
BEGIN:DAYLIGHT
TZOFFSETFROM:-0800
TZOFFSETTO:-0700
TZNAME:PDT
DTSTART:20240310T100000
END:DAYLIGHT
BEGIN:STANDARD
TZOFFSETFROM:-0700
TZOFFSETTO:-0800
TZNAME:PST
DTSTART:20241103T090000
END:STANDARD
BEGIN:DAYLIGHT
TZOFFSETFROM:-0800
TZOFFSETTO:-0700
TZNAME:PDT
DTSTART:20250309T100000
END:DAYLIGHT
BEGIN:STANDARD
TZOFFSETFROM:-0700
TZOFFSETTO:-0800
TZNAME:PST
DTSTART:20251102T090000
END:STANDARD
BEGIN:DAYLIGHT
TZOFFSETFROM:-0800
TZOFFSETTO:-0700
TZNAME:PDT
DTSTART:20260308T100000
END:DAYLIGHT
BEGIN:STANDARD
TZOFFSETFROM:-0700
TZOFFSETTO:-0800
TZNAME:PST
DTSTART:20261101T090000
END:STANDARD
END:VTIMEZONE
BEGIN:VEVENT
DTSTART;TZID=America/Los_Angeles:20251003T154000
DTEND;TZID=America/Los_Angeles:20251003T163000
DTSTAMP:20260419T144950
CREATED:20250923T051942Z
LAST-MODIFIED:20250923T051942Z
UID:10024068-1759506000-1759509000@mcceastbay.org
SUMMARY:Invitation! Interfaith Worship Experience Visit MCC | Sidi Mahdy Amine
DESCRIPTION:Interfaith Worship Experience Visit:\n\n\n \nMuslim Community Center East Bay\nFriday Prayer\, October 3\, 2025 at 3:40pm\n5724 West Las Positas Blvd.\,#300\, Pleasanton \n\n\nPlease arrive by 3:30 p.m. to find parking in the MCC parking lot.* Overflow parking is in the Pleasanton Unified School District parking lot next door. Volunteers will be stationed in the parking lot to direct you.  Modest clothing requested. There will be head scarves available for women who wish to wear one. You can choose to sit on the ground or seats in the Prayer Hall for the 20-minute sermon. The congregation stands for prayer at 4 p.m. followed by community announcements. Afterwards\, there will be light refreshments and an opportunity to meet with Mahdy Amine and some MCC outreach members in the Banquet Hall.\n \nFlyer attached. \n \nIf you would like to attend: RSVP to interfaith.interconnect@gmail.com.\n\n \n*Parking lot map: http://mcceastbay.org/district\n\nInterfaith Interconnect is offering this series of visits to allow members of our different faith communities share their traditional worship services. All are welcome. We hope you can join us on October 3rd!\n\nMarcia Elchesen\, Coordinator\nand the Interfaith Interconnect Leadership Committee \n2025 Oct3 MCC Friday Prayer Interfaith Visit
URL:https://mcceastbay.org/event/invitation-interfaith-worship-experience-visit-mcc-sidi-mahdy-amine/
LOCATION:MCC East Bay\, 5724 W Las Positas Blvd #300\, Pleasanton\, CA\, 94588\, United States
CATEGORIES:Interfaith & Community Outreach
ATTACH;FMTTYPE=image/jpeg:https://mcceastbay.org/wp-content/uploads/2025/09/2025-Oct3-MCC-Friday-Prayer-Interfaith-Visit_page-0001-.Invitation-Interfaith-Worship-Experience-Visit-MCC-Oct3.jpg
END:VEVENT
END:VCALENDAR