BEGIN:VCALENDAR
VERSION:2.0
PRODID:-//MCC East Bay - ECPv6.15.20//NONSGML v1.0//EN
CALSCALE:GREGORIAN
METHOD:PUBLISH
X-ORIGINAL-URL:https://mcceastbay.org
X-WR-CALDESC:Events for MCC East Bay
REFRESH-INTERVAL;VALUE=DURATION:PT1H
X-Robots-Tag:noindex
X-PUBLISHED-TTL:PT1H
BEGIN:VTIMEZONE
TZID:America/Los_Angeles
BEGIN:DAYLIGHT
TZOFFSETFROM:-0800
TZOFFSETTO:-0700
TZNAME:PDT
DTSTART:20230312T100000
END:DAYLIGHT
BEGIN:STANDARD
TZOFFSETFROM:-0700
TZOFFSETTO:-0800
TZNAME:PST
DTSTART:20231105T090000
END:STANDARD
BEGIN:DAYLIGHT
TZOFFSETFROM:-0800
TZOFFSETTO:-0700
TZNAME:PDT
DTSTART:20240310T100000
END:DAYLIGHT
BEGIN:STANDARD
TZOFFSETFROM:-0700
TZOFFSETTO:-0800
TZNAME:PST
DTSTART:20241103T090000
END:STANDARD
BEGIN:DAYLIGHT
TZOFFSETFROM:-0800
TZOFFSETTO:-0700
TZNAME:PDT
DTSTART:20250309T100000
END:DAYLIGHT
BEGIN:STANDARD
TZOFFSETFROM:-0700
TZOFFSETTO:-0800
TZNAME:PST
DTSTART:20251102T090000
END:STANDARD
END:VTIMEZONE
BEGIN:VEVENT
DTSTART;TZID=America/Los_Angeles:20241201T143000
DTEND;TZID=America/Los_Angeles:20241201T163000
DTSTAMP:20260419T145550
CREATED:20241121T180909Z
LAST-MODIFIED:20241123T224935Z
UID:10021975-1733063400-1733070600@mcceastbay.org
SUMMARY:Sisters' Self-Defense/Boxing/Fitness/Awareness Seminar | MMA Fighter Amber Leibrock
DESCRIPTION:Sisters! Join Us for a Sisters-Only Self-Defense / Boxing / Fitness / Awareness Seminar! \nBuild confidence\, discover new ways to move with strength and purpose\, and understand how proper safety goes beyond physical techniques. This two-hour self-defense\, boxing\, fitness\, and awareness seminar at MCC East Bay is designed for sisters\, whether it’s your first time trying something like this or you’re already on a fitness journey. You’ll leave feeling informed\, inspired\, and empowered. \n2:30 p.m. to 4:30 p.m. | Sunday\, Dec. 1 | Sisters only; ages 12+ only | Conference Room | $20/person | Register at mcceastbay.org/ready \nMax 32 attendees. \nWhat to Expect: \n\n• Self-Defense Basics: Learn practical techniques that make a real difference\, from protecting yourself in unexpected situations to understanding the power of awareness.\n• Boxing & Fitness: Explore movement and skills that build strength and resilience\, enhancing your physical and mental well-being.\n• Safety & Awareness Tips: Real safety isn’t just physical—develop skills in awareness and confidence that extend beyond the gym.\n• Please wear comfortable\, movable clothes that you can work out in. We will be doing close partner-to-partner drills\, so make sure the clothing is secure so it doesn’t slip or fall during the workout sessions.\n\nBring your friends\, meet new ones\, and join a community of sisters focused on health\, growth\, and fun. Come as you are\, work at your own pace\, and leave feeling more robust\, secure\, and ready to take on the world. \nNo experience is needed—just an open mind and a desire to learn and grow! \n\n– More Sr. Amber: HTTP://mcceastbay.org/amber\n\nPlease note that the class will start on time. If you are more than 30 minutes late\, you cannot join the class. Please be respectful of the instructor’s time. \nCancelation policy: If you cannot make it\, please let us know ASAP so we can give your spot to the next person on the waitlist. You will not be eligible for a refund if you cancel with less than 24 hours notice. \nMCC has a standing policy that financial need should never prevent a person from attending any event or class held within the community center. To request a financial waiver\, message scholarship@mcceastbay.org \nAbout the Presenter\nAmber Leibrock is a mixed martial artist who competes in the Professional Fighters League (PFL) Featherweight division. Born and raised in the East Bay\, she trains with M.J. Hamid\, an MCC congregation member and trainer. After her fight with Larissa Pacheco\, she went through a tough time and Br. Hamid introduced her to Islam. She took her Shahadah at MCC on July 21\, 2023. Since then\, she’s been attending Jumu’ah (Friday prayer services) regularly. Ahead of a fight\, ESPN did this profile on Sister Amber.\n\n“I just see it (Islam) spilling over to my everyday life. How I feel inside\, how I feel about myself\, how I feel and interact with other people.” – Amber Leibrock in an ESPN fighter profile \nQuestions? events@mcceastbay.org
URL:https://mcceastbay.org/event/sisters-self-defense-seminar/
LOCATION:MCC East Bay\, 5724 W Las Positas Blvd #300\, Pleasanton\, CA\, 94588\, United States
CATEGORIES:Women's Activities
ATTACH;FMTTYPE=image/jpeg:https://mcceastbay.org/wp-content/uploads/2024/11/Self-Defense.jpg
ORGANIZER;CN="Muslim Community Center - East Bay":MAILTO:events@mcceastbay.org
END:VEVENT
BEGIN:VEVENT
DTSTART;TZID=America/Los_Angeles:20241202T110000
DTEND;TZID=America/Los_Angeles:20241202T123000
DTSTAMP:20260419T145550
CREATED:20240411T235317Z
LAST-MODIFIED:20250122T054014Z
UID:10020751-1733137200-1733142600@mcceastbay.org
SUMMARY:Women’s Seerah Bookclub (in-person & virtual) | Ustadha Leila Fakira
DESCRIPTION:Join our weekly sisters’ in-person & virtual Seerah book club\, where we have an active discussion\, take away lessons for our daily lives\, and inshaAllah fall in love with the Prophet ﷺ. We are reading from “The Prophetic Narrative” by Samira al-Zayid and will begin reading Volume 2. \n\n\n\nEvery Monday in-person & virtual | 11 a.m. to 12:30 p.m. | MCC Conference Room | Women only | RSVP for the live registration link at https://mcceastbay.org/bookclub. RSVP is needed to join us virtually. \n\n\n\nEvent Details: \n\n\n\nThe in-person & virtual discussion takes place every Monday from 11 a.m. to 12:30 p.m. with a break in Ramadan ’24. \n\n\n\nPlease register online to receive the link to the Whatsapp thread where all communication and updates will be made. In this bookclub\, we will be starting volume 2 of “The Prophetic Narrative” by Samira al-Zayid. \n\n\n\nBook Purchase: \n\n\n\nIf you wish to follow along with the book\, please purchase the book. The book can be purchased here: \n\n\n\n– https://daybreak.rabata.org/products/soft-cover-a-compendium-of-the-sources-on-the-prophetic-narrative \n\n\n\nQuestions? bookclub@mcceastbay.org \n\n\n\nAbout the Book \n\n\n\nInternationally acclaimed as “the most authoritative resource” on the Sīra\, this two-volume translation textbook is revolutionary in bringing Prophet Muhammad ﷺ’s life to life for everyone who ventures upon it. \n\n\n\nThis multiple award-winning\, comprehensive compilation of narrations and details of the life of Prophet Muhammad (S) has never before been available in English until now! Internationally acclaimed as “the most authoritative resource” on the Sīra\, this two-volume translation textbook is revolutionary in bringing his (S) life to life for everyone who ventures upon it. The original volumes have won the approval and praise of numerous scholars. It is finally available as a treasured text for personal or educational development. \n\n\n\nAuthor: Samira al-Zayid \n\n\n\nTranslators: Susan Imady\, Tamara Gray\, & Randa Mardini \n\n\n\nBinding: Softcover \n\n\n\nPages: Vol 1\, 570; Vol 2\, 558 \n\n\n\nPublisher: Daybreak Press \n\n\n\nQuestions? bookclub@mcceastbay.org \n\n\n\n\n\n\n\n\n\n\n\n\n\n\n\n\n\n 
URL:https://mcceastbay.org/event/inperson-seerah-bookclub/2024-12-02/
LOCATION:CA
CATEGORIES:Women's Activities
ATTACH;FMTTYPE=image/jpeg:https://mcceastbay.org/wp-content/uploads/2024/06/Monday-1-1.jpg
END:VEVENT
BEGIN:VEVENT
DTSTART;TZID=America/Los_Angeles:20241209T110000
DTEND;TZID=America/Los_Angeles:20241209T123000
DTSTAMP:20260419T145550
CREATED:20240411T235317Z
LAST-MODIFIED:20250122T054014Z
UID:10020752-1733742000-1733747400@mcceastbay.org
SUMMARY:Women’s Seerah Bookclub (in-person & virtual) | Ustadha Leila Fakira
DESCRIPTION:Join our weekly sisters’ in-person & virtual Seerah book club\, where we have an active discussion\, take away lessons for our daily lives\, and inshaAllah fall in love with the Prophet ﷺ. We are reading from “The Prophetic Narrative” by Samira al-Zayid and will begin reading Volume 2. \n\n\n\nEvery Monday in-person & virtual | 11 a.m. to 12:30 p.m. | MCC Conference Room | Women only | RSVP for the live registration link at https://mcceastbay.org/bookclub. RSVP is needed to join us virtually. \n\n\n\nEvent Details: \n\n\n\nThe in-person & virtual discussion takes place every Monday from 11 a.m. to 12:30 p.m. with a break in Ramadan ’24. \n\n\n\nPlease register online to receive the link to the Whatsapp thread where all communication and updates will be made. In this bookclub\, we will be starting volume 2 of “The Prophetic Narrative” by Samira al-Zayid. \n\n\n\nBook Purchase: \n\n\n\nIf you wish to follow along with the book\, please purchase the book. The book can be purchased here: \n\n\n\n– https://daybreak.rabata.org/products/soft-cover-a-compendium-of-the-sources-on-the-prophetic-narrative \n\n\n\nQuestions? bookclub@mcceastbay.org \n\n\n\nAbout the Book \n\n\n\nInternationally acclaimed as “the most authoritative resource” on the Sīra\, this two-volume translation textbook is revolutionary in bringing Prophet Muhammad ﷺ’s life to life for everyone who ventures upon it. \n\n\n\nThis multiple award-winning\, comprehensive compilation of narrations and details of the life of Prophet Muhammad (S) has never before been available in English until now! Internationally acclaimed as “the most authoritative resource” on the Sīra\, this two-volume translation textbook is revolutionary in bringing his (S) life to life for everyone who ventures upon it. The original volumes have won the approval and praise of numerous scholars. It is finally available as a treasured text for personal or educational development. \n\n\n\nAuthor: Samira al-Zayid \n\n\n\nTranslators: Susan Imady\, Tamara Gray\, & Randa Mardini \n\n\n\nBinding: Softcover \n\n\n\nPages: Vol 1\, 570; Vol 2\, 558 \n\n\n\nPublisher: Daybreak Press \n\n\n\nQuestions? bookclub@mcceastbay.org \n\n\n\n\n\n\n\n\n\n\n\n\n\n\n\n\n\n 
URL:https://mcceastbay.org/event/inperson-seerah-bookclub/2024-12-09/
LOCATION:CA
CATEGORIES:Women's Activities
ATTACH;FMTTYPE=image/jpeg:https://mcceastbay.org/wp-content/uploads/2024/06/Monday-1-1.jpg
END:VEVENT
BEGIN:VEVENT
DTSTART;TZID=America/Los_Angeles:20241216T110000
DTEND;TZID=America/Los_Angeles:20241216T123000
DTSTAMP:20260419T145550
CREATED:20240411T235317Z
LAST-MODIFIED:20250122T054014Z
UID:10020753-1734346800-1734352200@mcceastbay.org
SUMMARY:Women’s Seerah Bookclub (in-person & virtual) | Ustadha Leila Fakira
DESCRIPTION:Join our weekly sisters’ in-person & virtual Seerah book club\, where we have an active discussion\, take away lessons for our daily lives\, and inshaAllah fall in love with the Prophet ﷺ. We are reading from “The Prophetic Narrative” by Samira al-Zayid and will begin reading Volume 2. \n\n\n\nEvery Monday in-person & virtual | 11 a.m. to 12:30 p.m. | MCC Conference Room | Women only | RSVP for the live registration link at https://mcceastbay.org/bookclub. RSVP is needed to join us virtually. \n\n\n\nEvent Details: \n\n\n\nThe in-person & virtual discussion takes place every Monday from 11 a.m. to 12:30 p.m. with a break in Ramadan ’24. \n\n\n\nPlease register online to receive the link to the Whatsapp thread where all communication and updates will be made. In this bookclub\, we will be starting volume 2 of “The Prophetic Narrative” by Samira al-Zayid. \n\n\n\nBook Purchase: \n\n\n\nIf you wish to follow along with the book\, please purchase the book. The book can be purchased here: \n\n\n\n– https://daybreak.rabata.org/products/soft-cover-a-compendium-of-the-sources-on-the-prophetic-narrative \n\n\n\nQuestions? bookclub@mcceastbay.org \n\n\n\nAbout the Book \n\n\n\nInternationally acclaimed as “the most authoritative resource” on the Sīra\, this two-volume translation textbook is revolutionary in bringing Prophet Muhammad ﷺ’s life to life for everyone who ventures upon it. \n\n\n\nThis multiple award-winning\, comprehensive compilation of narrations and details of the life of Prophet Muhammad (S) has never before been available in English until now! Internationally acclaimed as “the most authoritative resource” on the Sīra\, this two-volume translation textbook is revolutionary in bringing his (S) life to life for everyone who ventures upon it. The original volumes have won the approval and praise of numerous scholars. It is finally available as a treasured text for personal or educational development. \n\n\n\nAuthor: Samira al-Zayid \n\n\n\nTranslators: Susan Imady\, Tamara Gray\, & Randa Mardini \n\n\n\nBinding: Softcover \n\n\n\nPages: Vol 1\, 570; Vol 2\, 558 \n\n\n\nPublisher: Daybreak Press \n\n\n\nQuestions? bookclub@mcceastbay.org \n\n\n\n\n\n\n\n\n\n\n\n\n\n\n\n\n\n 
URL:https://mcceastbay.org/event/inperson-seerah-bookclub/2024-12-16/
LOCATION:CA
CATEGORIES:Women's Activities
ATTACH;FMTTYPE=image/jpeg:https://mcceastbay.org/wp-content/uploads/2024/06/Monday-1-1.jpg
END:VEVENT
BEGIN:VEVENT
DTSTART;TZID=America/Los_Angeles:20241219T113000
DTEND;TZID=America/Los_Angeles:20241219T121500
DTSTAMP:20260419T145550
CREATED:20241212T231155Z
LAST-MODIFIED:20250212T222812Z
UID:10022081-1734607800-1734610500@mcceastbay.org
SUMMARY:Encouraging Good Character Traits | Ustadha Nihad Hemmoudeh
DESCRIPTION:Ustadha Nihad Hemmoudeh facilitates a 45-minute live Zoom session for sisters on one of the chapters in the book The Forty of the Forty by Imam Yusuf al-Nabhani\, which talks about enjoining good character\, leading to spiritual purification and closeness to Allah. \n11:30 a.m. to 12:15 p.m. PST | Thursdays | 12 consecutive weeks from Dec. 19 to March 6\, 2025 | No pre-registration needed | Join live each week at 11:30 a.m. on Zoom at mcceastbay.org/forty \nWatch the prior sessions in this series: HTTP://mcceastbay.org/principle-series \nMore Ustadha Nihad: \n\n– Ustadha Nihad’s “Principles of Religion” series: https://mcceastbay.org/principle-series\n– Ustadha Nihad’s “Women Around the Messenger” series: HTTP://mcceastbay.org/women-series\n– Ustadha Nihad’s “Forty Hadith Qudsi” series: https://mcceastbay.org/qudsi\n– Ustadha’s Nihad’s “Pearls of Islam: The Wives of Prophet Muhammad (PBUH)” series: https://mcceastbay.org/pearls-series\n– Ustadha Nihad’s Surah al-Kahf series: https://mcceastbay.org/kahf\n– Ustadha Nihad’s Juz Amma series: https://mcceastbay.org/quran-tafseer\n– Hafidha Nihad’s Sahaba (Companions) Series Sessions: https://mcceastbay.org/companions-series\n– Ust. Nohad’s Al-Nawawi Hadith Series: https://mcceastbay.org/nawawi\n– More Ustadha Nihad: https://mcceastbay.org/nihad\n\nQuestions? events@mcceastbay.org
URL:https://mcceastbay.org/event/good-character/2024-12-19/
LOCATION:http://mcceastbay.org/forty
CATEGORIES:Sisters Program,Women's Activities
ATTACH;FMTTYPE=image/jpeg:https://mcceastbay.org/wp-content/uploads/2024/12/Forty-of-the-Forty-1-1.jpg
END:VEVENT
BEGIN:VEVENT
DTSTART;TZID=America/Los_Angeles:20241219T183000
DTEND;TZID=America/Los_Angeles:20241219T200000
DTSTAMP:20260419T145550
CREATED:20241210T175849Z
LAST-MODIFIED:20241220T192444Z
UID:10022008-1734633000-1734638400@mcceastbay.org
SUMMARY:Gathering of the Hearts | Ustadha Hosai Mojaddidi
DESCRIPTION:Join Ustadha Hosai Mojaddidi for our monthly in-person and online gathering for women (ages 18+) to commune\, reflect\, discuss\, and gain strength and support from each other. \n6:30 p.m. to 8 p.m. | Monthly on Thursdays | Free; no registration required | Conference Room or watch live online at https://mcceastbay.org/live \nIn this class\, we use “Purification of the Heart” and “Foundations of the Spiritual Path” By Sidi Ahmad Zarruq\, Translated by Hamza Yusuf. Download the book at HTTP://mcceastbay.org/foundations \nWatch past session recordings at https://mcceastbay.org/muslimah-purification \nWe discuss spirituality\, self-development\, relevant and contemporary topics\, and issues related to Muslim women’s roles and responsibilities in today’s knotted-up world. We also examine “Purification of the Heart: Signs\, Symptoms\, and Cures of the Spiritual Diseases of the Heart” by Shaykh Hamza Yusuf. \n\n– More Ustadha Hosai: https://mcceastbay.org/hosai\n– ‘Purification of the Heart’ Series: (Adults): https://mcceastbay.org/heart-purification\n– ‘Purification of the Heart’ Series: (Women): https://mcceastbay.org/muslimah-purification\n– ‘Purification of the Heart’ Series (Teens): https://mcceastbay.org/purification\n– ‘Agenda to Change our Condition’ Series: https://mcceastbay.org/agenda\n– ‘Modern Muslim Parenting’ Series: https://mcceastbay.org/islamic-parenting\n\nThis is a discussion-based group\, and participation is not only encouraged\, but it is required. \nSorry\, no babysitting provided. The in-person option is for women only\, or the virtual option so anyone can watch live on: \n\n– YouTube: https://mcceastbay.org/live\n– Facebook: https://mcceastbay.org/facebook\n– Instagram: https://mcceastbay.org/instagram\n\nAbout Ustadha Hosai Mojaddidi: \nHosai Mojaddidi is the co-founder of mentalhealth4muslims.com\, where she advocates for and writes about various mental health-related topics tailored for Muslims. She has served the American-Muslim community for nearly 20 years as an activist\, writer/editor\, mediator\, interfaith organizer\, and public speaker\, covering a variety of topics\, including women’s issues\, marriage/family\, education\, self-development\, interfaith bridge-building\, spirituality\, etc. \nIn her spare time she enjoys reading\, writing\, blogging via social media (Facebook\, Instagram and Twitter)\, doing arts and crafts\, visiting gourmet coffee shops\, and exploring the countless beautiful parks\, beaches and nature preserves throughout Northern California where she lives with her husband\, two sons\, and fish named Max. \nThese monthly sessions are live-streamed and recorded. Watch past Ustadha Hosai recordings at https://mcceastbay.org/hosai \nQuestions? events@mcceastbay.org
URL:https://mcceastbay.org/event/gathering-of-the-hearts/
LOCATION:MCC East Bay\, 5724 W Las Positas Blvd #300\, Pleasanton\, CA\, 94588\, United States
CATEGORIES:Women's Activities
ATTACH;FMTTYPE=image/jpeg:https://mcceastbay.org/wp-content/uploads/2024/11/Monthly-Womens-Gathering.jpg
ORGANIZER;CN="Muslim Community Center - East Bay":MAILTO:events@mcceastbay.org
END:VEVENT
BEGIN:VEVENT
DTSTART;TZID=America/Los_Angeles:20241223T110000
DTEND;TZID=America/Los_Angeles:20241223T123000
DTSTAMP:20260419T145550
CREATED:20240411T235317Z
LAST-MODIFIED:20250122T054014Z
UID:10020754-1734951600-1734957000@mcceastbay.org
SUMMARY:Women’s Seerah Bookclub (in-person & virtual) | Ustadha Leila Fakira
DESCRIPTION:Join our weekly sisters’ in-person & virtual Seerah book club\, where we have an active discussion\, take away lessons for our daily lives\, and inshaAllah fall in love with the Prophet ﷺ. We are reading from “The Prophetic Narrative” by Samira al-Zayid and will begin reading Volume 2. \n\n\n\nEvery Monday in-person & virtual | 11 a.m. to 12:30 p.m. | MCC Conference Room | Women only | RSVP for the live registration link at https://mcceastbay.org/bookclub. RSVP is needed to join us virtually. \n\n\n\nEvent Details: \n\n\n\nThe in-person & virtual discussion takes place every Monday from 11 a.m. to 12:30 p.m. with a break in Ramadan ’24. \n\n\n\nPlease register online to receive the link to the Whatsapp thread where all communication and updates will be made. In this bookclub\, we will be starting volume 2 of “The Prophetic Narrative” by Samira al-Zayid. \n\n\n\nBook Purchase: \n\n\n\nIf you wish to follow along with the book\, please purchase the book. The book can be purchased here: \n\n\n\n– https://daybreak.rabata.org/products/soft-cover-a-compendium-of-the-sources-on-the-prophetic-narrative \n\n\n\nQuestions? bookclub@mcceastbay.org \n\n\n\nAbout the Book \n\n\n\nInternationally acclaimed as “the most authoritative resource” on the Sīra\, this two-volume translation textbook is revolutionary in bringing Prophet Muhammad ﷺ’s life to life for everyone who ventures upon it. \n\n\n\nThis multiple award-winning\, comprehensive compilation of narrations and details of the life of Prophet Muhammad (S) has never before been available in English until now! Internationally acclaimed as “the most authoritative resource” on the Sīra\, this two-volume translation textbook is revolutionary in bringing his (S) life to life for everyone who ventures upon it. The original volumes have won the approval and praise of numerous scholars. It is finally available as a treasured text for personal or educational development. \n\n\n\nAuthor: Samira al-Zayid \n\n\n\nTranslators: Susan Imady\, Tamara Gray\, & Randa Mardini \n\n\n\nBinding: Softcover \n\n\n\nPages: Vol 1\, 570; Vol 2\, 558 \n\n\n\nPublisher: Daybreak Press \n\n\n\nQuestions? bookclub@mcceastbay.org \n\n\n\n\n\n\n\n\n\n\n\n\n\n\n\n\n\n 
URL:https://mcceastbay.org/event/inperson-seerah-bookclub/2024-12-23/
LOCATION:CA
CATEGORIES:Women's Activities
ATTACH;FMTTYPE=image/jpeg:https://mcceastbay.org/wp-content/uploads/2024/06/Monday-1-1.jpg
END:VEVENT
BEGIN:VEVENT
DTSTART;TZID=America/Los_Angeles:20241226T113000
DTEND;TZID=America/Los_Angeles:20241226T121500
DTSTAMP:20260419T145550
CREATED:20241212T231155Z
LAST-MODIFIED:20250212T222812Z
UID:10022082-1735212600-1735215300@mcceastbay.org
SUMMARY:Encouraging Good Character Traits | Ustadha Nihad Hemmoudeh
DESCRIPTION:Ustadha Nihad Hemmoudeh facilitates a 45-minute live Zoom session for sisters on one of the chapters in the book The Forty of the Forty by Imam Yusuf al-Nabhani\, which talks about enjoining good character\, leading to spiritual purification and closeness to Allah. \n11:30 a.m. to 12:15 p.m. PST | Thursdays | 12 consecutive weeks from Dec. 19 to March 6\, 2025 | No pre-registration needed | Join live each week at 11:30 a.m. on Zoom at mcceastbay.org/forty \nWatch the prior sessions in this series: HTTP://mcceastbay.org/principle-series \nMore Ustadha Nihad: \n\n– Ustadha Nihad’s “Principles of Religion” series: https://mcceastbay.org/principle-series\n– Ustadha Nihad’s “Women Around the Messenger” series: HTTP://mcceastbay.org/women-series\n– Ustadha Nihad’s “Forty Hadith Qudsi” series: https://mcceastbay.org/qudsi\n– Ustadha’s Nihad’s “Pearls of Islam: The Wives of Prophet Muhammad (PBUH)” series: https://mcceastbay.org/pearls-series\n– Ustadha Nihad’s Surah al-Kahf series: https://mcceastbay.org/kahf\n– Ustadha Nihad’s Juz Amma series: https://mcceastbay.org/quran-tafseer\n– Hafidha Nihad’s Sahaba (Companions) Series Sessions: https://mcceastbay.org/companions-series\n– Ust. Nohad’s Al-Nawawi Hadith Series: https://mcceastbay.org/nawawi\n– More Ustadha Nihad: https://mcceastbay.org/nihad\n\nQuestions? events@mcceastbay.org
URL:https://mcceastbay.org/event/good-character/2024-12-26/
LOCATION:http://mcceastbay.org/forty
CATEGORIES:Sisters Program,Women's Activities
ATTACH;FMTTYPE=image/jpeg:https://mcceastbay.org/wp-content/uploads/2024/12/Forty-of-the-Forty-1-1.jpg
END:VEVENT
BEGIN:VEVENT
DTSTART;TZID=America/Los_Angeles:20241228T110000
DTEND;TZID=America/Los_Angeles:20241228T130000
DTSTAMP:20260419T145550
CREATED:20241122T155849Z
LAST-MODIFIED:20250122T054337Z
UID:10021980-1735383600-1735390800@mcceastbay.org
SUMMARY:Monthly Sisters' Mawlid
DESCRIPTION:For Sisters: Join us monthly for sisters’ Mawlid for a gathering of remembrance and Dhikr.  \nConnect more with Prophet Muhammad ﷺ as we gather on the fourth Saturday of each month in remembrance and dhikr. \nEvery fourth Saturday | 11 a.m. to 1 p.m. | Pre-K room or MCC Conference Room | In-person only | Free; no RSVP required\n \nSisters and children welcome. No boys over the age of eight are allowed. \nDates for Monthly Women’s Mawlid at MCC East Bay \n\n– Saturday\, November 23\, 2024 \n– Saturday\, December 28\, 2024\n– Saturday\, January 25\, 2025\n– Saturday\, February 22\, 2025\n– No session in Ramadan in March ’25\n– Saturday\, April 26\, 2025\n– Saturday\, May 24\, 2025\n\nQuestions? events@mcceastbay.org \nThe Mawlid is a joyous expression of the greatest blessing from Allah. \nWe take this blessed opportunity monthly to remind ourselves of the three sacred rights that the Messenger of Allah ﷺ requires from us\, instilling in us a deep sense of respect and reverence. \n\n– Marifah – Recognizing who the Messenger of Allah ﷺ is\n– Muhabbah – Loving the Messenger of Allah ﷺ\n– Ittiba’ – Obedience to the Messenger of Allah ﷺ\n\nThe second two (loving and obeying) are not entirely possible without genuinely recognizing the first – who the Messenger of Allah ﷺ was. This recognition enlightens us and deepens our knowledge of his teachings.
URL:https://mcceastbay.org/event/monthly-sisters-mawlid-2/2024-12-28/
LOCATION:MCC East Bay\, 5724 W Las Positas Blvd #300\, Pleasanton\, CA\, 94588\, United States
CATEGORIES:Women's Activities
ATTACH;FMTTYPE=image/jpeg:https://mcceastbay.org/wp-content/uploads/2019/11/11.16.19-Womens-Mawlid.jpg
ORGANIZER;CN="Muslim Community Center - East Bay":MAILTO:events@mcceastbay.org
END:VEVENT
END:VCALENDAR