BEGIN:VCALENDAR
VERSION:2.0
PRODID:-//MCC East Bay - ECPv6.15.20//NONSGML v1.0//EN
CALSCALE:GREGORIAN
METHOD:PUBLISH
X-WR-CALNAME:MCC East Bay
X-ORIGINAL-URL:https://mcceastbay.org
X-WR-CALDESC:Events for MCC East Bay
REFRESH-INTERVAL;VALUE=DURATION:PT1H
X-Robots-Tag:noindex
X-PUBLISHED-TTL:PT1H
BEGIN:VTIMEZONE
TZID:America/Los_Angeles
BEGIN:DAYLIGHT
TZOFFSETFROM:-0800
TZOFFSETTO:-0700
TZNAME:PDT
DTSTART:20200308T100000
END:DAYLIGHT
BEGIN:STANDARD
TZOFFSETFROM:-0700
TZOFFSETTO:-0800
TZNAME:PST
DTSTART:20201101T090000
END:STANDARD
BEGIN:DAYLIGHT
TZOFFSETFROM:-0800
TZOFFSETTO:-0700
TZNAME:PDT
DTSTART:20210314T100000
END:DAYLIGHT
BEGIN:STANDARD
TZOFFSETFROM:-0700
TZOFFSETTO:-0800
TZNAME:PST
DTSTART:20211107T090000
END:STANDARD
BEGIN:DAYLIGHT
TZOFFSETFROM:-0800
TZOFFSETTO:-0700
TZNAME:PDT
DTSTART:20220313T100000
END:DAYLIGHT
BEGIN:STANDARD
TZOFFSETFROM:-0700
TZOFFSETTO:-0800
TZNAME:PST
DTSTART:20221106T090000
END:STANDARD
END:VTIMEZONE
BEGIN:VEVENT
DTSTART;TZID=America/Los_Angeles:20211118T190000
DTEND;TZID=America/Los_Angeles:20211118T210000
DTSTAMP:20260419T141444
CREATED:20211119T061051Z
LAST-MODIFIED:20211119T061051Z
UID:10015034-1637262000-1637269200@mcceastbay.org
SUMMARY:Sisterhood Halaqa With Ustadha Hosai
DESCRIPTION:Join Ustadha Hosai Mojaddidi for our monthly in-person and online gathering for women (ages 18+) to commune\, reflect\, discuss\, and gain strength and support from each other. \n7 p.m. to 9 p.m. | Last Thursday each month | Free; no registration required | Conference Room or watch live online at https://mcceastbay.org/live \nWatch past session recordings at: https://mcceastbay.org/muslimah-purification \nWe talk about spirituality\, self-development\, relevant and contemporary topics\, as well as issues related to the various roles and responsibilities of Muslim women in today’s knotted up world. We also examine “Purification of the Heart: Signs\, Symptoms and Cures of the Spiritual Diseases of the Heart” by Shaykh Hamza Yusuf. \n\n– More Ustadha Hosai: https://mcceastbay.org/hosai\n– ‘Purification of the Heart’ Series: (Adults): https://mcceastbay.org/heart-purification\n– ‘Purification of the Heart’ Series: (Women): https://mcceastbay.org/muslimah-purification\n– ‘Purification of the Heart’ Series (Teens): https://mcceastbay.org/purification\n– ‘Agenda to Change our Condition’ Series: https://mcceastbay.org/agenda\n– ‘Modern Muslim Parenting’ Series: https://mcceastbay.org/islamic-parenting\n\nThis is a discussion-based group and participation is not only encouraged but it is required. These sessions are held on the last Thursday each month on: \n\n– Thu\, Oct 28\, 2021\n– Thu\, Nov 18\, 2021\n– Thu\, Dec 30\, 2021\n– Thu\, Jan 27\, 2022\n– Thu\, Feb 24\, 2022\n– Thu\, Mar 31\, 2022\n\nSorry\, no babysitting provided. In person option is for women only or virtual option so anyone can watch live on: \n\n– YouTube: https://mcceastbay.org/live\n– FaceBook: https://mcceastbay.org/facebook\n– Instagram: https://mcceastbay.org/instagram\n\nAbout Ustadha Hosai Mojaddidi:\nHosai Mojaddidi is the co-Founder of mentalhealth4muslims.com where she advocates for and writes about various mental health related topics tailored for Muslims. She has served the American-Muslim community for nearly 20 years as an activist\, writer/editor\, mediator\, interfaith organizer\, and public speaker\, covering a variety of topics including women’s issues\, marriage/family\, education\, self development\, interfaith bridge building\, spirituality\, etc. \nIn her spare time she enjoys reading\, writing\, blogging via social media (Facebook\, Instagram and Twitter)\, doing arts and crafts\, visiting gourmet coffee shops\, and exploring the countless beautiful parks\, beaches and nature preserves throughout Northern California where she lives with her husband\, two sons\, and fish named Max. \nThese monthly sessions are live streamed and recorded. Watch past Ustadha Hosai recordings at https://mcceastbay.org/hosai \nQuestions? events@mcceastbay.org
URL:https://mcceastbay.org/event/sisterhood-halaqa-with-ustadha-hosai/
LOCATION:MCC East Bay\, 5724 W Las Positas Blvd #300\, Pleasanton\, CA\, 94588\, United States
CATEGORIES:Women's Activities
ATTACH;FMTTYPE=image/png:https://mcceastbay.org/wp-content/uploads/2024/06/Monthly-Sisterhood-Halaqa-with-Ustadha-Hosai-Mojaddidi-online-or-in-person.png
ORGANIZER;CN="Muslim Community Center - East Bay":MAILTO:events@mcceastbay.org
END:VEVENT
END:VCALENDAR