BEGIN:VCALENDAR
VERSION:2.0
PRODID:-//MCC East Bay - ECPv6.15.20//NONSGML v1.0//EN
CALSCALE:GREGORIAN
METHOD:PUBLISH
X-WR-CALNAME:MCC East Bay
X-ORIGINAL-URL:https://mcceastbay.org
X-WR-CALDESC:Events for MCC East Bay
REFRESH-INTERVAL;VALUE=DURATION:PT1H
X-Robots-Tag:noindex
X-PUBLISHED-TTL:PT1H
BEGIN:VTIMEZONE
TZID:America/Los_Angeles
BEGIN:DAYLIGHT
TZOFFSETFROM:-0800
TZOFFSETTO:-0700
TZNAME:PDT
DTSTART:20220313T100000
END:DAYLIGHT
BEGIN:STANDARD
TZOFFSETFROM:-0700
TZOFFSETTO:-0800
TZNAME:PST
DTSTART:20221106T090000
END:STANDARD
BEGIN:DAYLIGHT
TZOFFSETFROM:-0800
TZOFFSETTO:-0700
TZNAME:PDT
DTSTART:20230312T100000
END:DAYLIGHT
BEGIN:STANDARD
TZOFFSETFROM:-0700
TZOFFSETTO:-0800
TZNAME:PST
DTSTART:20231105T090000
END:STANDARD
BEGIN:DAYLIGHT
TZOFFSETFROM:-0800
TZOFFSETTO:-0700
TZNAME:PDT
DTSTART:20240310T100000
END:DAYLIGHT
BEGIN:STANDARD
TZOFFSETFROM:-0700
TZOFFSETTO:-0800
TZNAME:PST
DTSTART:20241103T090000
END:STANDARD
END:VTIMEZONE
BEGIN:VEVENT
DTSTART;TZID=America/Los_Angeles:20230930T070000
DTEND;TZID=America/Los_Angeles:20230930T093000
DTSTAMP:20260419T162224
CREATED:20230920T021339Z
LAST-MODIFIED:20230920T021339Z
UID:10020313-1696057200-1696066200@mcceastbay.org
SUMMARY:Monthly Sisterhood Hike | Sisters in the Outdoors
DESCRIPTION:Join us from 7 a.m. to 9:30 a.m. on Saturday\, Sept. 30\, for a Saturday morning hike at Lake Chabot near San Leandro to get to know other sisters in the community and enjoy the great outdoors. No children\, please (female teens\, okay). Let us know you are coming: https://mcceastbay.org/rsvp \n\n\n\n\n– When: Saturday\, Sept. 30\, 2023\n\n\n\n– Time: 7 a.m. to 9:30 a.m. – Please arrive a little early to park and find the group. The group can wait till 8:10 a.m. and will start the hike. Please be on time since we cannot hold the group.\n\n\n\n– Carpool: We highly recommend carpooling. No carpool from MCC is available for this hike. Carpool encouraged others on this hike.\n\n\n\n– Parking: Pay at the entrance/kiosks\n\n\n\n– Location: Lake Chabot Park\n\n\n\n– Distance: 7.9 miles\n\n\n\n– All Trails:  https://www.alltrails.com/trail/us/california/lake-chabot-west-shore-bass-cove-columbine-honker-bay-east-shore-loop?sh=kyrhg8\n\n\n\n– Difficulty: Moderate\n\n\n\n– Misc: Wear hiking shoes if possible. There will be a small water crossing\, and your shoes might get wet. Bring a small breakfast/ Lunch sandwich or something to eat. Carry enough water\, a hat\, and a light jacket. Please download All Trails map (free version) in case you decide to return in the middle of the hike. This will be very helpful in navigating back to the parking lot.\n\n\n\n– RSVP: By Friday\, Sept. 29\, please let us know you are coming for this hike: https://mcceastbay.org/rsvp\n\n\n\n\nSr. Aparna Khan and Sr. Sohaila will be leading this hike. If you have trouble finding the group on the day of the hike\, please call or text Sr. Aparna at (408) 480-6584 or Sr. Sohaila at (925) 786-7698. Please remember that we cannot hold all the group\, so we request you to please be on time. \n\n\n\nFor future hikes\, please subscribe to the MCC newsletter and/or add your phone number to the Women’s Hiking WhatsUp group. \n\n\n\nPlease wear comfortable walking/hiking shoes\, carry a water bottle\, a small snack\, a hat\, sunglasses\, and hiking poles if you have one.  \n\n\n\nQuestions? hiking@mcceastbay.org \n\n\n\nAbout this trail: \n\n\n\nExperience this 8.7-mile loop trail near San Leandro\, California. Generally considered a moderately challenging route. This is a very popular area for fishing\, hiking\, and horseback riding\, so you’ll likely encounter other people while exploring. The trail is open year-round and is beautiful to visit anytime.
URL:https://mcceastbay.org/event/sisters-hike-2/
LOCATION:MCC East Bay\, 5724 W Las Positas Blvd #300\, Pleasanton\, CA\, 94588\, United States
CATEGORIES:Women's Activities
ATTACH;FMTTYPE=image/jpeg:https://mcceastbay.org/wp-content/uploads/2024/06/unnamed-4.jpg
END:VEVENT
END:VCALENDAR