BEGIN:VCALENDAR
VERSION:2.0
PRODID:-//MCC East Bay - ECPv6.15.20//NONSGML v1.0//EN
CALSCALE:GREGORIAN
METHOD:PUBLISH
X-WR-CALNAME:MCC East Bay
X-ORIGINAL-URL:https://mcceastbay.org
X-WR-CALDESC:Events for MCC East Bay
REFRESH-INTERVAL;VALUE=DURATION:PT1H
X-Robots-Tag:noindex
X-PUBLISHED-TTL:PT1H
BEGIN:VTIMEZONE
TZID:America/Los_Angeles
BEGIN:DAYLIGHT
TZOFFSETFROM:-0800
TZOFFSETTO:-0700
TZNAME:PDT
DTSTART:20240310T100000
END:DAYLIGHT
BEGIN:STANDARD
TZOFFSETFROM:-0700
TZOFFSETTO:-0800
TZNAME:PST
DTSTART:20241103T090000
END:STANDARD
BEGIN:DAYLIGHT
TZOFFSETFROM:-0800
TZOFFSETTO:-0700
TZNAME:PDT
DTSTART:20250309T100000
END:DAYLIGHT
BEGIN:STANDARD
TZOFFSETFROM:-0700
TZOFFSETTO:-0800
TZNAME:PST
DTSTART:20251102T090000
END:STANDARD
BEGIN:DAYLIGHT
TZOFFSETFROM:-0800
TZOFFSETTO:-0700
TZNAME:PDT
DTSTART:20260308T100000
END:DAYLIGHT
BEGIN:STANDARD
TZOFFSETFROM:-0700
TZOFFSETTO:-0800
TZNAME:PST
DTSTART:20261101T090000
END:STANDARD
END:VTIMEZONE
BEGIN:VEVENT
DTSTART;TZID=America/Los_Angeles:20251101T080000
DTEND;TZID=America/Los_Angeles:20251101T110000
DTSTAMP:20260419T073558
CREATED:20251021T190143Z
LAST-MODIFIED:20251021T190143Z
UID:10024157-1761984000-1761994800@mcceastbay.org
SUMMARY:Monthly Sisterhood Hike | Sisters in the Outdoors
DESCRIPTION:Join us at 8 a.m. on Saturday\, Nov. 1\, for a hike at Sunol Wilderness Regional Preserve in Sunol to get to know other sisters in the community and enjoy the great outdoors. No children\, please (female teens\, okay). Let us know you are coming: https://mcceastbay.org/rsvp \nIf sisters want to walk around more\, they can do it depending on their interest/time. The hike will be canceled if there are not enough RSVPs or depending on the weather. \n\n– When: Saturday\, Nov. 1\n– Time: 8 a.m. to 11 a.m. – Please arrive a little early to park and find the group. The group can wait till 8:15 a.m. and will start the hike. Please be on time\, since we cannot hold the group.\n– Carpool: We highly recommend carpooling. No carpool is available from MCC for this hike. Carpooling encouraged others on this hike. Please note that cell phone service is not available at the parking lot\, so we kindly request that you arrive on time.\n– Parking: $5 parking fee. We will meet in the parking lot outside the gate. Please do not go inside the park even if the gate is open. We like to emphasize that there is no cell reception in the parking lot\, so please be there on time. We will not break the group to come back to get someone from the parking lot if they are running late.\n– Meeting Point: Sunol Visitor Center\n– Trail: Little Yosemite\n– Distance: 5.8 miles\n– Difficulty: Moderate\n– Misc: Wear hiking shoes if possible. There will be a small water crossing\, and your shoes might get wet. Bring a small breakfast/ Lunch sandwich or something to eat. Carry enough water\, a hat\, and a light jacket. Please download All Trails map (free version) in case you decide to return in the middle of the hike. This will be very helpful in navigating back to the parking lot.\n– RSVP: By Friday\, Oct. 31\, please let us know you are coming for this hike: https://mcceastbay.org/rsvp\n\nSr. Aparna Khan and Sr. Sohaila will be leading this hike. If you have trouble finding the group on the day of the hike\, please call or text Sr. Aparna at (408) 480-6584 or Sr. Sohaila at (925) 786-7698. Please remember that we cannot hold all the group\, so we request you to please be on time. \nFor future hikes\, please subscribe to the MCC newsletter and/or add your phone number to the Women’s Hiking WhatsUp group. \nPlease wear comfortable walking/hiking shoes\, carry a water bottle\, a small snack\, a hat\, sunglasses\, and hiking poles if you have one.  \nQuestions? hiking@mcceastbay.org \nAbout this trail: \nThis loop takes you to Little Yosemite via Camp Ohlone Road\, Gear Road\, Backpack Road\, and McCorkle Trail. You’ll be traveling along Alameda Creek for the first leg of your journey. This route also passes by a spur trail that takes you to several backcountry campsites such as Cathedral\, Eagle’s Eyrie\, and Sycamore.
URL:https://mcceastbay.org/event/monthly-sisterhood-hike-sunol/
LOCATION:Sunol Wilderness\, 1895 Geary Rd\,\, Sunol\, California\, 94586\, United States
CATEGORIES:Women's Activities
ATTACH;FMTTYPE=image/jpeg:https://mcceastbay.org/wp-content/uploads/2025/10/Nov-Monthly-Sisterhood-Hike.jpg
ORGANIZER;CN="Muslim Community Center - East Bay":MAILTO:events@mcceastbay.org
END:VEVENT
BEGIN:VEVENT
DTSTART;TZID=America/Los_Angeles:20251101T110000
DTEND;TZID=America/Los_Angeles:20251101T130000
DTSTAMP:20260419T073558
CREATED:20251016T145855Z
LAST-MODIFIED:20251028T184608Z
UID:10024148-1761994800-1762002000@mcceastbay.org
SUMMARY:Monthly Sisters' Mawlid
DESCRIPTION:For Sisters: Join us monthly for sisters’ Mawlid for a gathering of remembrance and Dhikr.  \nConnect more with Prophet Muhammad ﷺ as we gather on the fourth Saturday of each month in remembrance and dhikr. \nSaturday\, Nov. 1 | 11 a.m. to 1 p.m. | Pre-K room or Conference Room | In-person only | Free; no RSVP required\n \nSisters and children welcome. No boys over the age of eight are allowed. \nDates for Monthly Women’s Mawlid at MCC East Bay \n\n– Saturday\, November 23\, 2024 \n– Saturday\, December 28\, 2024\n– Saturday\, January 25\, 2025\n– Saturday\, February 22\, 2025\n– No session in Ramadan in March ’25\n– Saturday\, April 26\, 2025\n– Saturday\, May 31\, 2025 (date changed due to Memorial Day weekend)\n– Saturday\, June 28\, 2025\n-Saturday\, July 26\, 2025\n-Saturday\, Aug. 30\, 2025\n– Saturday\, Sep. 27\, 2025\n– Saturday\, Nov. 1\, 2025\n\nQuestions? events@mcceastbay.org \nThe Mawlid is a joyous expression of the greatest blessing from Allah. \nWe take this blessed opportunity monthly to remind ourselves of the three sacred rights that the Messenger of Allah ﷺ requires from us\, instilling in us a deep sense of respect and reverence. \n\n– Marifah – Recognizing who the Messenger of Allah ﷺ is\n– Muhabbah – Loving the Messenger of Allah ﷺ\n– Ittiba’ – Obedience to the Messenger of Allah ﷺ\n\nThe second two (loving and obeying) are not entirely possible without genuinely recognizing the first – who the Messenger of Allah ﷺ was. This recognition enlightens us and deepens our knowledge of his teachings.
URL:https://mcceastbay.org/event/monthly-sisters-mawlid-7/
LOCATION:MCC East Bay\, 5724 W Las Positas Blvd #300\, Pleasanton\, CA\, 94588\, United States
CATEGORIES:Women's Activities
ATTACH;FMTTYPE=image/jpeg:https://mcceastbay.org/wp-content/uploads/2025/10/Nov-Womens-Monthly-Mawlid.jpg
ORGANIZER;CN="Muslim Community Center - East Bay":MAILTO:events@mcceastbay.org
END:VEVENT
END:VCALENDAR