BEGIN:VCALENDAR
VERSION:2.0
PRODID:-//MCC East Bay - ECPv6.15.20//NONSGML v1.0//EN
CALSCALE:GREGORIAN
METHOD:PUBLISH
X-WR-CALNAME:MCC East Bay
X-ORIGINAL-URL:https://mcceastbay.org
X-WR-CALDESC:Events for MCC East Bay
REFRESH-INTERVAL;VALUE=DURATION:PT1H
X-Robots-Tag:noindex
X-PUBLISHED-TTL:PT1H
BEGIN:VTIMEZONE
TZID:America/Los_Angeles
BEGIN:DAYLIGHT
TZOFFSETFROM:-0800
TZOFFSETTO:-0700
TZNAME:PDT
DTSTART:20200308T100000
END:DAYLIGHT
BEGIN:STANDARD
TZOFFSETFROM:-0700
TZOFFSETTO:-0800
TZNAME:PST
DTSTART:20201101T090000
END:STANDARD
BEGIN:DAYLIGHT
TZOFFSETFROM:-0800
TZOFFSETTO:-0700
TZNAME:PDT
DTSTART:20210314T100000
END:DAYLIGHT
BEGIN:STANDARD
TZOFFSETFROM:-0700
TZOFFSETTO:-0800
TZNAME:PST
DTSTART:20211107T090000
END:STANDARD
BEGIN:DAYLIGHT
TZOFFSETFROM:-0800
TZOFFSETTO:-0700
TZNAME:PDT
DTSTART:20220313T100000
END:DAYLIGHT
BEGIN:STANDARD
TZOFFSETFROM:-0700
TZOFFSETTO:-0800
TZNAME:PST
DTSTART:20221106T090000
END:STANDARD
END:VTIMEZONE
BEGIN:VEVENT
DTSTART;TZID=America/Los_Angeles:20210901T104500
DTEND;TZID=America/Los_Angeles:20210901T121500
DTSTAMP:20260420T151711
CREATED:20210521T032025Z
LAST-MODIFIED:20210521T032025Z
UID:10014717-1630493100-1630498500@mcceastbay.org
SUMMARY:Sisters' Seerah Weekly Book Club
DESCRIPTION:Join our weekly sisters’ virtual & in-person Seerah book club where we have an active discussion\, take away lessons for our daily lives\, and inshaAllah fall in love with the Prophet ﷺ. We are reading “The Sultan of Hearts Prophet Muhammad ﷺ” by Resit Haylamaz and Fatih Harpci. \nRSVP for the live registration link below at mcceastbay.org/bookclub. No RSVP needed to join us in person in the MCC Conference Room (masks and social distancing required) \nEvent Details: \nThe discussion will take place every Wednesday from 10:45 a.m. to 12:15 p.m. starting May 26 and continue into Fall 2021. From Wednesday\, Aug. 4 to Sept. 1\, we will begin a hybrid in-person & virtual session. For the link to join virtually\, please register below. \nUstadha Leila Fakira sends the webinar link to registered attendees after registration.  \nBook Purchase: \nIf you wish to follow along with the book\, you’ll need to purchase the book. The book is out of print\, but can be purchased here: \n\nhttps://www.antstores.com/search?type=product&q=9781597849425\nhttps://www.amazon.com/dp/1597849421/ref=cm_sw_r_cp_apa_fab_mHaAFb4CRDKX5\n\nQuestions? bookclub@mcceastbay.org \n[wpforms id=”19807″ title=”false” description=”false”] \nAbout the Book\nOffering a comprehensive narrative of one of the most fascinating life stories of human history\, The Sultan of Hearts is an authoritative work on the life of Prophet Muhammad\, peace be upon him. The book relies firmly on canonical Hadith collections and Sirah literature\, and is rich with references to many contemporary biographical works such as Al-Maktabatu’s-Sirah\, Al-Maktabatu’l-Alfiyah\, and Al-Maktabatu’sh-Shamilah. \nThe Sultan of Hearts presents the life of the Prophet and the events that unfolded during his mission by contextualizing them with Qur’anic revelations. \nAnalyzing “reasons of revelation” (Asbab al-Nuzul)\, a method in Tafsir studies\, authors portray how every revealed verse of God’s word transformed his society and they reconstruct the biography based on this interaction between the scripture and the events. The book lays bare the role of the Qur’an in the education of the large congregation of the Companions\, and with it reveals the kind of teaching and drill that the Messenger of Allah exercised in his close circle. \nThe developments that preceded and followed the statements of the beloved Prophet are reported extensively in order to point to both the educational aspects of the Qur’an and the role of our noble Prophet in transforming people’s lives. There are also detailed accounts of the spiritual and psychological states of many individuals from those who believed the Prophet and those who did not.
URL:https://mcceastbay.org/event/weekly-book-club/2021-09-01/
LOCATION:MCC East Bay\, 5724 W Las Positas Blvd #300\, Pleasanton\, CA\, 94588\, United States
CATEGORIES:Women's Activities
ATTACH;FMTTYPE=image/png:https://mcceastbay.org/wp-content/uploads/2024/06/womens-mosque-bookclub.png
ORGANIZER;CN="Muslim Community Center - East Bay":MAILTO:events@mcceastbay.org
END:VEVENT
BEGIN:VEVENT
DTSTART;TZID=America/Los_Angeles:20210901T104500
DTEND;TZID=America/Los_Angeles:20210901T121500
DTSTAMP:20260420T151711
CREATED:20210521T032025Z
LAST-MODIFIED:20210521T032025Z
UID:10014995-1630493100-1630498500@mcceastbay.org
SUMMARY:Sisters' Seerah Weekly Book Club
DESCRIPTION:Join our weekly sisters’ virtual & in-person Seerah book club where we have an active discussion\, take away lessons for our daily lives\, and inshaAllah fall in love with the Prophet ﷺ. We are reading “The Sultan of Hearts Prophet Muhammad ﷺ” by Resit Haylamaz and Fatih Harpci. \nRSVP for the live registration link below at mcceastbay.org/bookclub. No RSVP needed to join us in person in the MCC Conference Room (masks and social distancing required) \nEvent Details: \nThe discussion will take place every Wednesday from 10:45 a.m. to 12:15 p.m. starting May 26 and continue into Fall 2021. From Wednesday\, Aug. 4 to Sept. 1\, we will begin a hybrid in-person & virtual session. For the link to join virtually\, please register below. \nUstadha Leila Fakira sends the webinar link to registered attendees after registration.  \nBook Purchase: \nIf you wish to follow along with the book\, you’ll need to purchase the book. The book is out of print\, but can be purchased here: \n\nhttps://www.antstores.com/search?type=product&q=9781597849425\nhttps://www.amazon.com/dp/1597849421/ref=cm_sw_r_cp_apa_fab_mHaAFb4CRDKX5\n\nQuestions? bookclub@mcceastbay.org \n[wpforms id=”19807″ title=”false” description=”false”] \nAbout the Book\nOffering a comprehensive narrative of one of the most fascinating life stories of human history\, The Sultan of Hearts is an authoritative work on the life of Prophet Muhammad\, peace be upon him. The book relies firmly on canonical Hadith collections and Sirah literature\, and is rich with references to many contemporary biographical works such as Al-Maktabatu’s-Sirah\, Al-Maktabatu’l-Alfiyah\, and Al-Maktabatu’sh-Shamilah. \nThe Sultan of Hearts presents the life of the Prophet and the events that unfolded during his mission by contextualizing them with Qur’anic revelations. \nAnalyzing “reasons of revelation” (Asbab al-Nuzul)\, a method in Tafsir studies\, authors portray how every revealed verse of God’s word transformed his society and they reconstruct the biography based on this interaction between the scripture and the events. The book lays bare the role of the Qur’an in the education of the large congregation of the Companions\, and with it reveals the kind of teaching and drill that the Messenger of Allah exercised in his close circle. \nThe developments that preceded and followed the statements of the beloved Prophet are reported extensively in order to point to both the educational aspects of the Qur’an and the role of our noble Prophet in transforming people’s lives. There are also detailed accounts of the spiritual and psychological states of many individuals from those who believed the Prophet and those who did not.
URL:https://mcceastbay.org/event/weekly-book-club/2021-09-01/
LOCATION:MCC East Bay\, 5724 W Las Positas Blvd #300\, Pleasanton\, CA\, 94588\, United States
CATEGORIES:Women's Activities
ATTACH;FMTTYPE=image/png:https://mcceastbay.org/wp-content/uploads/2024/06/womens-mosque-bookclub.png
ORGANIZER;CN="Muslim Community Center - East Bay":MAILTO:events@mcceastbay.org
END:VEVENT
BEGIN:VEVENT
DTSTART;TZID=America/Los_Angeles:20210904T063000
DTEND;TZID=America/Los_Angeles:20210904T090000
DTSTAMP:20260420T151711
CREATED:20210827T045707Z
LAST-MODIFIED:20240630T203453Z
UID:10014789-1630737000-1630746000@mcceastbay.org
SUMMARY:Sister's Hike to Pleasanton Ridge | Sisterhood in the Outdoors
DESCRIPTION:Join us from 6:30 a.m. to 9 a.m. on Saturday\, September 4 for a Saturday morning hike at the Pleasanton Ridge to get to know other sisters in the community and enjoy the great outdoors. \nMessage hiking@mcceastbay.org with your name & cell phone number by Friday\, September 3 to RSVP. \nPlease come prepared with water\, snack and hiking/running shoes. \nFor future hikes\, please subscribe to the MCC newsletter and/or add your phone number to the Women’s Hiking WhatsUp group. \nOn the day of the hike\, if you have trouble finding the group\, please call or text Hike Leader Sr. Aparna Khan at (408) 480-6584. Please remember that we cannot hold all the group \, request you to please be on time. \nLocation: Pleasanton Ridge Regional Park\, Foothill Rd\, Pleasanton\, CA 94588 . If you are using Google Maps for driving directions\, search for Foothill Staging Area: https://goo.gl/maps/871WWNiGtJ3f284N7 \nTime : 6:30 a.m.. Let’s meet by the Pleasanton Ridge parking lot between 6:20 a.m. to 6:30 a.m. \nDistance: Around 6.2 miles and not stroller friendly unless you have a jogger stroller \nAll trails Map: We will be doing this trail https://www.alltrails.com/trail/us/california/thermalito-ridgeline-oak-tree-trail–2 \nParking Fee: Free \nDifficulty: Most of the Thermalito Ridgeline Oak Tree Trail is moderate level but it does have some elevation gain. Please refer to alltrails for hike difficulty If you are first timer hiking\, it might be little difficult. \nCarpool from MCC: No planned carpool \nPlease wear comfortable walking/hiking shoes\, carry water bottle\, small snack\, hat\, sunglasses and hiking poles if you have. \n\n\nQuestions? hiking@mcceastbay.org \n\n\n\n\nThermalito Ridgeline Oak Tree Trail\n\nThermalito Ridgeline Oak Tree Trail is a 6.2 mile heavily trafficked loop trail located near Sunol\, California that features beautiful wild flowers and is rated as moderate. The trail offers a number of activity options and is accessible year-round. Dogs and horses are also able to use this trail. See here: https://www.alltrails.com/trail/us/california/thermalito-ridgeline-oak-tree-trail–2 \n\nLength: 6.2 mi\nElevation gain: 1\,325 ft.\nRoute type: Loop\nAbout The Park\nThis beautiful 5\,271-acre parkland is on the oak-covered ridge overlooking Pleasanton and the Livermore Valley from the west. It is planned as the core of a Ridgelands Regional Park to be acquired over a period of many years. Parkland development has been intentionally limited to preserve the pastoral atmosphere. \nThe park occupies Pleasanton Ridge and beyond. To the northwest it spills down off Pleasanton Ridge into upper Kilkare Canyon\, where it continues up onto Sunol Ridge\, finally terminating at its westernmost corner in Stoneybrook Canyon. Inside the park\, elevations exceed 1\,600 feet. \n\nPark Activities\nFrom the main staging area on Foothill Road you can follow a multi-purpose trail system\, which accommodates hikers\, equestrians\, and bicyclists\, provides canyon views and ridge-top vistas\, and access to remote\, deep-canyon streams. \nPark Accessibility\nThere are one paved disabled parking and one wheelchair accessible portable toilet in the Foothill staging area. The two old redwood type drinking fountains would allow a wheelchair to get under but there is no smooth surface under these facilities. The park will install an upgraded fountain this summer for wheelchair users in an area by the disabled parking. There is one picnic table that can accommodate two wheelchairs and is also next to the disabled parking. The trails in the park are all multi-use dirt trails so they are more suitable for visitors who use electric wheelchair. \nTrail Accessibility Report\nOak Tree Trail: Download PDF | Download MS Word \nTo Reach The Park\nFrom I-680 in Pleasanton\, exit at Castlewood Drive and go west. Turn left (south) onto Foothill Road\, towards the town of Sunol. The Foothill Staging Area is about two miles from Castlewood Drive\, on the right. \n\nPublic transit information\n\nTransit & Trails: Pleasanton Ridge Regional Park (transit\, biking\, and walking directions) \nTrail Map\nClick the map image below to see an enlarged version. \n \n\n 
URL:https://mcceastbay.org/event/sisters-hike-pleasanton-ridge/
LOCATION:Pleasanton Ridge Regional Park\, Pleasanton\, CA\, Foothill Rd.\, Pleasanton\, 94588\, United States
CATEGORIES:Women's Activities
ATTACH;FMTTYPE=image/jpeg:https://mcceastbay.org/wp-content/uploads/2024/06/Muslimah-Hike-5-Sisters-Hike-to-Pleasanton-Ridge-Sisterhood-in-the-Outdoors.jpg
ORGANIZER;CN="Muslim Community Center - East Bay":MAILTO:events@mcceastbay.org
END:VEVENT
BEGIN:VEVENT
DTSTART;TZID=America/Los_Angeles:20210905T060000
DTEND;TZID=America/Los_Angeles:20210905T071500
DTSTAMP:20260420T151711
CREATED:20210826T170237Z
LAST-MODIFIED:20240630T203436Z
UID:10014769-1630821600-1630826100@mcceastbay.org
SUMMARY:Monthly #TeamFajr Gathering
DESCRIPTION:“If people knew the reward in praying Fajr & Isha in congregation\, they would go to the Masjid even if they had to crawl” [Bukhari & Muslim] \n#TeamFajr is back (sans breakfast until we are out of this pandemic)! Join Qari Amar Bellaha on the first Sunday each month. Pray the pre-dawn prayer in congregation followed by recitations of Surah Yaseen and Al-Wird Al-Latif (booklets provided) in unison and following sunup\, Salat al-Ishraq prayer in congregation. The post-Fajr gathering is also livestreamed at mcceastbay.org/live \nFollowing the post-sunrise prayer\, Qari Amar and anyone else who wishes to accompany him will visit Five Pillars Islamic Cemetery in Livermore (weather permitting). \n2021 Monthly Sunday #TeamFajr Gatherings at MCC: \n\n6 a.m. on September 5\n6:30 a.m. on October 3\n6 a.m. on November 7\n6:30 a.m. on December 5\n\nQuestions? events@mcceastbay.org \n\nMore Qari Amar: https://mcceastbay.org/amar\nImam al-Haddad’s litanies (al-Wird al-Latif): https://mcceastbay.org/wird\nThe Prophet (Peace be upon him) said\, “He who performs the Fajr will be under the protection of Allah.” [Muslim]\nThe Messenger of Allah (ﷺ) said: “The best prayer before Allah is Fajr prayer on Friday in congregation.”
URL:https://mcceastbay.org/event/fajr/2021-09-05/
LOCATION:MCC East Bay\, 5724 W Las Positas Blvd #300\, Pleasanton\, CA\, 94588\, United States
CATEGORIES:Family Events,Teen,Women's Activities,Young Children
ATTACH;FMTTYPE=image/png:https://mcceastbay.org/wp-content/uploads/2024/06/Monthly-TeamFajr-Gathering-Qari-Amar-Bellaha-2.png
ORGANIZER;CN="Muslim Community Center - East Bay":MAILTO:events@mcceastbay.org
END:VEVENT
END:VCALENDAR