BEGIN:VCALENDAR
VERSION:2.0
PRODID:-//MCC East Bay - ECPv6.15.20//NONSGML v1.0//EN
CALSCALE:GREGORIAN
METHOD:PUBLISH
X-WR-CALNAME:MCC East Bay
X-ORIGINAL-URL:https://mcceastbay.org
X-WR-CALDESC:Events for MCC East Bay
REFRESH-INTERVAL;VALUE=DURATION:PT1H
X-Robots-Tag:noindex
X-PUBLISHED-TTL:PT1H
BEGIN:VTIMEZONE
TZID:America/Los_Angeles
BEGIN:DAYLIGHT
TZOFFSETFROM:-0800
TZOFFSETTO:-0700
TZNAME:PDT
DTSTART:20200308T100000
END:DAYLIGHT
BEGIN:STANDARD
TZOFFSETFROM:-0700
TZOFFSETTO:-0800
TZNAME:PST
DTSTART:20201101T090000
END:STANDARD
BEGIN:DAYLIGHT
TZOFFSETFROM:-0800
TZOFFSETTO:-0700
TZNAME:PDT
DTSTART:20210314T100000
END:DAYLIGHT
BEGIN:STANDARD
TZOFFSETFROM:-0700
TZOFFSETTO:-0800
TZNAME:PST
DTSTART:20211107T090000
END:STANDARD
BEGIN:DAYLIGHT
TZOFFSETFROM:-0800
TZOFFSETTO:-0700
TZNAME:PDT
DTSTART:20220313T100000
END:DAYLIGHT
BEGIN:STANDARD
TZOFFSETFROM:-0700
TZOFFSETTO:-0800
TZNAME:PST
DTSTART:20221106T090000
END:STANDARD
END:VTIMEZONE
BEGIN:VEVENT
DTSTART;TZID=America/Los_Angeles:20210910T200000
DTEND;TZID=America/Los_Angeles:20210910T211500
DTSTAMP:20260419T114318
CREATED:20210903T044010Z
LAST-MODIFIED:20210903T044010Z
UID:10014798-1631304000-1631308500@mcceastbay.org
SUMMARY:Your Connection to Allah: Why Is It Difficult These Days | Dr. Haifaa Younis
DESCRIPTION:**Watch the talk at https://youtu.be/LdAAZDKVG44 \nIn partnership with The Rahmah Foundation\, MCC is proud to host Dr. Haifaa Younis at this gathering about connecting to Allah and withstanding the difficulties of our time. \nDr. Haifaa is a national speaker known for igniting the love of Islam and Qur’an through her teachings. She will speak about “Your Connection to God Withstanding Difficulties Today”. \nSaturday\, Sept. 10 | 7 p.m. to 9:15 p.m. | MCC Prayer Hall or watch at https://mcceastbay.org/live \nEvent schedule: \n\n7 p.m. to 7:30 p.m. – Meet & greet with Dr. Haifaa (sisters only in Conference Room)\n7:30 p.m. – Maghrib prayer (Prayer Hall)\n8 p.m.- 9:15 p.m. – Dr. Haifaa halaqa for sisters & brothers (Prayer Hall)\n9:15 p.m. – Isha prayer (Prayer Hall)\n\nOpen to all. No RSVP needed. \nQuestions? events@mcceastbay.org \nIn person event. Dr. Haifaa’s talk will also be streamed live on MCC Facebook and YouTube channels. Masks required on while in the MCC facility. \nAbout the Speaker:\nDr. Haifaa Younis is an American Board Certified Obstetrician and Gynecologist with roots from Iraq. Her pursuit of Islamic knowledge initiated when she began to study with various Islamic scholars from across the United States while she simultaneously attended individual courses and lectures on subjects including Aqeeda\, Fiqh\, usual Fiqh\, Hadeeth\, and Tazkiyah (purification of the soul). From the United States\, she moved to Saudi Arabia where she graduated from the Mecca Institute of Islamic Studies (Jeddah\, Saudi Arabia) and Al-Huda Qur’an Memorization School (Jeddah\, Saudi Arabia) where she completed the memorization of the Qur’an. She is the founder and Chairman of Jannah Institute and currently teaches seminars on the thematic commentary of various chapters of the Holy Qur’an and their practical relevance in our day-to-day living. Additionally\, she offers retreats on key topics that inspire hearts\, combining the inner essence of Islam with an outward expression of practice. Dr. Haifaa is passionate about spreading the word of Allah (SBW) and igniting the love of Islam and the Qur’an through her teachings. Learn more about her at https://www.jannahinstitute.com
URL:https://mcceastbay.org/event/haifaa-younis/
LOCATION:MCC East Bay\, 5724 W Las Positas Blvd #300\, Pleasanton\, CA\, 94588\, United States
CATEGORIES:Family Events,Lectures & Workshops,Women's Activities
ATTACH;FMTTYPE=image/png:https://mcceastbay.org/wp-content/uploads/2024/06/Your-Connection-to-Allah-Dr.-Haifaa-Younis.png
ORGANIZER;CN="The Rahmah Foundation":MAILTO:mailbox@therahmahfoundation.org
END:VEVENT
END:VCALENDAR