BEGIN:VCALENDAR
VERSION:2.0
PRODID:-//MCC East Bay - ECPv6.15.20//NONSGML v1.0//EN
CALSCALE:GREGORIAN
METHOD:PUBLISH
X-WR-CALNAME:MCC East Bay
X-ORIGINAL-URL:https://mcceastbay.org
X-WR-CALDESC:Events for MCC East Bay
REFRESH-INTERVAL;VALUE=DURATION:PT1H
X-Robots-Tag:noindex
X-PUBLISHED-TTL:PT1H
BEGIN:VTIMEZONE
TZID:America/Los_Angeles
BEGIN:DAYLIGHT
TZOFFSETFROM:-0800
TZOFFSETTO:-0700
TZNAME:PDT
DTSTART:20210314T100000
END:DAYLIGHT
BEGIN:STANDARD
TZOFFSETFROM:-0700
TZOFFSETTO:-0800
TZNAME:PST
DTSTART:20211107T090000
END:STANDARD
BEGIN:DAYLIGHT
TZOFFSETFROM:-0800
TZOFFSETTO:-0700
TZNAME:PDT
DTSTART:20220313T100000
END:DAYLIGHT
BEGIN:STANDARD
TZOFFSETFROM:-0700
TZOFFSETTO:-0800
TZNAME:PST
DTSTART:20221106T090000
END:STANDARD
BEGIN:DAYLIGHT
TZOFFSETFROM:-0800
TZOFFSETTO:-0700
TZNAME:PDT
DTSTART:20230312T100000
END:DAYLIGHT
BEGIN:STANDARD
TZOFFSETFROM:-0700
TZOFFSETTO:-0800
TZNAME:PST
DTSTART:20231105T090000
END:STANDARD
END:VTIMEZONE
BEGIN:VEVENT
DTSTART;TZID=America/Los_Angeles:20220202T104500
DTEND;TZID=America/Los_Angeles:20220202T121500
DTSTAMP:20260419T085806
CREATED:20220103T174359Z
LAST-MODIFIED:20220103T174359Z
UID:10015076-1643798700-1643804100@mcceastbay.org
SUMMARY:Weekly Bookclub
DESCRIPTION:Join our weekly sisters’ virtual & in-person Seerah book club where we have an active discussion\, take away lessons for our daily lives\, and inshaAllah fall in love with the Prophet ﷺ. We are reading “The Sultan of Hearts Prophet Muhammad ﷺ” by Resit Haylamaz and Fatih Harpci. \nRSVP for the live registration link below at https://mcceastbay.org/bookclub. No RSVP needed to join us in person in the MCC Conference Room (masks and social distancing required). \nEvent Details: \nThe discussion takes place every Wednesday from 10:45 a.m. to 12:15 p.m. and in Fall 2021 run from Wednesday\, Sept. 29 to March 23\, 2022 (suspends in Ramadan 2022) with a holiday breaks. The sessions are hybrid: meaning as in-person & virtual session. No RSVP needed to join in person. For the link to join virtually\, please register below. \nUstadha Leila Fakira sends the webinar link to registered attendees after registration.  \nBook Purchase: \nIf you wish to follow along with the book\, you’ll need to purchase the book. The book is out of print\, but can be purchased here: \n\nhttps://www.antstores.com/search?type=product&q=9781597849425\nhttps://www.amazon.com/dp/1597849421/ref=cm_sw_r_cp_apa_fab_mHaAFb4CRDKX5\n\nQuestions? bookclub@mcceastbay.org \n[wpforms id=”19807″ title=”false” description=”false”] \nAbout the Book\nOffering a comprehensive narrative of one of the most fascinating life stories of human history\, The Sultan of Hearts is an authoritative work on the life of Prophet Muhammad\, peace be upon him. The book relies firmly on canonical Hadith collections and Sirah literature\, and is rich with references to many contemporary biographical works such as Al-Maktabatu’s-Sirah\, Al-Maktabatu’l-Alfiyah\, and Al-Maktabatu’sh-Shamilah. \nThe Sultan of Hearts presents the life of the Prophet and the events that unfolded during his mission by contextualizing them with Qur’anic revelations. \nAnalyzing “reasons of revelation” (Asbab al-Nuzul)\, a method in Tafsir studies\, authors portray how every revealed verse of God’s word transformed his society and they reconstruct the biography based on this interaction between the scripture and the events. The book lays bare the role of the Qur’an in the education of the large congregation of the Companions\, and with it reveals the kind of teaching and drill that the Messenger of Allah exercised in his close circle. \nThe developments that preceded and followed the statements of the beloved Prophet are reported extensively in order to point to both the educational aspects of the Qur’an and the role of our noble Prophet in transforming people’s lives. There are also detailed accounts of the spiritual and psychological states of many individuals from those who believed the Prophet and those who did not.
URL:https://mcceastbay.org/event/womens-book-club/2022-02-02/
LOCATION:MCC East Bay\, 5724 W Las Positas Blvd #300\, Pleasanton\, CA\, 94588\, United States
CATEGORIES:Women's Activities
ATTACH;FMTTYPE=image/png:https://mcceastbay.org/wp-content/uploads/2024/06/Sisters-Seerah-Book-Club-at-Mosque.png
ORGANIZER;CN="Muslim Community Center - East Bay":MAILTO:events@mcceastbay.org
END:VEVENT
BEGIN:VEVENT
DTSTART;TZID=America/Los_Angeles:20220202T104500
DTEND;TZID=America/Los_Angeles:20220202T121500
DTSTAMP:20260419T085806
CREATED:20220103T174359Z
LAST-MODIFIED:20220103T174359Z
UID:10015167-1643798700-1643804100@mcceastbay.org
SUMMARY:Weekly Bookclub
DESCRIPTION:Join our weekly sisters’ virtual & in-person Seerah book club where we have an active discussion\, take away lessons for our daily lives\, and inshaAllah fall in love with the Prophet ﷺ. We are reading “The Sultan of Hearts Prophet Muhammad ﷺ” by Resit Haylamaz and Fatih Harpci. \nRSVP for the live registration link below at https://mcceastbay.org/bookclub. No RSVP needed to join us in person in the MCC Conference Room (masks and social distancing required). \nEvent Details: \nThe discussion takes place every Wednesday from 10:45 a.m. to 12:15 p.m. and in Fall 2021 run from Wednesday\, Sept. 29 to March 23\, 2022 (suspends in Ramadan 2022) with a holiday breaks. The sessions are hybrid: meaning as in-person & virtual session. No RSVP needed to join in person. For the link to join virtually\, please register below. \nUstadha Leila Fakira sends the webinar link to registered attendees after registration.  \nBook Purchase: \nIf you wish to follow along with the book\, you’ll need to purchase the book. The book is out of print\, but can be purchased here: \n\nhttps://www.antstores.com/search?type=product&q=9781597849425\nhttps://www.amazon.com/dp/1597849421/ref=cm_sw_r_cp_apa_fab_mHaAFb4CRDKX5\n\nQuestions? bookclub@mcceastbay.org \n[wpforms id=”19807″ title=”false” description=”false”] \nAbout the Book\nOffering a comprehensive narrative of one of the most fascinating life stories of human history\, The Sultan of Hearts is an authoritative work on the life of Prophet Muhammad\, peace be upon him. The book relies firmly on canonical Hadith collections and Sirah literature\, and is rich with references to many contemporary biographical works such as Al-Maktabatu’s-Sirah\, Al-Maktabatu’l-Alfiyah\, and Al-Maktabatu’sh-Shamilah. \nThe Sultan of Hearts presents the life of the Prophet and the events that unfolded during his mission by contextualizing them with Qur’anic revelations. \nAnalyzing “reasons of revelation” (Asbab al-Nuzul)\, a method in Tafsir studies\, authors portray how every revealed verse of God’s word transformed his society and they reconstruct the biography based on this interaction between the scripture and the events. The book lays bare the role of the Qur’an in the education of the large congregation of the Companions\, and with it reveals the kind of teaching and drill that the Messenger of Allah exercised in his close circle. \nThe developments that preceded and followed the statements of the beloved Prophet are reported extensively in order to point to both the educational aspects of the Qur’an and the role of our noble Prophet in transforming people’s lives. There are also detailed accounts of the spiritual and psychological states of many individuals from those who believed the Prophet and those who did not.
URL:https://mcceastbay.org/event/womens-book-club/2022-02-02/
LOCATION:MCC East Bay\, 5724 W Las Positas Blvd #300\, Pleasanton\, CA\, 94588\, United States
CATEGORIES:Women's Activities
ATTACH;FMTTYPE=image/png:https://mcceastbay.org/wp-content/uploads/2024/06/Sisters-Seerah-Book-Club-at-Mosque.png
ORGANIZER;CN="Muslim Community Center - East Bay":MAILTO:events@mcceastbay.org
END:VEVENT
BEGIN:VEVENT
DTSTART;TZID=America/Los_Angeles:20220202T104500
DTEND;TZID=America/Los_Angeles:20220202T121500
DTSTAMP:20260419T085806
CREATED:20220103T174359Z
LAST-MODIFIED:20220103T174359Z
UID:10015176-1643798700-1643804100@mcceastbay.org
SUMMARY:Weekly Bookclub
DESCRIPTION:Join our weekly sisters’ virtual & in-person Seerah book club where we have an active discussion\, take away lessons for our daily lives\, and inshaAllah fall in love with the Prophet ﷺ. We are reading “The Sultan of Hearts Prophet Muhammad ﷺ” by Resit Haylamaz and Fatih Harpci. \nRSVP for the live registration link below at https://mcceastbay.org/bookclub. No RSVP needed to join us in person in the MCC Conference Room (masks and social distancing required). \nEvent Details: \nThe discussion takes place every Wednesday from 10:45 a.m. to 12:15 p.m. and in Fall 2021 run from Wednesday\, Sept. 29 to March 23\, 2022 (suspends in Ramadan 2022) with a holiday breaks. The sessions are hybrid: meaning as in-person & virtual session. No RSVP needed to join in person. For the link to join virtually\, please register below. \nUstadha Leila Fakira sends the webinar link to registered attendees after registration.  \nBook Purchase: \nIf you wish to follow along with the book\, you’ll need to purchase the book. The book is out of print\, but can be purchased here: \n\nhttps://www.antstores.com/search?type=product&q=9781597849425\nhttps://www.amazon.com/dp/1597849421/ref=cm_sw_r_cp_apa_fab_mHaAFb4CRDKX5\n\nQuestions? bookclub@mcceastbay.org \n[wpforms id=”19807″ title=”false” description=”false”] \nAbout the Book\nOffering a comprehensive narrative of one of the most fascinating life stories of human history\, The Sultan of Hearts is an authoritative work on the life of Prophet Muhammad\, peace be upon him. The book relies firmly on canonical Hadith collections and Sirah literature\, and is rich with references to many contemporary biographical works such as Al-Maktabatu’s-Sirah\, Al-Maktabatu’l-Alfiyah\, and Al-Maktabatu’sh-Shamilah. \nThe Sultan of Hearts presents the life of the Prophet and the events that unfolded during his mission by contextualizing them with Qur’anic revelations. \nAnalyzing “reasons of revelation” (Asbab al-Nuzul)\, a method in Tafsir studies\, authors portray how every revealed verse of God’s word transformed his society and they reconstruct the biography based on this interaction between the scripture and the events. The book lays bare the role of the Qur’an in the education of the large congregation of the Companions\, and with it reveals the kind of teaching and drill that the Messenger of Allah exercised in his close circle. \nThe developments that preceded and followed the statements of the beloved Prophet are reported extensively in order to point to both the educational aspects of the Qur’an and the role of our noble Prophet in transforming people’s lives. There are also detailed accounts of the spiritual and psychological states of many individuals from those who believed the Prophet and those who did not.
URL:https://mcceastbay.org/event/womens-book-club/2022-02-02/
LOCATION:MCC East Bay\, 5724 W Las Positas Blvd #300\, Pleasanton\, CA\, 94588\, United States
CATEGORIES:Women's Activities
ATTACH;FMTTYPE=image/png:https://mcceastbay.org/wp-content/uploads/2024/06/Sisters-Seerah-Book-Club-at-Mosque.png
ORGANIZER;CN="Muslim Community Center - East Bay":MAILTO:events@mcceastbay.org
END:VEVENT
BEGIN:VEVENT
DTSTART;TZID=America/Los_Angeles:20220202T104500
DTEND;TZID=America/Los_Angeles:20220202T121500
DTSTAMP:20260419T085806
CREATED:20220103T174359Z
LAST-MODIFIED:20220103T174359Z
UID:10015184-1643798700-1643804100@mcceastbay.org
SUMMARY:Weekly Bookclub
DESCRIPTION:Join our weekly sisters’ virtual & in-person Seerah book club where we have an active discussion\, take away lessons for our daily lives\, and inshaAllah fall in love with the Prophet ﷺ. We are reading “The Sultan of Hearts Prophet Muhammad ﷺ” by Resit Haylamaz and Fatih Harpci. \nRSVP for the live registration link below at https://mcceastbay.org/bookclub. No RSVP needed to join us in person in the MCC Conference Room (masks and social distancing required). \nEvent Details: \nThe discussion takes place every Wednesday from 10:45 a.m. to 12:15 p.m. and in Fall 2021 run from Wednesday\, Sept. 29 to March 23\, 2022 (suspends in Ramadan 2022) with a holiday breaks. The sessions are hybrid: meaning as in-person & virtual session. No RSVP needed to join in person. For the link to join virtually\, please register below. \nUstadha Leila Fakira sends the webinar link to registered attendees after registration.  \nBook Purchase: \nIf you wish to follow along with the book\, you’ll need to purchase the book. The book is out of print\, but can be purchased here: \n\nhttps://www.antstores.com/search?type=product&q=9781597849425\nhttps://www.amazon.com/dp/1597849421/ref=cm_sw_r_cp_apa_fab_mHaAFb4CRDKX5\n\nQuestions? bookclub@mcceastbay.org \n[wpforms id=”19807″ title=”false” description=”false”] \nAbout the Book\nOffering a comprehensive narrative of one of the most fascinating life stories of human history\, The Sultan of Hearts is an authoritative work on the life of Prophet Muhammad\, peace be upon him. The book relies firmly on canonical Hadith collections and Sirah literature\, and is rich with references to many contemporary biographical works such as Al-Maktabatu’s-Sirah\, Al-Maktabatu’l-Alfiyah\, and Al-Maktabatu’sh-Shamilah. \nThe Sultan of Hearts presents the life of the Prophet and the events that unfolded during his mission by contextualizing them with Qur’anic revelations. \nAnalyzing “reasons of revelation” (Asbab al-Nuzul)\, a method in Tafsir studies\, authors portray how every revealed verse of God’s word transformed his society and they reconstruct the biography based on this interaction between the scripture and the events. The book lays bare the role of the Qur’an in the education of the large congregation of the Companions\, and with it reveals the kind of teaching and drill that the Messenger of Allah exercised in his close circle. \nThe developments that preceded and followed the statements of the beloved Prophet are reported extensively in order to point to both the educational aspects of the Qur’an and the role of our noble Prophet in transforming people’s lives. There are also detailed accounts of the spiritual and psychological states of many individuals from those who believed the Prophet and those who did not.
URL:https://mcceastbay.org/event/womens-book-club/2022-02-02/
LOCATION:MCC East Bay\, 5724 W Las Positas Blvd #300\, Pleasanton\, CA\, 94588\, United States
CATEGORIES:Women's Activities
ATTACH;FMTTYPE=image/png:https://mcceastbay.org/wp-content/uploads/2024/06/Sisters-Seerah-Book-Club-at-Mosque.png
ORGANIZER;CN="Muslim Community Center - East Bay":MAILTO:events@mcceastbay.org
END:VEVENT
BEGIN:VEVENT
DTSTART;TZID=America/Los_Angeles:20220205T080000
DTEND;TZID=America/Los_Angeles:20220205T093000
DTSTAMP:20260419T085806
CREATED:20220121T084938Z
LAST-MODIFIED:20240630T211542Z
UID:10016636-1644048000-1644053400@mcceastbay.org
SUMMARY:Sister's Hike to Little Yosemite in Sunol
DESCRIPTION:Join us from 8 a.m. to 9:30 a.m. on February 5 for a Saturday morning hike at the Little Yosemite at the Sunol Wilderness Regional Preserve (near Pleasanton) to get to know other sisters in the community and enjoy the great outdoors. There is zero cell service here. The team will wait for 10 to 15 minutes max before we head on the hike.\n\nWhen: Saturday\, Feb. 5\nTime: 8 a.m. – 9:30 a.m.\nCarpool : No MCC carpool available for this hike. Carpool encouraged with others on the hike.\nLocation: Sunol Visitor Center\, 1895 Geary Rd\, Sunol\, CA 94586 \nDistance: Around 6.9 miles\nAll Trails: https://www.alltrails.com/trail/us/california/indian-joe-creek-cave-rocks-vista-grande-eagle-view-mccorkle-canyon-view?ref=result-card \nParking Fee: $5 (gate opens at 8 a.m.)\nDifficulty: Moderate\n\nMisc: Please wear comfortable walking/hiking shoes\, carry enough water\, small snack\, hat\, sunglasses and hiking poles if you have. No cell network in that area\, suggest to carpool and download the AllTrail maps.\n\nRSVP: Message Hike Leader Aparna Khan at hiking@mcceastbay.org with your name & cell phone number by Friday\, February 4 to RSVP.\n\nPlease come prepared with water\, snack and hiking/running shoes. \nOn the day of the hike\, if you have trouble finding the group\, please call or text Hike Leader Sr. Aparna Khan at (408) 480-6584. Please remember that we cannot hold all the group so we request you to please be on time. \nFor future hikes\, please subscribe to the MCC newsletter and/or add your phone number to the Women’s Hiking WhatsUp group. \nPlease wear comfortable walking/hiking shoes\, carry water bottle\, small snack\, hat\, sunglasses and hiking poles if you have. \nIndian Joe Creek\, Cave Rocks\, Vista Grande\, Eagle View\, McCorkle\, Canyon View is a 6.9 mile moderately trafficked loop trail located near Sunol\, California that features beautiful wild flowers and is rated as moderate. The trail offers a number of activity options and is accessible year-round. Dogs are also able to use this trail but must be kept on leash. \nSunol Wilderness Regional Preserve charges a fee to enter seasonally and on weekends and holidays. Fees are per vehicle. There is also a fee for dogs. For more information\, please visit https://www.ebparks.org/parks/sunol. \nQuestions? hiking@mcceastbay.org \n\nPhotos from November 6\, 2021 hike to Mission Peak in Fremont:
URL:https://mcceastbay.org/event/sisters-hike/
LOCATION:Sunol Visitor Center\, 1895 Geary Rd\, Sunol\, CA 94586 \, Sunol\, 94586
CATEGORIES:Women's Activities
ATTACH;FMTTYPE=image/png:https://mcceastbay.org/wp-content/uploads/2024/06/Sisters-Hike-to-Little-Yoremite-in-Sunol.png
ORGANIZER;CN="Muslim Community Center - East Bay":MAILTO:events@mcceastbay.org
END:VEVENT
END:VCALENDAR