BEGIN:VCALENDAR
VERSION:2.0
PRODID:-//MCC East Bay - ECPv6.15.20//NONSGML v1.0//EN
CALSCALE:GREGORIAN
METHOD:PUBLISH
X-WR-CALNAME:MCC East Bay
X-ORIGINAL-URL:https://mcceastbay.org
X-WR-CALDESC:Events for MCC East Bay
REFRESH-INTERVAL;VALUE=DURATION:PT1H
X-Robots-Tag:noindex
X-PUBLISHED-TTL:PT1H
BEGIN:VTIMEZONE
TZID:America/Los_Angeles
BEGIN:DAYLIGHT
TZOFFSETFROM:-0800
TZOFFSETTO:-0700
TZNAME:PDT
DTSTART:20220313T100000
END:DAYLIGHT
BEGIN:STANDARD
TZOFFSETFROM:-0700
TZOFFSETTO:-0800
TZNAME:PST
DTSTART:20221106T090000
END:STANDARD
BEGIN:DAYLIGHT
TZOFFSETFROM:-0800
TZOFFSETTO:-0700
TZNAME:PDT
DTSTART:20230312T100000
END:DAYLIGHT
BEGIN:STANDARD
TZOFFSETFROM:-0700
TZOFFSETTO:-0800
TZNAME:PST
DTSTART:20231105T090000
END:STANDARD
BEGIN:DAYLIGHT
TZOFFSETFROM:-0800
TZOFFSETTO:-0700
TZNAME:PDT
DTSTART:20240310T100000
END:DAYLIGHT
BEGIN:STANDARD
TZOFFSETFROM:-0700
TZOFFSETTO:-0800
TZNAME:PST
DTSTART:20241103T090000
END:STANDARD
END:VTIMEZONE
BEGIN:VEVENT
DTSTART;TZID=America/Los_Angeles:20230113T190000
DTEND;TZID=America/Los_Angeles:20230113T210000
DTSTAMP:20260420T180629
CREATED:20220923T032506Z
LAST-MODIFIED:20220923T032506Z
UID:10019340-1673636400-1673643600@mcceastbay.org
SUMMARY:Dr. Rania Awaad's Weekly Friday Evening Halaqa
DESCRIPTION:Ustadha Dr. Rania Awaad holds a weekly Friday evening women’s gathering about navigating contemporary issues. \n7 p.m. to 9 p.m. | Every Friday from October 14\, 2022 to March 17\, 2023 |  MCC Conference Room | Free; no registration or RSVP required to attend in person | To join virtually\, register at https://mcceastbay.org/zoom \n\n– More Dr. Rania: https://mcceastbay.org/rania\n– Watch past Dr. Rania’s Friday Evening Halaqa recordings: https://mcceastbay.org/womens-halaqa\n– Join Dr. Rania’s WhatsUp group: https://chat.whatsapp.com/HlHmFFnGbwvCvLl6uGD1C4\n\nFree babysitting is provided in Room 16. Facility map: https://mcceastbay.org/facility-map \nQuestions? events@mcceastbay.org \nThis halaqa is hosted parallel to our girl’s program in partnership with Rahmah Foundation. \nUstadha Rania AwaadRaised in the U.S.\, Ustadha Rania Awaad began her formal study of the traditional Islamic sciences when her parents permitted her to travel to Damascus\, Syria\, at 14. Her desire to continue studying the Deen resulted in multiple trips back to Damascus\, interspersed between her high school\, college\, and medical studies. She was honored to receive Ijaazah (authorization to teach) several branches of the Shari’ah sciences at the hands of many renowned scholars\, including many female scholars. She has received Ijazah to teach Tajwid in the Hafs and Warsh recitations from the late eminent Syrian scholar Shaykh Abu Hassan al-Kurdi. In addition to completing several advanced texts of the Shafi’i madhhab\, she is licensed to teach texts of Maliki fiqh\, Adab\, and Ihsan. Currently\, Ustadha Rania teaches online and local classes for The Rahmah Foundation\, Rabata\, and is on the faculty of Zaytuna College\, where she teaches courses in Shafi’i fiqh\, women’s issues in fiqh and has helped develop and co-direct the Tajweed and Hifz program. \nUstadha Rania is also a medical doctor with a specialty in Psychiatry. She completed her Psychiatric residency and fellowship training at Stanford University\, where she is currently on the faculty as a Clinical Instructor in the Stanford Psychiatry and Behavioral Sciences department. Her medical interests include addressing mental health care concerns in the Muslim community- particularly that of Muslim women and girls. She has been awarded grants from the NIMH (National Institute of Mental Health) to research this topic and has presented her findings at several medical conferences. Other ongoing endeavors include compiling manuscripts addressing female-related mental health and medical issues from a fiqh-oriented perspective. She currently serves as the Director of the Rahmah Foundation\, a non-profit organization that teaches Muslim women and girls traditional Islamic knowledge. In this capacity\, she also heads the Murbbiyah Mentoring Program\, which trains young women to teach and mentor Muslim girls and teens. Ustadha Rania is both a wife and a mother; she has been counseling and teaching women classes on Tajwid\, Shafi’i Fiqh\, Ihsan\, marriage\, and raising children since 1999. \nLearn more about Dr. Rania and her work at http://med.stanford.edu/psychiatry/research/MuslimMHLab.html \nEvery Friday evening\, the MCC bustles with activity. MCC hosts four halaqas to increase God-consciousness for youth\, women\, and men. \nFrom 7 p.m. to 9 p.m.\, join Dr. Rania Awaad‘s women’s gathering about navigating contemporary issues. This wide-ranging Muslimah halaqa is in the MCC Conference Room\, and the first hour is live-streamed here (watch past sessions at https://mcceastbay.org/halaqa). This halaqa is organized in partnership with The Rahmah Foundation. \nFriday evening sessions in Fall 2022 and Winter 2023: \n\n– October 14\n– October 21\n– October 28\n– November 5\n– November 11\n– November 18\n– November 25 (no session)\n– December 2\n– December 9\n– December 16\n– December 23 (no session)\n– December 30 (no session)\n– January 6\, 2023\n– January 13\, 2023\n– January 20\, 2023\n– January 27\, 2023\n– February 3\, 2023\n– February 10\, 2023\n– February 17\, 2023\n– February 24\, 2023\n– March 3\, 2023\n– March 10\, 2023\n– March 17\, 2023 (last session before Ramadan 2023)
URL:https://mcceastbay.org/event/rania-halaqa/2023-01-13/
LOCATION:MCC East Bay\, 5724 W Las Positas Blvd #300\, Pleasanton\, CA\, 94588\, United States
CATEGORIES:Women's Activities
ATTACH;FMTTYPE=image/png:https://mcceastbay.org/wp-content/uploads/2024/06/Dr.-Rania-Awaads-Weekly-Friday-Evening-Halaqa.png
ORGANIZER;CN="Muslim Community Center - East Bay":MAILTO:events@mcceastbay.org
END:VEVENT
BEGIN:VEVENT
DTSTART;TZID=America/Los_Angeles:20230114T070000
DTEND;TZID=America/Los_Angeles:20230114T100000
DTSTAMP:20260420T180629
CREATED:20230101T010107Z
LAST-MODIFIED:20230101T010107Z
UID:10019492-1673679600-1673690400@mcceastbay.org
SUMMARY:Monthly Sisterhood Hike at Thermalito Ridgeline (Depending on Forecast)
DESCRIPTION:Join us from 7 a.m. to 10 a.m. on January 14 for a Saturday morning hike at Thermalito Ridgeline Oak Tree Trail near Sunol to get to know other sisters in the community and enjoy the great outdoors. No children\, please (female teens\, okay). \nPlease note: Hike may be canceled due to the rainy forecast. \n\n\n– When: Saturday\, January 14\n– Time: 7 a.m. to 10 a.m. – Please arrive a little early to park and find the group. The group can wait till 7:10 a.m. and will start the hike. Please be on time since we cannot hold the group.\n– Carpool: No carpool from MCC is available for this hike. Carpool encouraged others on this hike.\n\n– Parking: Entrance is free. We’ll meet by the parking lot right after you enter the gate.\n\n– Location: Oak Tree Trail\, Sunol\, CA 94586\n– Distance: 6.2 miles\n– All Trails: https://www.alltrails.com/trail/us/california/thermalito-ridgeline-oak-tree-trail–2\n– Difficulty: Moderate\n– Misc: Please wear comfortable walking/hiking shoes\, carry enough water\, a small snack\, a hat\, sunglasses\, and hiking poles if you have one. No cell network in that area\, suggest carpooling and downloading the AllTrail maps.\n– RSVP: By Friday\, January 13\, please let us know you are coming for this hike: https://mcceastbay.org/rsvp\n\nSr. Aparna Khan and Sr. Sohaila will be leading this hike. On the day of the hike\, if you have trouble finding the group\, please call or text Sr. Aparna at (408) 480-6584. Please remember that we cannot hold all the group so we request you to please be on time. \nFor future hikes\, please subscribe to the MCC newsletter and/or add your phone number to the Women’s Hiking WhatsUp group. \nPlease wear comfortable walking/hiking shoes\, carry a water bottle\, a small snack\, hat\, sunglasses\, and hiking poles if you have one.  \nAbout the Trail: \n\nExperience this 6.2-mile loop trail near Sunol\, California. Generally considered a moderately challenging route\, it takes an average of 3 h 9 min to complete. This is a very popular area for birding\, hiking\, and horseback riding\, so you’ll likely encounter other people while exploring. The trail is open year-round and is beautiful to visit anytime. \n\nQuestions? hiking@mcceastbay.org
URL:https://mcceastbay.org/event/monthly-sisterhood-hike-at-thermalito-ridgeline-depending-on-forecast/
LOCATION:MCC East Bay\, 5724 W Las Positas Blvd #300\, Pleasanton\, CA\, 94588\, United States
CATEGORIES:Women's Activities
ATTACH;FMTTYPE=image/png:https://mcceastbay.org/wp-content/uploads/2024/06/Sisterhood-Hike.png
ORGANIZER;CN="Muslim Community Center - East Bay":MAILTO:events@mcceastbay.org
END:VEVENT
END:VCALENDAR