BEGIN:VCALENDAR
VERSION:2.0
PRODID:-//MCC East Bay - ECPv6.15.20//NONSGML v1.0//EN
CALSCALE:GREGORIAN
METHOD:PUBLISH
X-WR-CALNAME:MCC East Bay
X-ORIGINAL-URL:https://mcceastbay.org
X-WR-CALDESC:Events for MCC East Bay
REFRESH-INTERVAL;VALUE=DURATION:PT1H
X-Robots-Tag:noindex
X-PUBLISHED-TTL:PT1H
BEGIN:VTIMEZONE
TZID:America/Los_Angeles
BEGIN:DAYLIGHT
TZOFFSETFROM:-0800
TZOFFSETTO:-0700
TZNAME:PDT
DTSTART:20230312T100000
END:DAYLIGHT
BEGIN:STANDARD
TZOFFSETFROM:-0700
TZOFFSETTO:-0800
TZNAME:PST
DTSTART:20231105T090000
END:STANDARD
BEGIN:DAYLIGHT
TZOFFSETFROM:-0800
TZOFFSETTO:-0700
TZNAME:PDT
DTSTART:20240310T100000
END:DAYLIGHT
BEGIN:STANDARD
TZOFFSETFROM:-0700
TZOFFSETTO:-0800
TZNAME:PST
DTSTART:20241103T090000
END:STANDARD
BEGIN:DAYLIGHT
TZOFFSETFROM:-0800
TZOFFSETTO:-0700
TZNAME:PDT
DTSTART:20250309T100000
END:DAYLIGHT
BEGIN:STANDARD
TZOFFSETFROM:-0700
TZOFFSETTO:-0800
TZNAME:PST
DTSTART:20251102T090000
END:STANDARD
END:VTIMEZONE
BEGIN:VEVENT
DTSTART;TZID=America/Los_Angeles:20240513T110000
DTEND;TZID=America/Los_Angeles:20240513T123000
DTSTAMP:20260419T085807
CREATED:20240411T235317Z
LAST-MODIFIED:20250122T054014Z
UID:10020723-1715598000-1715603400@mcceastbay.org
SUMMARY:Women’s Seerah Bookclub (in-person & virtual) | Ustadha Leila Fakira
DESCRIPTION:Join our weekly sisters’ in-person & virtual Seerah book club\, where we have an active discussion\, take away lessons for our daily lives\, and inshaAllah fall in love with the Prophet ﷺ. We are reading from “The Prophetic Narrative” by Samira al-Zayid and will begin reading Volume 2. \n\n\n\nEvery Monday in-person & virtual | 11 a.m. to 12:30 p.m. | MCC Conference Room | Women only | RSVP for the live registration link at https://mcceastbay.org/bookclub. RSVP is needed to join us virtually. \n\n\n\nEvent Details: \n\n\n\nThe in-person & virtual discussion takes place every Monday from 11 a.m. to 12:30 p.m. with a break in Ramadan ’24. \n\n\n\nPlease register online to receive the link to the Whatsapp thread where all communication and updates will be made. In this bookclub\, we will be starting volume 2 of “The Prophetic Narrative” by Samira al-Zayid. \n\n\n\nBook Purchase: \n\n\n\nIf you wish to follow along with the book\, please purchase the book. The book can be purchased here: \n\n\n\n– https://daybreak.rabata.org/products/soft-cover-a-compendium-of-the-sources-on-the-prophetic-narrative \n\n\n\nQuestions? bookclub@mcceastbay.org \n\n\n\nAbout the Book \n\n\n\nInternationally acclaimed as “the most authoritative resource” on the Sīra\, this two-volume translation textbook is revolutionary in bringing Prophet Muhammad ﷺ’s life to life for everyone who ventures upon it. \n\n\n\nThis multiple award-winning\, comprehensive compilation of narrations and details of the life of Prophet Muhammad (S) has never before been available in English until now! Internationally acclaimed as “the most authoritative resource” on the Sīra\, this two-volume translation textbook is revolutionary in bringing his (S) life to life for everyone who ventures upon it. The original volumes have won the approval and praise of numerous scholars. It is finally available as a treasured text for personal or educational development. \n\n\n\nAuthor: Samira al-Zayid \n\n\n\nTranslators: Susan Imady\, Tamara Gray\, & Randa Mardini \n\n\n\nBinding: Softcover \n\n\n\nPages: Vol 1\, 570; Vol 2\, 558 \n\n\n\nPublisher: Daybreak Press \n\n\n\nQuestions? bookclub@mcceastbay.org \n\n\n\n\n\n\n\n\n\n\n\n\n\n\n\n\n\n 
URL:https://mcceastbay.org/event/inperson-seerah-bookclub/2024-05-13/
LOCATION:CA
CATEGORIES:Women's Activities
ATTACH;FMTTYPE=image/jpeg:https://mcceastbay.org/wp-content/uploads/2024/06/Monday-1-1.jpg
END:VEVENT
BEGIN:VEVENT
DTSTART;TZID=America/Los_Angeles:20240514T123000
DTEND;TZID=America/Los_Angeles:20240514T131500
DTSTAMP:20260419T085807
CREATED:20240419T011310Z
LAST-MODIFIED:20240419T011310Z
UID:10021004-1715689800-1715692500@mcceastbay.org
SUMMARY:Principles of Religion: Manners | Ustadha Nihad Hemmoudeh
DESCRIPTION:Ustadha Nihad Hemmoudeh facilitates a 45-minute live Zoom session for sisters on the principles of religion\, such as acts of worshipping Allah (swt)\, the good character of a Muslim\, and more. These talks will be recorded and made publicly available on MCC’s YouTube\, Facebook\, and Instagram. \n\n\n\nUstadha Nihad is using the book\, “The Forty in the Fundamentals of Religion” by Al-Ghazali. This series is a continuation of the previous “Principles of Religion” series. This is part 2 of the series and will focus on Adab (manners).12:30 p.m. to 1:15 p.m. PST | Tuesdays | 12 consecutive weeks from April 30 to July 16\, 2024 | No pre-registration needed | Join live each week at 12:30 p.m. on Zoom at mcceastbay.org/principles \n\n\n\nWatch the prior sessions in this series: HTTP://mcceastbay.org/principle-seriesMore Ustadha Nihad: \n\n\n\n\n– Ustadha Nihad’s “Principles of Religion” series: https://mcceastbay.org/principle-series\n\n\n\n– Ustadha Nihad’s “Women Around the Messenger” series: HTTP://mcceastbay.org/women-series\n\n\n\n– Ustadha Nihad’s “Forty Hadith Qudsi” series: https://mcceastbay.org/qudsi\n\n\n\n– Ustadha’s Nihad’s “Pearls of Islam: The Wives of Prophet Muhammad (PBUH)” series: https://mcceastbay.org/pearls-series\n\n\n\n– Ustadha Nihad’s Surah al-Kahf series: https://mcceastbay.org/kahf\n\n\n\n– Ustadha Nihad’s Juz Amma series: https://mcceastbay.org/quran-tafseer\n\n\n\n– Hafidha Nihad’s Sahaba (Companions) Series Sessions: https://mcceastbay.org/companions-series\n\n\n\n– Ust. Nohad’s Al-Nawawi Hadith Series: https://mcceastbay.org/nawawi\n\n\n\n– More Ustadha Nihad: https://mcceastbay.org/nihad\n\n\n\n\nQuestions? events@mcceastbay.org
URL:https://mcceastbay.org/event/principles-of-religion-2/2024-05-14/
LOCATION:CA
CATEGORIES:Women's Activities
ATTACH;FMTTYPE=image/jpeg:https://mcceastbay.org/wp-content/uploads/2024/06/Principles-of-Religion-Part-2.jpg
END:VEVENT
BEGIN:VEVENT
DTSTART;TZID=America/Los_Angeles:20240517T190000
DTEND;TZID=America/Los_Angeles:20240517T210000
DTSTAMP:20260419T085807
CREATED:20230929T071326Z
LAST-MODIFIED:20230929T071326Z
UID:10020358-1715972400-1715979600@mcceastbay.org
SUMMARY:Dr. Rania Awaad’s Weekly Friday Evening Halaqa
DESCRIPTION:Ustadha Dr. Rania Awaad holds a weekly Friday evening women’s gathering about navigating contemporary issues. This program runs in parallel to the Friday night girl’s halaqa. \n\n\n\n7 p.m. to 9 p.m. | Every Friday from October 6\, 2023\, to May 24\, 2024 |  MCC Conference Room | Free; no registration or RSVP required to attend in person | To join virtually\, register at https://mcceastbay.org/zoom \n\n\n\n\n– More Dr. Rania: https://mcceastbay.org/rania\n\n\n\n– Watch past Dr. Rania’s Friday Evening Halaqa recordings: https://mcceastbay.org/womens-halaqa\n\n\n\n– Join Dr. Rania’s WhatsUp group: https://chat.whatsapp.com/HlHmFFnGbwvCvLl6uGD1C4\n\n\n\n\nThe fall session runs from Friday\, Oct. 6th to Friday\, Dec. 15th\, with Thanksgiving Break on Friday\, November 24. \n\n\n\nAfter winter break\, we continue in the winter from Friday\, Jan. 26 to Friday\, March 8\, with then a break for Ramadan (March 15\, 22\, 29\, April 5 & April 12)\, and we restart from April 19 to May 24. \n\n\n\nFree babysitting is provided in Room 23. Facility map: https://mcceastbay.org/facility-map \n\n\n\nQuestions? events@mcceastbay.org \n\n\n\nThis halaqa is hosted parallel to our girls’ program in partnership with The Rahmah Foundation. \n\n\n\nUstadha Rania AwaadRaised in the U.S.\, Ustadha Rania Awaad began her formal study of the traditional Islamic sciences when her parents permitted her to travel to Damascus\, Syria\, at 14. Her desire to continue studying the Deen resulted in multiple trips back to Damascus\, interspersed between her high school\, college\, and medical studies. She was honored to receive Ijazah (authorization to teach) several branches of the Shari’ah sciences at the hands of many renowned scholars\, including many female scholars. She has received Ijazah to teach Tajwid in the Hafs and Warsh recitations from the late eminent Syrian scholar Shaykh Abu Hassan al-Kurdi. In addition to completing several advanced texts of the Shafi’i madhhab\, she is licensed to teach texts of Maliki fiqh\, Adab\, and Ihsan. Currently\, Ustadha Rania teaches online and local classes for The Rahmah Foundation\, Rabata\, and is on the faculty of Zaytuna College\, where she teaches courses in Shafi’i fiqh\, women’s issues in fiqh and has helped develop and co-direct the Tajweed and Hifz program. \n\n\n\nUstadha Rania is also a medical doctor with a specialty in Psychiatry. She completed her Psychiatric residency and fellowship training at Stanford University\, where she is currently on the faculty as a Clinical Instructor in the Stanford Psychiatry and Behavioral Sciences department. Her medical interests include addressing mental health care concerns in the Muslim community- particularly that of Muslim women and girls. She has been awarded grants from the NIMH (National Institute of Mental Health) to research this topic and has presented her findings at several medical conferences. Other ongoing endeavors include compiling manuscripts addressing female-related mental health and medical issues from a fiqh-oriented perspective. She currently serves as the Director of the Rahmah Foundation\, a non-profit organization that teaches Muslim women and girls traditional Islamic knowledge. In this capacity\, she also heads the Murbbiyah Mentoring Program\, which trains young women to teach and mentor Muslim girls and teens. Ustadha Rania is both a wife and a mother; she has been counseling and teaching women classes on Tajwid\, Shafi’i Fiqh\, Ihsan\, marriage\, and raising children since 1999. \n\n\n\nLearn more about Dr. Rania and her work at http://med.stanford.edu/psychiatry/research/MuslimMHLab.html \n\n\n\nEvery Friday evening\, the MCC bustles with activity. MCC hosts four halaqas to increase God-consciousness for youth\, women\, and men. \n\n\n\nFrom 7 p.m. to 9 p.m.\, join Dr. Rania Awaad‘s women’s gathering about navigating contemporary issues. This wide-ranging Muslimah halaqa is in the MCC Conference Room\, and the first hour is live-streamed here (watch past sessions at https://mcceastbay.org/halaqa). This halaqa is organized in partnership with The Rahmah Foundation.
URL:https://mcceastbay.org/event/friday-womens-halaqa/2024-05-17/
LOCATION:CA
CATEGORIES:Women's Activities
ATTACH;FMTTYPE=image/png:https://mcceastbay.org/wp-content/uploads/2024/06/Dr.-Rania-Awaads-Weekly-Friday-Evening-Halaqa.png
END:VEVENT
END:VCALENDAR