BEGIN:VCALENDAR
VERSION:2.0
PRODID:-//MCC East Bay - ECPv6.15.20//NONSGML v1.0//EN
CALSCALE:GREGORIAN
METHOD:PUBLISH
X-WR-CALNAME:MCC East Bay
X-ORIGINAL-URL:https://mcceastbay.org
X-WR-CALDESC:Events for MCC East Bay
REFRESH-INTERVAL;VALUE=DURATION:PT1H
X-Robots-Tag:noindex
X-PUBLISHED-TTL:PT1H
BEGIN:VTIMEZONE
TZID:America/Los_Angeles
BEGIN:DAYLIGHT
TZOFFSETFROM:-0800
TZOFFSETTO:-0700
TZNAME:PDT
DTSTART:20230312T100000
END:DAYLIGHT
BEGIN:STANDARD
TZOFFSETFROM:-0700
TZOFFSETTO:-0800
TZNAME:PST
DTSTART:20231105T090000
END:STANDARD
BEGIN:DAYLIGHT
TZOFFSETFROM:-0800
TZOFFSETTO:-0700
TZNAME:PDT
DTSTART:20240310T100000
END:DAYLIGHT
BEGIN:STANDARD
TZOFFSETFROM:-0700
TZOFFSETTO:-0800
TZNAME:PST
DTSTART:20241103T090000
END:STANDARD
BEGIN:DAYLIGHT
TZOFFSETFROM:-0800
TZOFFSETTO:-0700
TZNAME:PDT
DTSTART:20250309T100000
END:DAYLIGHT
BEGIN:STANDARD
TZOFFSETFROM:-0700
TZOFFSETTO:-0800
TZNAME:PST
DTSTART:20251102T090000
END:STANDARD
END:VTIMEZONE
BEGIN:VEVENT
DTSTART;TZID=America/Los_Angeles:20240708T110000
DTEND;TZID=America/Los_Angeles:20240708T123000
DTSTAMP:20260419T174045
CREATED:20240411T235317Z
LAST-MODIFIED:20250122T054014Z
UID:10020730-1720436400-1720441800@mcceastbay.org
SUMMARY:Women’s Seerah Bookclub (in-person & virtual) | Ustadha Leila Fakira
DESCRIPTION:Join our weekly sisters’ in-person & virtual Seerah book club\, where we have an active discussion\, take away lessons for our daily lives\, and inshaAllah fall in love with the Prophet ﷺ. We are reading from “The Prophetic Narrative” by Samira al-Zayid and will begin reading Volume 2. \n\n\n\nEvery Monday in-person & virtual | 11 a.m. to 12:30 p.m. | MCC Conference Room | Women only | RSVP for the live registration link at https://mcceastbay.org/bookclub. RSVP is needed to join us virtually. \n\n\n\nEvent Details: \n\n\n\nThe in-person & virtual discussion takes place every Monday from 11 a.m. to 12:30 p.m. with a break in Ramadan ’24. \n\n\n\nPlease register online to receive the link to the Whatsapp thread where all communication and updates will be made. In this bookclub\, we will be starting volume 2 of “The Prophetic Narrative” by Samira al-Zayid. \n\n\n\nBook Purchase: \n\n\n\nIf you wish to follow along with the book\, please purchase the book. The book can be purchased here: \n\n\n\n– https://daybreak.rabata.org/products/soft-cover-a-compendium-of-the-sources-on-the-prophetic-narrative \n\n\n\nQuestions? bookclub@mcceastbay.org \n\n\n\nAbout the Book \n\n\n\nInternationally acclaimed as “the most authoritative resource” on the Sīra\, this two-volume translation textbook is revolutionary in bringing Prophet Muhammad ﷺ’s life to life for everyone who ventures upon it. \n\n\n\nThis multiple award-winning\, comprehensive compilation of narrations and details of the life of Prophet Muhammad (S) has never before been available in English until now! Internationally acclaimed as “the most authoritative resource” on the Sīra\, this two-volume translation textbook is revolutionary in bringing his (S) life to life for everyone who ventures upon it. The original volumes have won the approval and praise of numerous scholars. It is finally available as a treasured text for personal or educational development. \n\n\n\nAuthor: Samira al-Zayid \n\n\n\nTranslators: Susan Imady\, Tamara Gray\, & Randa Mardini \n\n\n\nBinding: Softcover \n\n\n\nPages: Vol 1\, 570; Vol 2\, 558 \n\n\n\nPublisher: Daybreak Press \n\n\n\nQuestions? bookclub@mcceastbay.org \n\n\n\n\n\n\n\n\n\n\n\n\n\n\n\n\n\n 
URL:https://mcceastbay.org/event/inperson-seerah-bookclub/2024-07-08/
LOCATION:CA
CATEGORIES:Women's Activities
ATTACH;FMTTYPE=image/jpeg:https://mcceastbay.org/wp-content/uploads/2024/06/Monday-1-1.jpg
END:VEVENT
BEGIN:VEVENT
DTSTART;TZID=America/Los_Angeles:20240709T123000
DTEND;TZID=America/Los_Angeles:20240709T131500
DTSTAMP:20260419T174045
CREATED:20240419T011310Z
LAST-MODIFIED:20240419T011310Z
UID:10021012-1720528200-1720530900@mcceastbay.org
SUMMARY:Principles of Religion: Manners | Ustadha Nihad Hemmoudeh
DESCRIPTION:Ustadha Nihad Hemmoudeh facilitates a 45-minute live Zoom session for sisters on the principles of religion\, such as acts of worshipping Allah (swt)\, the good character of a Muslim\, and more. These talks will be recorded and made publicly available on MCC’s YouTube\, Facebook\, and Instagram. \n\n\n\nUstadha Nihad is using the book\, “The Forty in the Fundamentals of Religion” by Al-Ghazali. This series is a continuation of the previous “Principles of Religion” series. This is part 2 of the series and will focus on Adab (manners).12:30 p.m. to 1:15 p.m. PST | Tuesdays | 12 consecutive weeks from April 30 to July 16\, 2024 | No pre-registration needed | Join live each week at 12:30 p.m. on Zoom at mcceastbay.org/principles \n\n\n\nWatch the prior sessions in this series: HTTP://mcceastbay.org/principle-seriesMore Ustadha Nihad: \n\n\n\n\n– Ustadha Nihad’s “Principles of Religion” series: https://mcceastbay.org/principle-series\n\n\n\n– Ustadha Nihad’s “Women Around the Messenger” series: HTTP://mcceastbay.org/women-series\n\n\n\n– Ustadha Nihad’s “Forty Hadith Qudsi” series: https://mcceastbay.org/qudsi\n\n\n\n– Ustadha’s Nihad’s “Pearls of Islam: The Wives of Prophet Muhammad (PBUH)” series: https://mcceastbay.org/pearls-series\n\n\n\n– Ustadha Nihad’s Surah al-Kahf series: https://mcceastbay.org/kahf\n\n\n\n– Ustadha Nihad’s Juz Amma series: https://mcceastbay.org/quran-tafseer\n\n\n\n– Hafidha Nihad’s Sahaba (Companions) Series Sessions: https://mcceastbay.org/companions-series\n\n\n\n– Ust. Nohad’s Al-Nawawi Hadith Series: https://mcceastbay.org/nawawi\n\n\n\n– More Ustadha Nihad: https://mcceastbay.org/nihad\n\n\n\n\nQuestions? events@mcceastbay.org
URL:https://mcceastbay.org/event/principles-of-religion-2/2024-07-09/
LOCATION:CA
CATEGORIES:Women's Activities
ATTACH;FMTTYPE=image/jpeg:https://mcceastbay.org/wp-content/uploads/2024/06/Principles-of-Religion-Part-2.jpg
END:VEVENT
BEGIN:VEVENT
DTSTART;TZID=America/Los_Angeles:20240713T063000
DTEND;TZID=America/Los_Angeles:20240713T103000
DTSTAMP:20260419T174045
CREATED:20240628T001548Z
LAST-MODIFIED:20240703T214521Z
UID:10021166-1720852200-1720866600@mcceastbay.org
SUMMARY:Monthly Sisterhood Hike | Sisters in the Outdoors
DESCRIPTION:Join us from 6:30 a.m. to 10:30 a.m. on Saturday\, July 13\, for a Saturday morning hike at Lake Chabot in Castro Valley to get to know other sisters in the community and enjoy the great outdoors. No children\, please (female teens\, okay). Let us know you are coming: https://mcceastbay.org/rsvp \n\n\n\nIf sisters want to walk around more\, they can do it depending on their interest/time. The hike will be canceled if there are insufficient RSVPs\, depending on the weather. \n\n\n\n\n– When: Saturday\, July 13\, 2024\n\n\n\n– Time: 6:30 a.m. to 10 a.m. – Please arrive a little early to park and find the group. The group can wait till 6:15 a.m. and will start the hike. Please be on time since we cannot hold the group.\n\n\n\n– Carpool: We highly recommend carpooling. No carpool from MCC is available for this hike. Carpool encouraged others on this hike.\n\n\n\n– Parking: $5.00\n\n\n\n– Location: Lake Chabot\n\n\n\n– Trail: Lake Chabot Loop via West\, Bass\, Columbine\, Honker\, East Shore Trails\n\n\n\n– Distance: 8.7 miles\n\n\n\n– All Trails: https://www.alltrails.com/trail/us/california/lake-chabot-west-shore-bass-cove-columbine-honker-bay-east-shore-loop?sh=kyrhg8\n\n\n\n– Difficulty: Moderate\n\n\n\n– Misc: Bring a small breakfast/ Lunch sandwich or something to eat. Wear hiking shoes if possible. Carry enough water\, a hat\, and a light jacket. Please download All Trails map (free version) in case you decide to return in the middle of the hike. This will be very helpful in navigating back to the parking lot.\n\n\n\n– RSVP: By Friday\, July 12\, please let us know you are coming for this hike: https://mcceastbay.org/rsvp\n\n\n\n\nSr. Aparna Khan and Sr. Sohaila will be leading this hike. If you have trouble finding the group on the day of the hike\, please call or text Sr. Aparna at (408) 480-6584 or Sr. Sohaila at (925) 786-7698. Please remember that we cannot hold all the group\, so we request you to please be on time. \n\n\n\nFor future hikes\, please subscribe to the MCC newsletter and/or add your phone number to the Women’s Hiking WhatsUp group. \n\n\n\nPlease wear comfortable walking/hiking shoes\, carry a water bottle\, a small snack\, a hat\, sunglasses\, and hiking poles if you have one.  \n\n\n\nQuestions? hiking@mcceastbay.org \n\n\n\nAbout this trail: \n\n\n\n• Lake Chabot Regional Park charges a fee to enter. For more information\, please visit https://www.ebparks.org/parks/lake-chabotThis is a beautiful hiking area with both paved and dirt trails that are moderately steep and lovely views of the water. If desired\, you can avoid a large portion of the paved East Shore Trail by taking the southern Cameron Loop after crossing the Honker Bay bridge\, Ten Hills Trail\, and Indian Cove Trail\, leaving a very short paved section to the Marina.Dogs must be on leash in developed areas/under voice command in undeveloped park areas.Accessibility: Visitors using wheelchairs\, mobility equipment\, or strollers may need all-terrain tires or adaptive/motorized equipment for the surface type and grade. There are 6 designated van-accessible parking spaces at the trailhead. The trail surface varies between paved asphalt and a natural surface (dirt)\, typically at least 6 feet wide. This trail is estimated to be mostly gentle (5% or less) throughout\, with a few steeper sections along the way. Known barriers include stairs at about 6.9 miles when going clockwise. Additionally\, there are benches along the trail\, and several wheelchair-accessible picnic tables with a firm and stable path and surface\, providing at least 27 inches of knee clearance. Other accessible features include wheelchair-accessible restrooms at the boathouse and a wheelchair-accessible fishing pier.According to Access Northern California (https://accessnca.org/access-northern-california/explore/explore-detail-view/?site_id=238): Lake Chabot is a popular destination for families and bustles on weekends. Among the many amenities you can find are multiple picnic areas\, a grassy play area\, fishing\, an outdoor fitness zone with interactive exercise machines (one is designed for wheelchair access)\, and miles of lakefront trails. The Marina has a café\, tackle and bait shop\, rental boats\, and seasonal lake tours aboard the tour boat “Chabot Queen.” The ramp to the boats is accessible but quite steep. To board the tour boat\, a portable ramp is available.The paved West Shore and East Shore trails around the lake offer some access\, although their steep terrain may deter some with limited mobility. They are worth the effort if possible because it feels as though you’re far from the nearby bustling cities.Although paved\, the West Shore Trail has numerous steep grades throughout as it travels high above the lake\, passing in and out of shade provided by oaks\, bay laurel\, willow\, and cottonwood trees. Poison oak is plentiful\, as well as vetch\, blackberries\, and blue-eyed grass. A few interpretive panels about the dam’s history are towards the end of this 2-mile route. Benches are scattered throughout\, although most have a steep grade to reach them.At about 2 miles\, you reach the dam\, where shortly after\, the trail climbs steeply and becomes gravel\, where visitors may need to turn around. Most of the hills have a slope greater than 8%. \n\n\n\n\n\n\n\n\n\n\n\n\n\n\n\n\n\n 
URL:https://mcceastbay.org/event/monthly-sisterhood-hike-5/
LOCATION:Lake Chabot Regional Park\, 17600 Lake Chabot Rd\, Castro Valley\, CA\, 94546\, United States
CATEGORIES:Women's Activities
ATTACH;FMTTYPE=image/jpeg:https://mcceastbay.org/wp-content/uploads/2024/06/Monthly-Sisterhood-Hike-1.jpg
END:VEVENT
END:VCALENDAR