BEGIN:VCALENDAR
VERSION:2.0
PRODID:-//MCC East Bay - ECPv6.15.20//NONSGML v1.0//EN
CALSCALE:GREGORIAN
METHOD:PUBLISH
X-WR-CALNAME:MCC East Bay
X-ORIGINAL-URL:https://mcceastbay.org
X-WR-CALDESC:Events for MCC East Bay
REFRESH-INTERVAL;VALUE=DURATION:PT1H
X-Robots-Tag:noindex
X-PUBLISHED-TTL:PT1H
BEGIN:VTIMEZONE
TZID:America/Los_Angeles
BEGIN:DAYLIGHT
TZOFFSETFROM:-0800
TZOFFSETTO:-0700
TZNAME:PDT
DTSTART:20230312T100000
END:DAYLIGHT
BEGIN:STANDARD
TZOFFSETFROM:-0700
TZOFFSETTO:-0800
TZNAME:PST
DTSTART:20231105T090000
END:STANDARD
BEGIN:DAYLIGHT
TZOFFSETFROM:-0800
TZOFFSETTO:-0700
TZNAME:PDT
DTSTART:20240310T100000
END:DAYLIGHT
BEGIN:STANDARD
TZOFFSETFROM:-0700
TZOFFSETTO:-0800
TZNAME:PST
DTSTART:20241103T090000
END:STANDARD
BEGIN:DAYLIGHT
TZOFFSETFROM:-0800
TZOFFSETTO:-0700
TZNAME:PDT
DTSTART:20250309T100000
END:DAYLIGHT
BEGIN:STANDARD
TZOFFSETFROM:-0700
TZOFFSETTO:-0800
TZNAME:PST
DTSTART:20251102T090000
END:STANDARD
END:VTIMEZONE
BEGIN:VEVENT
DTSTART;TZID=America/Los_Angeles:20241216T110000
DTEND;TZID=America/Los_Angeles:20241216T123000
DTSTAMP:20260419T085747
CREATED:20240411T235317Z
LAST-MODIFIED:20250122T054014Z
UID:10020753-1734346800-1734352200@mcceastbay.org
SUMMARY:Women’s Seerah Bookclub (in-person & virtual) | Ustadha Leila Fakira
DESCRIPTION:Join our weekly sisters’ in-person & virtual Seerah book club\, where we have an active discussion\, take away lessons for our daily lives\, and inshaAllah fall in love with the Prophet ﷺ. We are reading from “The Prophetic Narrative” by Samira al-Zayid and will begin reading Volume 2. \n\n\n\nEvery Monday in-person & virtual | 11 a.m. to 12:30 p.m. | MCC Conference Room | Women only | RSVP for the live registration link at https://mcceastbay.org/bookclub. RSVP is needed to join us virtually. \n\n\n\nEvent Details: \n\n\n\nThe in-person & virtual discussion takes place every Monday from 11 a.m. to 12:30 p.m. with a break in Ramadan ’24. \n\n\n\nPlease register online to receive the link to the Whatsapp thread where all communication and updates will be made. In this bookclub\, we will be starting volume 2 of “The Prophetic Narrative” by Samira al-Zayid. \n\n\n\nBook Purchase: \n\n\n\nIf you wish to follow along with the book\, please purchase the book. The book can be purchased here: \n\n\n\n– https://daybreak.rabata.org/products/soft-cover-a-compendium-of-the-sources-on-the-prophetic-narrative \n\n\n\nQuestions? bookclub@mcceastbay.org \n\n\n\nAbout the Book \n\n\n\nInternationally acclaimed as “the most authoritative resource” on the Sīra\, this two-volume translation textbook is revolutionary in bringing Prophet Muhammad ﷺ’s life to life for everyone who ventures upon it. \n\n\n\nThis multiple award-winning\, comprehensive compilation of narrations and details of the life of Prophet Muhammad (S) has never before been available in English until now! Internationally acclaimed as “the most authoritative resource” on the Sīra\, this two-volume translation textbook is revolutionary in bringing his (S) life to life for everyone who ventures upon it. The original volumes have won the approval and praise of numerous scholars. It is finally available as a treasured text for personal or educational development. \n\n\n\nAuthor: Samira al-Zayid \n\n\n\nTranslators: Susan Imady\, Tamara Gray\, & Randa Mardini \n\n\n\nBinding: Softcover \n\n\n\nPages: Vol 1\, 570; Vol 2\, 558 \n\n\n\nPublisher: Daybreak Press \n\n\n\nQuestions? bookclub@mcceastbay.org \n\n\n\n\n\n\n\n\n\n\n\n\n\n\n\n\n\n 
URL:https://mcceastbay.org/event/inperson-seerah-bookclub/2024-12-16/
LOCATION:CA
CATEGORIES:Women's Activities
ATTACH;FMTTYPE=image/jpeg:https://mcceastbay.org/wp-content/uploads/2024/06/Monday-1-1.jpg
END:VEVENT
BEGIN:VEVENT
DTSTART;TZID=America/Los_Angeles:20241219T113000
DTEND;TZID=America/Los_Angeles:20241219T121500
DTSTAMP:20260419T085747
CREATED:20241212T231155Z
LAST-MODIFIED:20250212T222812Z
UID:10022081-1734607800-1734610500@mcceastbay.org
SUMMARY:Encouraging Good Character Traits | Ustadha Nihad Hemmoudeh
DESCRIPTION:Ustadha Nihad Hemmoudeh facilitates a 45-minute live Zoom session for sisters on one of the chapters in the book The Forty of the Forty by Imam Yusuf al-Nabhani\, which talks about enjoining good character\, leading to spiritual purification and closeness to Allah. \n11:30 a.m. to 12:15 p.m. PST | Thursdays | 12 consecutive weeks from Dec. 19 to March 6\, 2025 | No pre-registration needed | Join live each week at 11:30 a.m. on Zoom at mcceastbay.org/forty \nWatch the prior sessions in this series: HTTP://mcceastbay.org/principle-series \nMore Ustadha Nihad: \n\n– Ustadha Nihad’s “Principles of Religion” series: https://mcceastbay.org/principle-series\n– Ustadha Nihad’s “Women Around the Messenger” series: HTTP://mcceastbay.org/women-series\n– Ustadha Nihad’s “Forty Hadith Qudsi” series: https://mcceastbay.org/qudsi\n– Ustadha’s Nihad’s “Pearls of Islam: The Wives of Prophet Muhammad (PBUH)” series: https://mcceastbay.org/pearls-series\n– Ustadha Nihad’s Surah al-Kahf series: https://mcceastbay.org/kahf\n– Ustadha Nihad’s Juz Amma series: https://mcceastbay.org/quran-tafseer\n– Hafidha Nihad’s Sahaba (Companions) Series Sessions: https://mcceastbay.org/companions-series\n– Ust. Nohad’s Al-Nawawi Hadith Series: https://mcceastbay.org/nawawi\n– More Ustadha Nihad: https://mcceastbay.org/nihad\n\nQuestions? events@mcceastbay.org
URL:https://mcceastbay.org/event/good-character/2024-12-19/
LOCATION:http://mcceastbay.org/forty
CATEGORIES:Sisters Program,Women's Activities
ATTACH;FMTTYPE=image/jpeg:https://mcceastbay.org/wp-content/uploads/2024/12/Forty-of-the-Forty-1-1.jpg
END:VEVENT
BEGIN:VEVENT
DTSTART;TZID=America/Los_Angeles:20241219T183000
DTEND;TZID=America/Los_Angeles:20241219T200000
DTSTAMP:20260419T085747
CREATED:20241210T175849Z
LAST-MODIFIED:20241220T192444Z
UID:10022008-1734633000-1734638400@mcceastbay.org
SUMMARY:Gathering of the Hearts | Ustadha Hosai Mojaddidi
DESCRIPTION:Join Ustadha Hosai Mojaddidi for our monthly in-person and online gathering for women (ages 18+) to commune\, reflect\, discuss\, and gain strength and support from each other. \n6:30 p.m. to 8 p.m. | Monthly on Thursdays | Free; no registration required | Conference Room or watch live online at https://mcceastbay.org/live \nIn this class\, we use “Purification of the Heart” and “Foundations of the Spiritual Path” By Sidi Ahmad Zarruq\, Translated by Hamza Yusuf. Download the book at HTTP://mcceastbay.org/foundations \nWatch past session recordings at https://mcceastbay.org/muslimah-purification \nWe discuss spirituality\, self-development\, relevant and contemporary topics\, and issues related to Muslim women’s roles and responsibilities in today’s knotted-up world. We also examine “Purification of the Heart: Signs\, Symptoms\, and Cures of the Spiritual Diseases of the Heart” by Shaykh Hamza Yusuf. \n\n– More Ustadha Hosai: https://mcceastbay.org/hosai\n– ‘Purification of the Heart’ Series: (Adults): https://mcceastbay.org/heart-purification\n– ‘Purification of the Heart’ Series: (Women): https://mcceastbay.org/muslimah-purification\n– ‘Purification of the Heart’ Series (Teens): https://mcceastbay.org/purification\n– ‘Agenda to Change our Condition’ Series: https://mcceastbay.org/agenda\n– ‘Modern Muslim Parenting’ Series: https://mcceastbay.org/islamic-parenting\n\nThis is a discussion-based group\, and participation is not only encouraged\, but it is required. \nSorry\, no babysitting provided. The in-person option is for women only\, or the virtual option so anyone can watch live on: \n\n– YouTube: https://mcceastbay.org/live\n– Facebook: https://mcceastbay.org/facebook\n– Instagram: https://mcceastbay.org/instagram\n\nAbout Ustadha Hosai Mojaddidi: \nHosai Mojaddidi is the co-founder of mentalhealth4muslims.com\, where she advocates for and writes about various mental health-related topics tailored for Muslims. She has served the American-Muslim community for nearly 20 years as an activist\, writer/editor\, mediator\, interfaith organizer\, and public speaker\, covering a variety of topics\, including women’s issues\, marriage/family\, education\, self-development\, interfaith bridge-building\, spirituality\, etc. \nIn her spare time she enjoys reading\, writing\, blogging via social media (Facebook\, Instagram and Twitter)\, doing arts and crafts\, visiting gourmet coffee shops\, and exploring the countless beautiful parks\, beaches and nature preserves throughout Northern California where she lives with her husband\, two sons\, and fish named Max. \nThese monthly sessions are live-streamed and recorded. Watch past Ustadha Hosai recordings at https://mcceastbay.org/hosai \nQuestions? events@mcceastbay.org
URL:https://mcceastbay.org/event/gathering-of-the-hearts/
LOCATION:MCC East Bay\, 5724 W Las Positas Blvd #300\, Pleasanton\, CA\, 94588\, United States
CATEGORIES:Women's Activities
ATTACH;FMTTYPE=image/jpeg:https://mcceastbay.org/wp-content/uploads/2024/11/Monthly-Womens-Gathering.jpg
ORGANIZER;CN="Muslim Community Center - East Bay":MAILTO:events@mcceastbay.org
END:VEVENT
END:VCALENDAR