BEGIN:VCALENDAR
VERSION:2.0
PRODID:-//MCC East Bay - ECPv6.15.20//NONSGML v1.0//EN
CALSCALE:GREGORIAN
METHOD:PUBLISH
X-WR-CALNAME:MCC East Bay
X-ORIGINAL-URL:https://mcceastbay.org
X-WR-CALDESC:Events for MCC East Bay
REFRESH-INTERVAL;VALUE=DURATION:PT1H
X-Robots-Tag:noindex
X-PUBLISHED-TTL:PT1H
BEGIN:VTIMEZONE
TZID:America/Los_Angeles
BEGIN:DAYLIGHT
TZOFFSETFROM:-0800
TZOFFSETTO:-0700
TZNAME:PDT
DTSTART:20240310T100000
END:DAYLIGHT
BEGIN:STANDARD
TZOFFSETFROM:-0700
TZOFFSETTO:-0800
TZNAME:PST
DTSTART:20241103T090000
END:STANDARD
BEGIN:DAYLIGHT
TZOFFSETFROM:-0800
TZOFFSETTO:-0700
TZNAME:PDT
DTSTART:20250309T100000
END:DAYLIGHT
BEGIN:STANDARD
TZOFFSETFROM:-0700
TZOFFSETTO:-0800
TZNAME:PST
DTSTART:20251102T090000
END:STANDARD
BEGIN:DAYLIGHT
TZOFFSETFROM:-0800
TZOFFSETTO:-0700
TZNAME:PDT
DTSTART:20260308T100000
END:DAYLIGHT
BEGIN:STANDARD
TZOFFSETFROM:-0700
TZOFFSETTO:-0800
TZNAME:PST
DTSTART:20261101T090000
END:STANDARD
END:VTIMEZONE
BEGIN:VEVENT
DTSTART;TZID=America/Los_Angeles:20250520T100000
DTEND;TZID=America/Los_Angeles:20250520T110000
DTSTAMP:20260420T130528
CREATED:20250502T162550Z
LAST-MODIFIED:20250502T162642Z
UID:10023547-1747735200-1747738800@mcceastbay.org
SUMMARY:Weekly Zumba Classes for Women & Girls | Reham Sedky
DESCRIPTION:For Women & Girls Ages 12+: Join us for weekly Zumba – a fun\, stress-relieving way to stay active\, boost your energy\, and connect with other sisters. Zumba offers incredible benefits\, such as improved physical health\, mental well-being\, and the chance to make fitness an enjoyable part of your routine lifestyle. \nThis class is designed for women and girls aged 12 and up. It’s open to everyone\, and no experience is needed.  \nPlease note this class is not recommended for anyone with back or knee issues. \nWeekly on Tuesdays with a break in Ramadan | 10 a.m. to 11 a.m. | Conference Room (private space) | $15/session | Register at mcceastbay.org/zumba \nClasses will be canceled if fewer than five people register. \nMCC has a standing policy that financial need should never hold a person back from attending any activity held in the community center. To request a financial waiver\, please complete our financial waiver request: HTTP://mcceastbay.org/scholarship\n\nAbout the Instructor: \nMy name is Reham Sedky\, and I’m excited to introduce myself as a certified Zumba instructor from the Mountain House Muslim community. Because I love my community\, I wanted to bring something positive to encourage women to focus on their health and well-being. I noticed many sisters cannot participate in gyms or sports due to privacy concerns or lack of time. This inspired me to become a professional Zumba instructor to offer something new and beneficial. Alhamdulilah\, through our Muslim community\, I was able to provide this class in a private and comfortable environment that meets our needs. \nPlease join me\, and let’s move\, laugh\, and grow stronger together\, Insha’Allah! \nQuestions? events@mcceastbay.org
URL:https://mcceastbay.org/event/weekly-zumba-classes-for-women-girls-reham-sedky-2/2025-05-20/
LOCATION:MCC East Bay\, 5724 W Las Positas Blvd #300\, Pleasanton\, CA\, 94588\, United States
CATEGORIES:Women's Activities
ATTACH;FMTTYPE=image/jpeg:https://mcceastbay.org/wp-content/uploads/2025/01/Zumba.jpg
ORGANIZER;CN="Muslim Community Center - East Bay":MAILTO:events@mcceastbay.org
END:VEVENT
BEGIN:VEVENT
DTSTART;TZID=America/Los_Angeles:20250522T183000
DTEND;TZID=America/Los_Angeles:20250522T200000
DTSTAMP:20260420T130528
CREATED:20250508T151014Z
LAST-MODIFIED:20250508T151029Z
UID:10023559-1747938600-1747944000@mcceastbay.org
SUMMARY:Gathering of the Hearts | Ustadha Hosai Mojaddidi
DESCRIPTION:Join Ustadha Hosai Mojaddidi for our monthly in-person and online gathering for women (ages 18+) to commune\, reflect\, discuss\, and gain strength and support from each other. \n6:30 p.m. to 8 p.m. | Monthly on Thursdays | Free; no registration required | Conference Room or watch live online at https://mcceastbay.org/live \nIn this class\, we use “Purification of the Heart” and “Foundations of the Spiritual Path” By Sidi Ahmad Zarruq\, Translated by Hamza Yusuf. Download the book at HTTP://mcceastbay.org/foundations \nWatch past session recordings at https://mcceastbay.org/muslimah-purification \nWe discuss spirituality\, self-development\, relevant and contemporary topics\, and issues related to Muslim women’s roles and responsibilities in today’s knotted-up world. We also examine “Purification of the Heart: Signs\, Symptoms\, and Cures of the Spiritual Diseases of the Heart” by Shaykh Hamza Yusuf. \n\n– More Ustadha Hosai: https://mcceastbay.org/hosai\n– ‘Purification of the Heart’ Series: (Adults): https://mcceastbay.org/heart-purification\n– ‘Purification of the Heart’ Series: (Women): https://mcceastbay.org/muslimah-purification\n– ‘Purification of the Heart’ Series (Teens): https://mcceastbay.org/purification\n– ‘Agenda to Change our Condition’ Series: https://mcceastbay.org/agenda\n– ‘Modern Muslim Parenting’ Series: https://mcceastbay.org/islamic-parenting\n\nThis is a discussion-based group\, and participation is not only encouraged\, but it is required. \nSorry\, no babysitting provided. The in-person option is for women only\, or the virtual option so anyone can watch live on: \n\n– YouTube: https://mcceastbay.org/live\n– Facebook: https://mcceastbay.org/facebook\n– Instagram: https://mcceastbay.org/instagram\n\nAbout Ustadha Hosai Mojaddidi: \nHosai Mojaddidi is the co-founder of mentalhealth4muslims.com\, where she advocates for and writes about various mental health-related topics tailored for Muslims. She has served the American-Muslim community for nearly 20 years as an activist\, writer/editor\, mediator\, interfaith organizer\, and public speaker\, covering a variety of topics\, including women’s issues\, marriage/family\, education\, self-development\, interfaith bridge-building\, spirituality\, etc. \nIn her spare time she enjoys reading\, writing\, blogging via social media (Facebook\, Instagram and Twitter)\, doing arts and crafts\, visiting gourmet coffee shops\, and exploring the countless beautiful parks\, beaches and nature preserves throughout Northern California where she lives with her husband\, two sons\, and fish named Max. \nThese monthly sessions are live-streamed and recorded. Watch past Ustadha Hosai recordings at https://mcceastbay.org/hosai \nQuestions? events@mcceastbay.org
URL:https://mcceastbay.org/event/gathering-of-the-hearts-4/
LOCATION:MCC East Bay\, 5724 W Las Positas Blvd #300\, Pleasanton\, CA\, 94588\, United States
CATEGORIES:Women's Activities
ATTACH;FMTTYPE=image/jpeg:https://mcceastbay.org/wp-content/uploads/2024/11/Monthly-Womens-Gathering.jpg
ORGANIZER;CN="Muslim Community Center - East Bay":MAILTO:events@mcceastbay.org
END:VEVENT
END:VCALENDAR